BEGIN:VCALENDAR
PRODID:-//nuDatenautomaten//framework iCal4j //DE
VERSION:2.0
CALSCALE:GREGORIAN
BEGIN:VTIMEZONE
TZID:Europe/Berlin
LAST-MODIFIED:20260306T231828Z
TZURL:https://www.tzurl.org/zoneinfo/Europe/Berlin
X-LIC-LOCATION:Europe/Berlin
X-PROLEPTIC-TZNAME:LMT
BEGIN:STANDARD
TZNAME:CET
TZOFFSETFROM:+005328
TZOFFSETTO:+0100
DTSTART:18930401T000000
END:STANDARD
BEGIN:DAYLIGHT
TZNAME:CEST
TZOFFSETFROM:+0100
TZOFFSETTO:+0200
DTSTART:19160430T230000
RDATE:19400401T020000
RDATE:19430329T020000
RDATE:19460414T020000
RDATE:19470406T030000
RDATE:19480418T020000
RDATE:19490410T020000
RDATE:19800406T020000
END:DAYLIGHT
BEGIN:STANDARD
TZNAME:CET
TZOFFSETFROM:+0200
TZOFFSETTO:+0100
DTSTART:19161001T010000
RDATE:19421102T030000
RDATE:19431004T030000
RDATE:19441002T030000
RDATE:19451118T030000
RDATE:19461007T030000
END:STANDARD
BEGIN:DAYLIGHT
TZNAME:CEST
TZOFFSETFROM:+0100
TZOFFSETTO:+0200
DTSTART:19170416T020000
RRULE:FREQ=YEARLY;UNTIL=19180415T010000Z;BYMONTH=4;BYDAY=3MO
END:DAYLIGHT
BEGIN:STANDARD
TZNAME:CET
TZOFFSETFROM:+0200
TZOFFSETTO:+0100
DTSTART:19170917T030000
RRULE:FREQ=YEARLY;UNTIL=19180916T010000Z;BYMONTH=9;BYDAY=3MO
END:STANDARD
BEGIN:DAYLIGHT
TZNAME:CEST
TZOFFSETFROM:+0100
TZOFFSETTO:+0200
DTSTART:19440403T020000
RRULE:FREQ=YEARLY;UNTIL=19450402T010000Z;BYMONTH=4;BYDAY=1MO
END:DAYLIGHT
BEGIN:DAYLIGHT
TZNAME:CEMT
TZOFFSETFROM:+0200
TZOFFSETTO:+0300
DTSTART:19450524T020000
RDATE:19470511T030000
END:DAYLIGHT
BEGIN:DAYLIGHT
TZNAME:CEST
TZOFFSETFROM:+0300
TZOFFSETTO:+0200
DTSTART:19450924T030000
RDATE:19470629T030000
END:DAYLIGHT
BEGIN:STANDARD
TZNAME:CET
TZOFFSETFROM:+0100
TZOFFSETTO:+0100
DTSTART:19460101T000000
RDATE:19800101T000000
END:STANDARD
BEGIN:STANDARD
TZNAME:CET
TZOFFSETFROM:+0200
TZOFFSETTO:+0100
DTSTART:19471005T030000
RRULE:FREQ=YEARLY;UNTIL=19491002T010000Z;BYMONTH=10;BYDAY=1SU
END:STANDARD
BEGIN:STANDARD
TZNAME:CET
TZOFFSETFROM:+0200
TZOFFSETTO:+0100
DTSTART:19800928T030000
RRULE:FREQ=YEARLY;UNTIL=19950924T010000Z;BYMONTH=9;BYDAY=-1SU
END:STANDARD
BEGIN:DAYLIGHT
TZNAME:CEST
TZOFFSETFROM:+0100
TZOFFSETTO:+0200
DTSTART:19810329T020000
RRULE:FREQ=YEARLY;BYMONTH=3;BYDAY=-1SU
END:DAYLIGHT
BEGIN:STANDARD
TZNAME:CET
TZOFFSETFROM:+0200
TZOFFSETTO:+0100
DTSTART:19961027T030000
RRULE:FREQ=YEARLY;BYMONTH=10;BYDAY=-1SU
END:STANDARD
END:VTIMEZONE
BEGIN:VEVENT
DTSTAMP:20260421T202827Z
DTSTART;TZID=Europe/Berlin:20221214T200000
DTEND;TZID=Europe/Berlin:20221214T230000
SUMMARY:HE 4. Liga Gr. 1 Münsingen IV vs Thun IV (36)
UID:e0487e82-9f9c-469b-abcf-ad6f48092003
STATUS:CONFIRMED
LAST-MODIFIED:20221218T194804Z
DESCRIPTION:4. Liga Herren Gruppe 1\nBegegnungs-Nr: 36\nHeim: Münsingen IV\nGast: Thun IV\n\nAdresse: Turnhallenweg 8\, 3110 Münsingen\n
LOCATION:Turnhallenweg 8\, 3110 Münsingen
CATEGORIES:Saison 2022/23
END:VEVENT
BEGIN:VEVENT
DTSTAMP:20260421T202827Z
DTSTART;TZID=Europe/Berlin:20221109T200000
DTEND;TZID=Europe/Berlin:20221109T230000
SUMMARY:HE 4. Liga Gr. 1 Münsingen IV vs Worb III (21)
UID:5a07b71b-4fae-4631-a4b1-60a3309ca92c
STATUS:CONFIRMED
LAST-MODIFIED:20221110T103825Z
DESCRIPTION:4. Liga Herren Gruppe 1\nBegegnungs-Nr: 21\nHeim: Münsingen IV\nGast: Worb III\n\nAdresse: Turnhallenweg 8\, 3110 Münsingen\n
LOCATION:Turnhallenweg 8\, 3110 Münsingen
CATEGORIES:Saison 2022/23
END:VEVENT
BEGIN:VEVENT
DTSTAMP:20260421T202827Z
DTSTART;TZID=Europe/Berlin:20220914T200000
DTEND;TZID=Europe/Berlin:20220914T230000
SUMMARY:HE 4. Liga Gr. 1 Münsingen IV vs Langnau III (12)
UID:9e1e0d13-0003-46b0-b301-e0814c993c3a
STATUS:CONFIRMED
LAST-MODIFIED:20220916T081746Z
DESCRIPTION:4. Liga Herren Gruppe 1\nBegegnungs-Nr: 12\nHeim: Münsingen IV\nGast: Langnau III\n\nAdresse: Turnhallenweg 8\, 3110 Münsingen\n
LOCATION:Turnhallenweg 8\, 3110 Münsingen
CATEGORIES:Saison 2022/23
END:VEVENT
BEGIN:VEVENT
DTSTAMP:20260421T202827Z
DTSTART;TZID=Europe/Berlin:20230315T200000
DTEND;TZID=Europe/Berlin:20230315T230000
SUMMARY:HE 4. Liga Gr. 1 Münsingen IV vs Steffisburg (27)
UID:3878c574-812f-449c-9d46-cd83b93b33c0
STATUS:CONFIRMED
LAST-MODIFIED:20230316T122247Z
DESCRIPTION:4. Liga Herren Gruppe 1\nBegegnungs-Nr: 27\nHeim: Münsingen IV\nGast: Steffisburg\n\nAdresse: Turnhallenweg 8\, 3110 Münsingen\n
LOCATION:Turnhallenweg 8\, 3110 Münsingen
CATEGORIES:Saison 2022/23
END:VEVENT
BEGIN:VEVENT
DTSTAMP:20260421T202827Z
DTSTART;TZID=Europe/Berlin:20230208T194500
DTEND;TZID=Europe/Berlin:20230208T224500
SUMMARY:HE 4. Liga Gr. 1 Münsingen IV vs Interlaken (16)
UID:edb91b88-81c2-453d-82ac-42a58adb3c26
STATUS:CONFIRMED
LAST-MODIFIED:20230209T225446Z
DESCRIPTION:4. Liga Herren Gruppe 1\nBegegnungs-Nr: 16\nHeim: Münsingen IV\nGast: Interlaken\n\nAdresse: Turnhallenweg 8\, 3110 Münsingen\n
LOCATION:Turnhallenweg 8\, 3110 Münsingen
CATEGORIES:Saison 2022/23
END:VEVENT
BEGIN:VEVENT
DTSTAMP:20260421T202827Z
DTSTART;TZID=Europe/Berlin:20230222T200000
DTEND;TZID=Europe/Berlin:20230222T230000
SUMMARY:HE 4. Liga Gr. 1 Münsingen IV vs Bern V (19)
UID:027fb993-cdd7-4ef3-a21a-373bd736f03f
STATUS:CONFIRMED
LAST-MODIFIED:20230223T101644Z
DESCRIPTION:4. Liga Herren Gruppe 1\nBegegnungs-Nr: 19\nHeim: Münsingen IV\nGast: Bern V\n\nAdresse: Turnhallenweg 8\, 3110 Münsingen\n
LOCATION:Turnhallenweg 8\, 3110 Münsingen
CATEGORIES:Saison 2022/23
END:VEVENT
BEGIN:VEVENT
DTSTAMP:20260421T202827Z
DTSTART;TZID=Europe/Berlin:20230118T200000
DTEND;TZID=Europe/Berlin:20230118T230000
SUMMARY:HE 4. Liga Gr. 1 Münsingen IV vs Heimberg V (8)
UID:058f325b-d1ba-49df-a976-7b718462a703
STATUS:CONFIRMED
LAST-MODIFIED:20230119T112410Z
DESCRIPTION:4. Liga Herren Gruppe 1\nBegegnungs-Nr: 8\nHeim: Münsingen IV\nGast: Heimberg V\n\nAdresse: Turnhallenweg 8\, 3110 Münsingen\n
LOCATION:Turnhallenweg 8\, 3110 Münsingen
CATEGORIES:Saison 2022/23
END:VEVENT
BEGIN:VEVENT
DTSTAMP:20260421T202827Z
DTSTART;TZID=Europe/Berlin:20221130T200000
DTEND;TZID=Europe/Berlin:20221130T230000
SUMMARY:HE 4. Liga Gr. 1 Münsingen IV vs bls Spiez II (30)
UID:397e47da-a977-4690-bc6b-c7cbdccb780c
STATUS:CONFIRMED
LAST-MODIFIED:20221203T163937Z
DESCRIPTION:4. Liga Herren Gruppe 1\nBegegnungs-Nr: 30\nHeim: Münsingen IV\nGast: bls Spiez II\n\nAdresse: Turnhallenweg 8\, 3110 Münsingen\n
LOCATION:Turnhallenweg 8\, 3110 Münsingen
CATEGORIES:Saison 2022/23
END:VEVENT
BEGIN:VEVENT
DTSTAMP:20260421T202827Z
DTSTART;TZID=Europe/Berlin:20221118T194500
DTEND;TZID=Europe/Berlin:20221118T224500
SUMMARY:HE 4. Liga Gr. 1 Steffisburg vs Münsingen IV (27)
UID:4f7ecf40-9cf2-4516-b5b5-4b0434888286
STATUS:CONFIRMED
LAST-MODIFIED:20221120T224700Z
DESCRIPTION:4. Liga Herren Gruppe 1\nBegegnungs-Nr: 27\nHeim: Steffisburg\nGast: Münsingen IV\n\nAdresse: Sonnenfeldstrasse 10\, 3613 Steffisburg\n
LOCATION:Sonnenfeldstrasse 10\, 3613 Steffisburg
CATEGORIES:Saison 2022/23
END:VEVENT
BEGIN:VEVENT
DTSTAMP:20260421T202827Z
DTSTART;TZID=Europe/Berlin:20221102T193000
DTEND;TZID=Europe/Berlin:20221102T223000
SUMMARY:HE 4. Liga Gr. 1 Bern V vs Münsingen IV (19)
UID:ef5223eb-65fa-4f32-b7f0-148418ba4b6b
STATUS:CONFIRMED
LAST-MODIFIED:20221103T090958Z
DESCRIPTION:4. Liga Herren Gruppe 1\nBegegnungs-Nr: 19\nHeim: Bern V\nGast: Münsingen IV\n\nAdresse: Papiermühlestrasse 81\, 3014 Bern\n
LOCATION:Papiermühlestrasse 81\, 3014 Bern
CATEGORIES:Saison 2022/23
END:VEVENT
BEGIN:VEVENT
DTSTAMP:20260421T202827Z
DTSTART;TZID=Europe/Berlin:20221104T200000
DTEND;TZID=Europe/Berlin:20221104T230000
SUMMARY:HE 4. Liga Gr. 1 Interlaken vs Münsingen IV (16)
UID:465baace-6b7e-400e-aed3-2c6b989e4cb8
STATUS:CONFIRMED
LAST-MODIFIED:20221105T223306Z
DESCRIPTION:4. Liga Herren Gruppe 1\nBegegnungs-Nr: 16\nHeim: Interlaken\nGast: Münsingen IV\n\nAdresse: Burgweg 239R\, 3852 Ringgenberg\n
LOCATION:Burgweg 239R\, 3852 Ringgenberg
CATEGORIES:Saison 2022/23
END:VEVENT
BEGIN:VEVENT
DTSTAMP:20260421T202827Z
DTSTART;TZID=Europe/Berlin:20220905T193000
DTEND;TZID=Europe/Berlin:20220905T223000
SUMMARY:HE 4. Liga Gr. 1 Heimberg V vs Münsingen IV (8)
UID:464cf282-4d75-4bdd-b973-ef37ca35ecdf
STATUS:CONFIRMED
LAST-MODIFIED:20220909T160722Z
DESCRIPTION:4. Liga Herren Gruppe 1\nBegegnungs-Nr: 8\nHeim: Heimberg V\nGast: Münsingen IV\n\nAdresse: Schulhausstrasse 20\, 3672 Oberdiessbach\n
LOCATION:Schulhausstrasse 20\, 3672 Oberdiessbach
CATEGORIES:Saison 2022/23
END:VEVENT
BEGIN:VEVENT
DTSTAMP:20260421T202827Z
DTSTART;TZID=Europe/Berlin:20230408T160000
DTEND;TZID=Europe/Berlin:20230408T190000
SUMMARY:HE 4. Liga Gr. 1 Thun IV vs Münsingen IV (36)
UID:2fa9b4ee-65b4-410e-8aa8-abf152e41b26
STATUS:CONFIRMED
LAST-MODIFIED:20230409T182220Z
DESCRIPTION:4. Liga Herren Gruppe 1\nBegegnungs-Nr: 36\nHeim: Thun IV\nGast: Münsingen IV\n\nAdresse: Hallerstrasse 28\, 3604 Thun\n
LOCATION:Hallerstrasse 28\, 3604 Thun
CATEGORIES:Saison 2022/23
END:VEVENT
BEGIN:VEVENT
DTSTAMP:20260421T202827Z
DTSTART;TZID=Europe/Berlin:20230328T194500
DTEND;TZID=Europe/Berlin:20230328T224500
SUMMARY:HE 4. Liga Gr. 1 bls Spiez II vs Münsingen IV (30)
UID:d5cbc535-08d7-466d-90af-3d0423adda86
STATUS:CONFIRMED
LAST-MODIFIED:20230330T071320Z
DESCRIPTION:4. Liga Herren Gruppe 1\nBegegnungs-Nr: 30\nHeim: bls Spiez II\nGast: Münsingen IV\n\nAdresse: Hofachernweg 19 / Oberlandstr. 89\, 3700 Spiez\n
LOCATION:Hofachernweg 19 / Oberlandstr. 89\, 3700 Spiez
CATEGORIES:Saison 2022/23
END:VEVENT
BEGIN:VEVENT
DTSTAMP:20260421T202827Z
DTSTART;TZID=Europe/Berlin:20230308T200000
DTEND;TZID=Europe/Berlin:20230308T230000
SUMMARY:HE 4. Liga Gr. 1 Worb III vs Münsingen IV (21)
UID:3400e686-8710-4417-aefa-54d9bdce3c11
STATUS:CONFIRMED
LAST-MODIFIED:20230309T115442Z
DESCRIPTION:4. Liga Herren Gruppe 1\nBegegnungs-Nr: 21\nHeim: Worb III\nGast: Münsingen IV\n\nAdresse: Rosenweg 9\, 3075 Rüfenacht BE\n
LOCATION:Rosenweg 9\, 3075 Rüfenacht BE
CATEGORIES:Saison 2022/23
END:VEVENT
BEGIN:VEVENT
DTSTAMP:20260421T202827Z
DTSTART;TZID=Europe/Berlin:20230201T200000
DTEND;TZID=Europe/Berlin:20230201T230000
SUMMARY:HE 4. Liga Gr. 1 Langnau III vs Münsingen IV (12)
UID:0a580754-660b-4467-9335-f4ccb6899136
STATUS:CONFIRMED
LAST-MODIFIED:20230202T115851Z
DESCRIPTION:4. Liga Herren Gruppe 1\nBegegnungs-Nr: 12\nHeim: Langnau III\nGast: Münsingen IV\n\nAdresse: Bleicheweg 11\, 3550 Langnau\n
LOCATION:Bleicheweg 11\, 3550 Langnau
CATEGORIES:Saison 2022/23
END:VEVENT
END:VCALENDAR
