BEGIN:VCALENDAR
PRODID:-//nuDatenautomaten//framework iCal4j //DE
VERSION:2.0
CALSCALE:GREGORIAN
BEGIN:VTIMEZONE
TZID:Europe/Berlin
LAST-MODIFIED:20260306T231828Z
TZURL:https://www.tzurl.org/zoneinfo/Europe/Berlin
X-LIC-LOCATION:Europe/Berlin
X-PROLEPTIC-TZNAME:LMT
BEGIN:STANDARD
TZNAME:CET
TZOFFSETFROM:+005328
TZOFFSETTO:+0100
DTSTART:18930401T000000
END:STANDARD
BEGIN:DAYLIGHT
TZNAME:CEST
TZOFFSETFROM:+0100
TZOFFSETTO:+0200
DTSTART:19160430T230000
RDATE:19400401T020000
RDATE:19430329T020000
RDATE:19460414T020000
RDATE:19470406T030000
RDATE:19480418T020000
RDATE:19490410T020000
RDATE:19800406T020000
END:DAYLIGHT
BEGIN:STANDARD
TZNAME:CET
TZOFFSETFROM:+0200
TZOFFSETTO:+0100
DTSTART:19161001T010000
RDATE:19421102T030000
RDATE:19431004T030000
RDATE:19441002T030000
RDATE:19451118T030000
RDATE:19461007T030000
END:STANDARD
BEGIN:DAYLIGHT
TZNAME:CEST
TZOFFSETFROM:+0100
TZOFFSETTO:+0200
DTSTART:19170416T020000
RRULE:FREQ=YEARLY;UNTIL=19180415T010000Z;BYMONTH=4;BYDAY=3MO
END:DAYLIGHT
BEGIN:STANDARD
TZNAME:CET
TZOFFSETFROM:+0200
TZOFFSETTO:+0100
DTSTART:19170917T030000
RRULE:FREQ=YEARLY;UNTIL=19180916T010000Z;BYMONTH=9;BYDAY=3MO
END:STANDARD
BEGIN:DAYLIGHT
TZNAME:CEST
TZOFFSETFROM:+0100
TZOFFSETTO:+0200
DTSTART:19440403T020000
RRULE:FREQ=YEARLY;UNTIL=19450402T010000Z;BYMONTH=4;BYDAY=1MO
END:DAYLIGHT
BEGIN:DAYLIGHT
TZNAME:CEMT
TZOFFSETFROM:+0200
TZOFFSETTO:+0300
DTSTART:19450524T020000
RDATE:19470511T030000
END:DAYLIGHT
BEGIN:DAYLIGHT
TZNAME:CEST
TZOFFSETFROM:+0300
TZOFFSETTO:+0200
DTSTART:19450924T030000
RDATE:19470629T030000
END:DAYLIGHT
BEGIN:STANDARD
TZNAME:CET
TZOFFSETFROM:+0100
TZOFFSETTO:+0100
DTSTART:19460101T000000
RDATE:19800101T000000
END:STANDARD
BEGIN:STANDARD
TZNAME:CET
TZOFFSETFROM:+0200
TZOFFSETTO:+0100
DTSTART:19471005T030000
RRULE:FREQ=YEARLY;UNTIL=19491002T010000Z;BYMONTH=10;BYDAY=1SU
END:STANDARD
BEGIN:STANDARD
TZNAME:CET
TZOFFSETFROM:+0200
TZOFFSETTO:+0100
DTSTART:19800928T030000
RRULE:FREQ=YEARLY;UNTIL=19950924T010000Z;BYMONTH=9;BYDAY=-1SU
END:STANDARD
BEGIN:DAYLIGHT
TZNAME:CEST
TZOFFSETFROM:+0100
TZOFFSETTO:+0200
DTSTART:19810329T020000
RRULE:FREQ=YEARLY;BYMONTH=3;BYDAY=-1SU
END:DAYLIGHT
BEGIN:STANDARD
TZNAME:CET
TZOFFSETFROM:+0200
TZOFFSETTO:+0100
DTSTART:19961027T030000
RRULE:FREQ=YEARLY;BYMONTH=10;BYDAY=-1SU
END:STANDARD
END:VTIMEZONE
BEGIN:VEVENT
DTSTAMP:20260426T043148Z
DTSTART;TZID=Europe/Berlin:20220906T201500
DTEND;TZID=Europe/Berlin:20220906T231500
SUMMARY:HE 4. Liga Gr. 5 Uster IV vs Meilen-Männedorf II (0)
UID:14ad3483-881e-406a-8c6c-04f90458acbe
STATUS:CONFIRMED
LAST-MODIFIED:20220825T072008Z
DESCRIPTION:4. Liga Herren Gruppe 5\nBegegnungs-Nr: 0\nHeim: Uster IV\nGast: Meilen-Männedorf II\n\nAdresse: Wilstrasse 30 / Zürcherstrasse\, 8610 Uster\n
LOCATION:Wilstrasse 30 / Zürcherstrasse\, 8610 Uster
CATEGORIES:Saison 2022/23
END:VEVENT
BEGIN:VEVENT
DTSTAMP:20260426T043148Z
DTSTART;TZID=Europe/Berlin:20220927T201500
DTEND;TZID=Europe/Berlin:20220927T231500
SUMMARY:HE 4. Liga Gr. 5 Uster IV vs Pinguin Zürich IV (0)
UID:e6e7b0ac-cd1c-4ffd-9c21-6400f924642b
STATUS:CONFIRMED
LAST-MODIFIED:20220825T072032Z
DESCRIPTION:4. Liga Herren Gruppe 5\nBegegnungs-Nr: 0\nHeim: Uster IV\nGast: Pinguin Zürich IV\n\nAdresse: Wilstrasse 30 / Zürcherstrasse\, 8610 Uster\n
LOCATION:Wilstrasse 30 / Zürcherstrasse\, 8610 Uster
CATEGORIES:Saison 2022/23
END:VEVENT
BEGIN:VEVENT
DTSTAMP:20260426T043148Z
DTSTART;TZID=Europe/Berlin:20221101T201500
DTEND;TZID=Europe/Berlin:20221101T231500
SUMMARY:HE 4. Liga Gr. 5 Uster IV vs Wolfhausen (0)
UID:b7e15f18-cd99-486d-8356-4ce488453edd
STATUS:CONFIRMED
LAST-MODIFIED:20220825T072046Z
DESCRIPTION:4. Liga Herren Gruppe 5\nBegegnungs-Nr: 0\nHeim: Uster IV\nGast: Wolfhausen\n\nAdresse: Wilstrasse 30 / Zürcherstrasse\, 8610 Uster\n
LOCATION:Wilstrasse 30 / Zürcherstrasse\, 8610 Uster
CATEGORIES:Saison 2022/23
END:VEVENT
BEGIN:VEVENT
DTSTAMP:20260426T043148Z
DTSTART;TZID=Europe/Berlin:20221129T201500
DTEND;TZID=Europe/Berlin:20221129T231500
SUMMARY:HE 4. Liga Gr. 5 Uster IV vs Kloten II (0)
UID:51d4c86c-814b-477a-8281-6cc38cccf759
STATUS:CONFIRMED
LAST-MODIFIED:20220825T072112Z
DESCRIPTION:4. Liga Herren Gruppe 5\nBegegnungs-Nr: 0\nHeim: Uster IV\nGast: Kloten II\n\nAdresse: Wilstrasse 30 / Zürcherstrasse\, 8610 Uster\n
LOCATION:Wilstrasse 30 / Zürcherstrasse\, 8610 Uster
CATEGORIES:Saison 2022/23
END:VEVENT
BEGIN:VEVENT
DTSTAMP:20260426T043148Z
DTSTART;TZID=Europe/Berlin:20230110T201500
DTEND;TZID=Europe/Berlin:20230110T231500
SUMMARY:HE 4. Liga Gr. 5 Uster IV vs Young Stars ZH VI (0)
UID:6712d9ef-6dc5-46fb-987c-d2a71c7b1bc2
STATUS:CONFIRMED
LAST-MODIFIED:20220825T072123Z
DESCRIPTION:4. Liga Herren Gruppe 5\nBegegnungs-Nr: 0\nHeim: Uster IV\nGast: Young Stars ZH VI\n\nAdresse: Wilstrasse 30 / Zürcherstrasse\, 8610 Uster\n
LOCATION:Wilstrasse 30 / Zürcherstrasse\, 8610 Uster
CATEGORIES:Saison 2022/23
END:VEVENT
BEGIN:VEVENT
DTSTAMP:20260426T043148Z
DTSTART;TZID=Europe/Berlin:20230214T201500
DTEND;TZID=Europe/Berlin:20230214T231500
SUMMARY:HE 4. Liga Gr. 5 Uster IV vs BW-Wollishofen IV (0)
UID:887f17fb-e068-40ab-b807-59846f97f868
STATUS:CONFIRMED
LAST-MODIFIED:20220825T072157Z
DESCRIPTION:4. Liga Herren Gruppe 5\nBegegnungs-Nr: 0\nHeim: Uster IV\nGast: BW-Wollishofen IV\n\nAdresse: Wilstrasse 30 / Zürcherstrasse\, 8610 Uster\n
LOCATION:Wilstrasse 30 / Zürcherstrasse\, 8610 Uster
CATEGORIES:Saison 2022/23
END:VEVENT
BEGIN:VEVENT
DTSTAMP:20260426T043148Z
DTSTART;TZID=Europe/Berlin:20230314T201500
DTEND;TZID=Europe/Berlin:20230314T231500
SUMMARY:HE 4. Liga Gr. 5 Uster IV vs Höngg (0)
UID:67568722-9a47-4a49-8c09-8da3942b2a4e
STATUS:CONFIRMED
LAST-MODIFIED:20220825T072312Z
DESCRIPTION:4. Liga Herren Gruppe 5\nBegegnungs-Nr: 0\nHeim: Uster IV\nGast: Höngg\n\nAdresse: Wilstrasse 30 / Zürcherstrasse\, 8610 Uster\n
LOCATION:Wilstrasse 30 / Zürcherstrasse\, 8610 Uster
CATEGORIES:Saison 2022/23
END:VEVENT
BEGIN:VEVENT
DTSTAMP:20260426T043148Z
DTSTART;TZID=Europe/Berlin:20220902T200000
DTEND;TZID=Europe/Berlin:20220902T230000
SUMMARY:HE 4. Liga Gr. 5 Young Stars ZH VI vs Uster IV (0)
UID:b195621e-aab6-4d49-95f6-4325a0cfefd4
STATUS:CONFIRMED
LAST-MODIFIED:20220825T071955Z
DESCRIPTION:4. Liga Herren Gruppe 5\nBegegnungs-Nr: 0\nHeim: Young Stars ZH VI\nGast: Uster IV\n\nAdresse: Balgriststrasse 55\, 8008 Zürich\n
LOCATION:Balgriststrasse 55\, 8008 Zürich
CATEGORIES:Saison 2022/23
END:VEVENT
BEGIN:VEVENT
DTSTAMP:20260426T043148Z
DTSTART;TZID=Europe/Berlin:20220923T200000
DTEND;TZID=Europe/Berlin:20220923T230000
SUMMARY:HE 4. Liga Gr. 5 BW-Wollishofen IV vs Uster IV (0)
UID:054336db-bfde-404d-9f48-23c0c7f73cb9
STATUS:CONFIRMED
LAST-MODIFIED:20220825T072021Z
DESCRIPTION:4. Liga Herren Gruppe 5\nBegegnungs-Nr: 0\nHeim: BW-Wollishofen IV\nGast: Uster IV\n\nAdresse: Kilchbergstr. 28\, 8038 Zürich\n
LOCATION:Kilchbergstr. 28\, 8038 Zürich
CATEGORIES:Saison 2022/23
END:VEVENT
BEGIN:VEVENT
DTSTAMP:20260426T043148Z
DTSTART;TZID=Europe/Berlin:20221109T200000
DTEND;TZID=Europe/Berlin:20221109T230000
SUMMARY:HE 4. Liga Gr. 5 Höngg vs Uster IV (0)
UID:2c05d548-8062-4de7-a0cf-11704dcbf04a
STATUS:CONFIRMED
LAST-MODIFIED:20220825T072059Z
DESCRIPTION:4. Liga Herren Gruppe 5\nBegegnungs-Nr: 0\nHeim: Höngg\nGast: Uster IV\n\nAdresse: Bläsistrasse 2\, 8049 Zürich\n
LOCATION:Bläsistrasse 2\, 8049 Zürich
CATEGORIES:Saison 2022/23
END:VEVENT
BEGIN:VEVENT
DTSTAMP:20260426T043148Z
DTSTART;TZID=Europe/Berlin:20230123T194500
DTEND;TZID=Europe/Berlin:20230123T224500
SUMMARY:HE 4. Liga Gr. 5 Meilen-Männedorf II vs Uster IV (0)
UID:a6ad60e1-4351-475e-8fb4-9a973a31046d
STATUS:CONFIRMED
LAST-MODIFIED:20220825T072133Z
DESCRIPTION:4. Liga Herren Gruppe 5\nBegegnungs-Nr: 0\nHeim: Meilen-Männedorf II\nGast: Uster IV\n\nAdresse: Schulstrasse 10\, 8708 Männedorf\n
LOCATION:Schulstrasse 10\, 8708 Männedorf
CATEGORIES:Saison 2022/23
END:VEVENT
BEGIN:VEVENT
DTSTAMP:20260426T043148Z
DTSTART;TZID=Europe/Berlin:20230210T193000
DTEND;TZID=Europe/Berlin:20230210T223000
SUMMARY:HE 4. Liga Gr. 5 Pinguin Zürich IV vs Uster IV (0)
UID:3bee17cb-09fe-4d47-ae3f-905df6190ad9
STATUS:CONFIRMED
LAST-MODIFIED:20220825T072145Z
DESCRIPTION:4. Liga Herren Gruppe 5\nBegegnungs-Nr: 0\nHeim: Pinguin Zürich IV\nGast: Uster IV\n\nAdresse: Basteiplatz\, 8001 Zürich\n
LOCATION:Basteiplatz\, 8001 Zürich
CATEGORIES:Saison 2022/23
END:VEVENT
BEGIN:VEVENT
DTSTAMP:20260426T043148Z
DTSTART;TZID=Europe/Berlin:20230310T200000
DTEND;TZID=Europe/Berlin:20230310T230000
SUMMARY:HE 4. Liga Gr. 5 Wolfhausen vs Uster IV (0)
UID:ea4c2e15-4052-4222-a434-40f423225f89
STATUS:CONFIRMED
LAST-MODIFIED:20220825T072254Z
DESCRIPTION:4. Liga Herren Gruppe 5\nBegegnungs-Nr: 0\nHeim: Wolfhausen\nGast: Uster IV\n\nAdresse: Schulstrasse 9\, 8633 Wolfhausen\n
LOCATION:Schulstrasse 9\, 8633 Wolfhausen
CATEGORIES:Saison 2022/23
END:VEVENT
BEGIN:VEVENT
DTSTAMP:20260426T043148Z
DTSTART;TZID=Europe/Berlin:20230330T194500
DTEND;TZID=Europe/Berlin:20230330T224500
SUMMARY:HE 4. Liga Gr. 5 Kloten II vs Uster IV (0)
UID:06b7efaf-6610-4e5d-afc1-902c7d9016ce
STATUS:CONFIRMED
LAST-MODIFIED:20220825T072324Z
DESCRIPTION:4. Liga Herren Gruppe 5\nBegegnungs-Nr: 0\nHeim: Kloten II\nGast: Uster IV\n\nAdresse: Schluefweg 10\, 8302 Kloten\n
LOCATION:Schluefweg 10\, 8302 Kloten
CATEGORIES:Saison 2022/23
END:VEVENT
END:VCALENDAR
