BEGIN:VCALENDAR
PRODID:-//nuDatenautomaten//framework iCal4j //DE
VERSION:2.0
CALSCALE:GREGORIAN
BEGIN:VTIMEZONE
TZID:Europe/Berlin
LAST-MODIFIED:20260306T231828Z
TZURL:https://www.tzurl.org/zoneinfo/Europe/Berlin
X-LIC-LOCATION:Europe/Berlin
X-PROLEPTIC-TZNAME:LMT
BEGIN:STANDARD
TZNAME:CET
TZOFFSETFROM:+005328
TZOFFSETTO:+0100
DTSTART:18930401T000000
END:STANDARD
BEGIN:DAYLIGHT
TZNAME:CEST
TZOFFSETFROM:+0100
TZOFFSETTO:+0200
DTSTART:19160430T230000
RDATE:19400401T020000
RDATE:19430329T020000
RDATE:19460414T020000
RDATE:19470406T030000
RDATE:19480418T020000
RDATE:19490410T020000
RDATE:19800406T020000
END:DAYLIGHT
BEGIN:STANDARD
TZNAME:CET
TZOFFSETFROM:+0200
TZOFFSETTO:+0100
DTSTART:19161001T010000
RDATE:19421102T030000
RDATE:19431004T030000
RDATE:19441002T030000
RDATE:19451118T030000
RDATE:19461007T030000
END:STANDARD
BEGIN:DAYLIGHT
TZNAME:CEST
TZOFFSETFROM:+0100
TZOFFSETTO:+0200
DTSTART:19170416T020000
RRULE:FREQ=YEARLY;UNTIL=19180415T010000Z;BYMONTH=4;BYDAY=3MO
END:DAYLIGHT
BEGIN:STANDARD
TZNAME:CET
TZOFFSETFROM:+0200
TZOFFSETTO:+0100
DTSTART:19170917T030000
RRULE:FREQ=YEARLY;UNTIL=19180916T010000Z;BYMONTH=9;BYDAY=3MO
END:STANDARD
BEGIN:DAYLIGHT
TZNAME:CEST
TZOFFSETFROM:+0100
TZOFFSETTO:+0200
DTSTART:19440403T020000
RRULE:FREQ=YEARLY;UNTIL=19450402T010000Z;BYMONTH=4;BYDAY=1MO
END:DAYLIGHT
BEGIN:DAYLIGHT
TZNAME:CEMT
TZOFFSETFROM:+0200
TZOFFSETTO:+0300
DTSTART:19450524T020000
RDATE:19470511T030000
END:DAYLIGHT
BEGIN:DAYLIGHT
TZNAME:CEST
TZOFFSETFROM:+0300
TZOFFSETTO:+0200
DTSTART:19450924T030000
RDATE:19470629T030000
END:DAYLIGHT
BEGIN:STANDARD
TZNAME:CET
TZOFFSETFROM:+0100
TZOFFSETTO:+0100
DTSTART:19460101T000000
RDATE:19800101T000000
END:STANDARD
BEGIN:STANDARD
TZNAME:CET
TZOFFSETFROM:+0200
TZOFFSETTO:+0100
DTSTART:19471005T030000
RRULE:FREQ=YEARLY;UNTIL=19491002T010000Z;BYMONTH=10;BYDAY=1SU
END:STANDARD
BEGIN:STANDARD
TZNAME:CET
TZOFFSETFROM:+0200
TZOFFSETTO:+0100
DTSTART:19800928T030000
RRULE:FREQ=YEARLY;UNTIL=19950924T010000Z;BYMONTH=9;BYDAY=-1SU
END:STANDARD
BEGIN:DAYLIGHT
TZNAME:CEST
TZOFFSETFROM:+0100
TZOFFSETTO:+0200
DTSTART:19810329T020000
RRULE:FREQ=YEARLY;BYMONTH=3;BYDAY=-1SU
END:DAYLIGHT
BEGIN:STANDARD
TZNAME:CET
TZOFFSETFROM:+0200
TZOFFSETTO:+0100
DTSTART:19961027T030000
RRULE:FREQ=YEARLY;BYMONTH=10;BYDAY=-1SU
END:STANDARD
END:VTIMEZONE
BEGIN:VEVENT
DTSTAMP:20260424T155421Z
DTSTART;TZID=Europe/Berlin:20220908T194500
DTEND;TZID=Europe/Berlin:20220908T224500
SUMMARY:HE 6. Liga Gr. 5 Kloten III vs Höngg IV (0)
UID:3d54e3f9-925d-4cd5-964e-ea449d0ed639
STATUS:CONFIRMED
LAST-MODIFIED:20220909T132737Z
DESCRIPTION:6. Liga Herren Gruppe 5\nBegegnungs-Nr: 0\nHeim: Kloten III\nGast: Höngg IV\n\nAdresse: Schluefweg 10\, 8302 Kloten\n
LOCATION:Schluefweg 10\, 8302 Kloten
CATEGORIES:Saison 2022/23
END:VEVENT
BEGIN:VEVENT
DTSTAMP:20260424T155421Z
DTSTART;TZID=Europe/Berlin:20220929T194500
DTEND;TZID=Europe/Berlin:20220929T224500
SUMMARY:HE 6. Liga Gr. 5 Kloten III vs Urdorf IV (0)
UID:82f11d77-b3ac-4850-a77b-533bc6c0bb5c
STATUS:CONFIRMED
LAST-MODIFIED:20221005T125806Z
DESCRIPTION:6. Liga Herren Gruppe 5\nBegegnungs-Nr: 0\nHeim: Kloten III\nGast: Urdorf IV\n\nAdresse: Schluefweg 10\, 8302 Kloten\n
LOCATION:Schluefweg 10\, 8302 Kloten
CATEGORIES:Saison 2022/23
END:VEVENT
BEGIN:VEVENT
DTSTAMP:20260424T155421Z
DTSTART;TZID=Europe/Berlin:20230112T194500
DTEND;TZID=Europe/Berlin:20230112T224500
SUMMARY:HE 6. Liga Gr. 5 Kloten III vs Zürich-Affoltern IX (0)
UID:f6bdfee6-e6fc-443b-9380-5fdf4e5c1bea
STATUS:CONFIRMED
LAST-MODIFIED:20230117T083428Z
DESCRIPTION:6. Liga Herren Gruppe 5\nBegegnungs-Nr: 0\nHeim: Kloten III\nGast: Zürich-Affoltern IX\n\nAdresse: Schluefweg 10\, 8302 Kloten\n
LOCATION:Schluefweg 10\, 8302 Kloten
CATEGORIES:Saison 2022/23
END:VEVENT
BEGIN:VEVENT
DTSTAMP:20260424T155421Z
DTSTART;TZID=Europe/Berlin:20230323T194500
DTEND;TZID=Europe/Berlin:20230323T224500
SUMMARY:HE 6. Liga Gr. 5 Kloten III vs Seebach-Kügeliloo III (0)
UID:0fb1a35b-12fb-4d8e-a563-3ad9fe5a2a75
STATUS:CONFIRMED
LAST-MODIFIED:20230328T095811Z
DESCRIPTION:6. Liga Herren Gruppe 5\nBegegnungs-Nr: 0\nHeim: Kloten III\nGast: Seebach-Kügeliloo III\n\nAdresse: Schluefweg 10\, 8302 Kloten\n
LOCATION:Schluefweg 10\, 8302 Kloten
CATEGORIES:Saison 2022/23
END:VEVENT
BEGIN:VEVENT
DTSTAMP:20260424T155421Z
DTSTART;TZID=Europe/Berlin:20230316T194500
DTEND;TZID=Europe/Berlin:20230316T224500
SUMMARY:HE 6. Liga Gr. 5 Kloten III vs Buchs Zürich IV (0)
UID:97416aca-f78e-457c-b395-9826111cf982
STATUS:CONFIRMED
LAST-MODIFIED:20230328T095643Z
DESCRIPTION:6. Liga Herren Gruppe 5\nBegegnungs-Nr: 0\nHeim: Kloten III\nGast: Buchs Zürich IV\n\nAdresse: Schluefweg 10\, 8302 Kloten\n
LOCATION:Schluefweg 10\, 8302 Kloten
CATEGORIES:Saison 2022/23
END:VEVENT
BEGIN:VEVENT
DTSTAMP:20260424T155421Z
DTSTART;TZID=Europe/Berlin:20230329T193000
DTEND;TZID=Europe/Berlin:20230329T223000
SUMMARY:HE 6. Liga Gr. 5 Kloten III vs Niederhasli VI (0)
UID:a96ae07b-8706-4fde-a1cb-c2c89a70a7b2
STATUS:CONFIRMED
LAST-MODIFIED:20230405T120653Z
DESCRIPTION:6. Liga Herren Gruppe 5\nBegegnungs-Nr: 0\nHeim: Kloten III\nGast: Niederhasli VI\n\nAdresse: Schluefweg 10\, 8302 Kloten\n
LOCATION:Schluefweg 10\, 8302 Kloten
CATEGORIES:Saison 2022/23
END:VEVENT
BEGIN:VEVENT
DTSTAMP:20260424T155421Z
DTSTART;TZID=Europe/Berlin:20221103T194500
DTEND;TZID=Europe/Berlin:20221103T224500
SUMMARY:HE 6. Liga Gr. 5 Kloten III vs Bülach VI (0)
UID:be03edd5-d2b2-4970-9ed5-3a841d46eb6e
STATUS:CONFIRMED
LAST-MODIFIED:20221108T162640Z
DESCRIPTION:6. Liga Herren Gruppe 5\nBegegnungs-Nr: 0\nHeim: Kloten III\nGast: Bülach VI\n\nAdresse: Schluefweg 10\, 8302 Kloten\n
LOCATION:Schluefweg 10\, 8302 Kloten
CATEGORIES:Saison 2022/23
END:VEVENT
BEGIN:VEVENT
DTSTAMP:20260424T155421Z
DTSTART;TZID=Europe/Berlin:20230505T200000
DTEND;TZID=Europe/Berlin:20230505T230000
SUMMARY:HE 6. Liga Aufstieg Kloten III vs Chur IX (613)
UID:ba1f1897-49df-49d5-bf85-04cc505550b4
STATUS:CONFIRMED
LAST-MODIFIED:20230506T083227Z
DESCRIPTION:6.Liga Herren Aufstieg\nBegegnungs-Nr: 613\nHeim: Kloten III\nGast: Chur IX\n
LOCATION:
CATEGORIES:Saison 2022/23
END:VEVENT
BEGIN:VEVENT
DTSTAMP:20260424T155421Z
DTSTART;TZID=Europe/Berlin:20220831T193000
DTEND;TZID=Europe/Berlin:20220831T223000
SUMMARY:HE 6. Liga Gr. 5 Zürich-Affoltern IX vs Kloten III (0)
UID:32e50dee-b1cc-40f5-bd46-b7a8a22ec8ff
STATUS:CONFIRMED
LAST-MODIFIED:20220902T095828Z
DESCRIPTION:6. Liga Herren Gruppe 5\nBegegnungs-Nr: 0\nHeim: Zürich-Affoltern IX\nGast: Kloten III\n\nAdresse: Fronwaldstr.115\, 8046 Zürich\n
LOCATION:Fronwaldstr.115\, 8046 Zürich
CATEGORIES:Saison 2022/23
END:VEVENT
BEGIN:VEVENT
DTSTAMP:20260424T155421Z
DTSTART;TZID=Europe/Berlin:20221005T193000
DTEND;TZID=Europe/Berlin:20221005T223000
SUMMARY:HE 6. Liga Gr. 5 Seebach-Kügeliloo III vs Kloten III (0)
UID:f7af885e-4828-45df-9315-248dcdbbee2b
STATUS:CONFIRMED
LAST-MODIFIED:20221007T070206Z
DESCRIPTION:6. Liga Herren Gruppe 5\nBegegnungs-Nr: 0\nHeim: Seebach-Kügeliloo III\nGast: Kloten III\n\nAdresse: Maienstrasse 9\, 8050 Zürich\n
LOCATION:Maienstrasse 9\, 8050 Zürich
CATEGORIES:Saison 2022/23
END:VEVENT
BEGIN:VEVENT
DTSTAMP:20260424T155421Z
DTSTART;TZID=Europe/Berlin:20221109T201500
DTEND;TZID=Europe/Berlin:20221109T231500
SUMMARY:HE 6. Liga Gr. 5 Buchs Zürich IV vs Kloten III (0)
UID:c99a864b-a324-46d8-a5b8-e3cbedb12df8
STATUS:CONFIRMED
LAST-MODIFIED:20221111T160339Z
DESCRIPTION:6. Liga Herren Gruppe 5\nBegegnungs-Nr: 0\nHeim: Buchs Zürich IV\nGast: Kloten III\n\nAdresse: Schulstrasse 73\, 8105 Regensdorf\n
LOCATION:Schulstrasse 73\, 8105 Regensdorf
CATEGORIES:Saison 2022/23
END:VEVENT
BEGIN:VEVENT
DTSTAMP:20260424T155421Z
DTSTART;TZID=Europe/Berlin:20221202T193000
DTEND;TZID=Europe/Berlin:20221202T223000
SUMMARY:HE 6. Liga Gr. 5 Niederhasli VI vs Kloten III (0)
UID:1cae52c9-3154-46ca-a89f-ebc42166c322
STATUS:CONFIRMED
LAST-MODIFIED:20221208T114914Z
DESCRIPTION:6. Liga Herren Gruppe 5\nBegegnungs-Nr: 0\nHeim: Niederhasli VI\nGast: Kloten III\n\nAdresse: Dorfstrasse 22\, 8155 Niederhasli\n
LOCATION:Dorfstrasse 22\, 8155 Niederhasli
CATEGORIES:Saison 2022/23
END:VEVENT
BEGIN:VEVENT
DTSTAMP:20260424T155421Z
DTSTART;TZID=Europe/Berlin:20230125T200000
DTEND;TZID=Europe/Berlin:20230125T230000
SUMMARY:HE 6. Liga Gr. 5 Höngg IV vs Kloten III (0)
UID:bed08a0f-cf3d-4d37-87d9-9d4cd702b673
STATUS:CONFIRMED
LAST-MODIFIED:20230131T124845Z
DESCRIPTION:6. Liga Herren Gruppe 5\nBegegnungs-Nr: 0\nHeim: Höngg IV\nGast: Kloten III\n\nAdresse: Bläsistrasse 2\, 8049 Zürich\n
LOCATION:Bläsistrasse 2\, 8049 Zürich
CATEGORIES:Saison 2022/23
END:VEVENT
BEGIN:VEVENT
DTSTAMP:20260424T155421Z
DTSTART;TZID=Europe/Berlin:20230201T200000
DTEND;TZID=Europe/Berlin:20230201T230000
SUMMARY:HE 6. Liga Gr. 5 Urdorf IV vs Kloten III (0)
UID:72977017-e072-4981-8e71-3f68e514e740
STATUS:CONFIRMED
LAST-MODIFIED:20230202T151303Z
DESCRIPTION:6. Liga Herren Gruppe 5\nBegegnungs-Nr: 0\nHeim: Urdorf IV\nGast: Kloten III\n\nAdresse: Weihermattstrasse 50\, 8902 Urdorf\n
LOCATION:Weihermattstrasse 50\, 8902 Urdorf
CATEGORIES:Saison 2022/23
END:VEVENT
BEGIN:VEVENT
DTSTAMP:20260424T155421Z
DTSTART;TZID=Europe/Berlin:20230303T193000
DTEND;TZID=Europe/Berlin:20230303T223000
SUMMARY:HE 6. Liga Gr. 5 Bülach VI vs Kloten III (0)
UID:90e42325-59ed-4dcd-8c0f-2806c43f1853
STATUS:CONFIRMED
LAST-MODIFIED:20230307T102158Z
DESCRIPTION:6. Liga Herren Gruppe 5\nBegegnungs-Nr: 0\nHeim: Bülach VI\nGast: Kloten III\n\nAdresse: Schwerzgruebstrasse 28\, 8180 Bülach\n
LOCATION:Schwerzgruebstrasse 28\, 8180 Bülach
CATEGORIES:Saison 2022/23
END:VEVENT
END:VCALENDAR
