BEGIN:VCALENDAR
PRODID:-//nuDatenautomaten//framework iCal4j //DE
VERSION:2.0
CALSCALE:GREGORIAN
BEGIN:VTIMEZONE
TZID:Europe/Berlin
LAST-MODIFIED:20260306T231828Z
TZURL:https://www.tzurl.org/zoneinfo/Europe/Berlin
X-LIC-LOCATION:Europe/Berlin
X-PROLEPTIC-TZNAME:LMT
BEGIN:STANDARD
TZNAME:CET
TZOFFSETFROM:+005328
TZOFFSETTO:+0100
DTSTART:18930401T000000
END:STANDARD
BEGIN:DAYLIGHT
TZNAME:CEST
TZOFFSETFROM:+0100
TZOFFSETTO:+0200
DTSTART:19160430T230000
RDATE:19400401T020000
RDATE:19430329T020000
RDATE:19460414T020000
RDATE:19470406T030000
RDATE:19480418T020000
RDATE:19490410T020000
RDATE:19800406T020000
END:DAYLIGHT
BEGIN:STANDARD
TZNAME:CET
TZOFFSETFROM:+0200
TZOFFSETTO:+0100
DTSTART:19161001T010000
RDATE:19421102T030000
RDATE:19431004T030000
RDATE:19441002T030000
RDATE:19451118T030000
RDATE:19461007T030000
END:STANDARD
BEGIN:DAYLIGHT
TZNAME:CEST
TZOFFSETFROM:+0100
TZOFFSETTO:+0200
DTSTART:19170416T020000
RRULE:FREQ=YEARLY;UNTIL=19180415T010000Z;BYMONTH=4;BYDAY=3MO
END:DAYLIGHT
BEGIN:STANDARD
TZNAME:CET
TZOFFSETFROM:+0200
TZOFFSETTO:+0100
DTSTART:19170917T030000
RRULE:FREQ=YEARLY;UNTIL=19180916T010000Z;BYMONTH=9;BYDAY=3MO
END:STANDARD
BEGIN:DAYLIGHT
TZNAME:CEST
TZOFFSETFROM:+0100
TZOFFSETTO:+0200
DTSTART:19440403T020000
RRULE:FREQ=YEARLY;UNTIL=19450402T010000Z;BYMONTH=4;BYDAY=1MO
END:DAYLIGHT
BEGIN:DAYLIGHT
TZNAME:CEMT
TZOFFSETFROM:+0200
TZOFFSETTO:+0300
DTSTART:19450524T020000
RDATE:19470511T030000
END:DAYLIGHT
BEGIN:DAYLIGHT
TZNAME:CEST
TZOFFSETFROM:+0300
TZOFFSETTO:+0200
DTSTART:19450924T030000
RDATE:19470629T030000
END:DAYLIGHT
BEGIN:STANDARD
TZNAME:CET
TZOFFSETFROM:+0100
TZOFFSETTO:+0100
DTSTART:19460101T000000
RDATE:19800101T000000
END:STANDARD
BEGIN:STANDARD
TZNAME:CET
TZOFFSETFROM:+0200
TZOFFSETTO:+0100
DTSTART:19471005T030000
RRULE:FREQ=YEARLY;UNTIL=19491002T010000Z;BYMONTH=10;BYDAY=1SU
END:STANDARD
BEGIN:STANDARD
TZNAME:CET
TZOFFSETFROM:+0200
TZOFFSETTO:+0100
DTSTART:19800928T030000
RRULE:FREQ=YEARLY;UNTIL=19950924T010000Z;BYMONTH=9;BYDAY=-1SU
END:STANDARD
BEGIN:DAYLIGHT
TZNAME:CEST
TZOFFSETFROM:+0100
TZOFFSETTO:+0200
DTSTART:19810329T020000
RRULE:FREQ=YEARLY;BYMONTH=3;BYDAY=-1SU
END:DAYLIGHT
BEGIN:STANDARD
TZNAME:CET
TZOFFSETFROM:+0200
TZOFFSETTO:+0100
DTSTART:19961027T030000
RRULE:FREQ=YEARLY;BYMONTH=10;BYDAY=-1SU
END:STANDARD
END:VTIMEZONE
BEGIN:VEVENT
DTSTAMP:20260426T033205Z
DTSTART;TZID=Europe/Berlin:20230301T200000
DTEND;TZID=Europe/Berlin:20230301T230000
SUMMARY:O40 4. Liga Gr. 3 Höngg II vs Buchs Zürich II (0)
UID:c12d55c2-e32e-46bf-962e-e93556c48bb1
STATUS:CONFIRMED
LAST-MODIFIED:20230302T155315Z
DESCRIPTION:4. Liga O40 Gruppe 3\nBegegnungs-Nr: 0\nHeim: Höngg II\nGast: Buchs Zürich II\n\nAdresse: Bläsistrasse 2\, 8049 Zürich\n
LOCATION:Bläsistrasse 2\, 8049 Zürich
CATEGORIES:Saison 2022/23
END:VEVENT
BEGIN:VEVENT
DTSTAMP:20260426T033205Z
DTSTART;TZID=Europe/Berlin:20220914T200000
DTEND;TZID=Europe/Berlin:20220914T230000
SUMMARY:O40 4. Liga Gr. 3 Höngg II vs Bülach III (0)
UID:93f0c40d-01a6-4daa-8bf2-a17dd0717511
STATUS:CONFIRMED
LAST-MODIFIED:20220915T091843Z
DESCRIPTION:4. Liga O40 Gruppe 3\nBegegnungs-Nr: 0\nHeim: Höngg II\nGast: Bülach III\n\nAdresse: Bläsistrasse 2\, 8049 Zürich\n
LOCATION:Bläsistrasse 2\, 8049 Zürich
CATEGORIES:Saison 2022/23
END:VEVENT
BEGIN:VEVENT
DTSTAMP:20260426T033205Z
DTSTART;TZID=Europe/Berlin:20221123T200000
DTEND;TZID=Europe/Berlin:20221123T230000
SUMMARY:O40 4. Liga Gr. 3 Höngg II vs Urdorf II (0)
UID:0dc30686-f075-471c-91fa-000bf0fc9d7c
STATUS:CONFIRMED
LAST-MODIFIED:20221128T150405Z
DESCRIPTION:4. Liga O40 Gruppe 3\nBegegnungs-Nr: 0\nHeim: Höngg II\nGast: Urdorf II\n\nAdresse: Bläsistrasse 2\, 8049 Zürich\n
LOCATION:Bläsistrasse 2\, 8049 Zürich
CATEGORIES:Saison 2022/23
END:VEVENT
BEGIN:VEVENT
DTSTAMP:20260426T033205Z
DTSTART;TZID=Europe/Berlin:20221207T200000
DTEND;TZID=Europe/Berlin:20221207T230000
SUMMARY:O40 4. Liga Gr. 3 Höngg II vs Seebach-Kügeliloo (0)
UID:09ed4358-6f5a-46f6-9f5e-56a442309f1c
STATUS:CONFIRMED
LAST-MODIFIED:20221212T145527Z
DESCRIPTION:4. Liga O40 Gruppe 3\nBegegnungs-Nr: 0\nHeim: Höngg II\nGast: Seebach-Kügeliloo\n\nAdresse: Bläsistrasse 2\, 8049 Zürich\n
LOCATION:Bläsistrasse 2\, 8049 Zürich
CATEGORIES:Saison 2022/23
END:VEVENT
BEGIN:VEVENT
DTSTAMP:20260426T033205Z
DTSTART;TZID=Europe/Berlin:20230118T200000
DTEND;TZID=Europe/Berlin:20230118T230000
SUMMARY:O40 4. Liga Gr. 3 Höngg II vs Niederhasli III (0)
UID:9281397d-2777-4d31-9130-2168cd8aa4db
STATUS:CONFIRMED
LAST-MODIFIED:20230127T163855Z
DESCRIPTION:4. Liga O40 Gruppe 3\nBegegnungs-Nr: 0\nHeim: Höngg II\nGast: Niederhasli III\n\nAdresse: Bläsistrasse 2\, 8049 Zürich\n
LOCATION:Bläsistrasse 2\, 8049 Zürich
CATEGORIES:Saison 2022/23
END:VEVENT
BEGIN:VEVENT
DTSTAMP:20260426T033205Z
DTSTART;TZID=Europe/Berlin:20220822T193000
DTEND;TZID=Europe/Berlin:20220822T223000
SUMMARY:O40 4. Liga Gr. 3 Niederhasli III vs Höngg II (0)
UID:f2be04c6-f496-4c56-a7f1-9e6e2e8e629a
STATUS:CONFIRMED
LAST-MODIFIED:20220823T062215Z
DESCRIPTION:4. Liga O40 Gruppe 3\nBegegnungs-Nr: 0\nHeim: Niederhasli III\nGast: Höngg II\n\nAdresse: Dorfstrasse 22\, 8155 Niederhasli\n
LOCATION:Dorfstrasse 22\, 8155 Niederhasli
CATEGORIES:Saison 2022/23
END:VEVENT
BEGIN:VEVENT
DTSTAMP:20260426T033205Z
DTSTART;TZID=Europe/Berlin:20230202T193000
DTEND;TZID=Europe/Berlin:20230202T223000
SUMMARY:O40 4. Liga Gr. 3 Bülach III vs Höngg II (0)
UID:7f25bf6a-5dbc-4dc0-8e76-b8e875ce917f
STATUS:CONFIRMED
LAST-MODIFIED:20230209T130114Z
DESCRIPTION:4. Liga O40 Gruppe 3\nBegegnungs-Nr: 0\nHeim: Bülach III\nGast: Höngg II\n\nAdresse: Schwerzgruebstrasse 28\, 8180 Bülach\n
LOCATION:Schwerzgruebstrasse 28\, 8180 Bülach
CATEGORIES:Saison 2022/23
END:VEVENT
BEGIN:VEVENT
DTSTAMP:20260426T033205Z
DTSTART;TZID=Europe/Berlin:20230320T201500
DTEND;TZID=Europe/Berlin:20230320T231500
SUMMARY:O40 4. Liga Gr. 3 Urdorf II vs Höngg II (0)
UID:b91d1ab4-82b7-49f9-a353-93af69354cf1
STATUS:CONFIRMED
LAST-MODIFIED:20230328T113730Z
DESCRIPTION:4. Liga O40 Gruppe 3\nBegegnungs-Nr: 0\nHeim: Urdorf II\nGast: Höngg II\n\nAdresse: Weihermattstrasse 50\, 8902 Urdorf\n
LOCATION:Weihermattstrasse 50\, 8902 Urdorf
CATEGORIES:Saison 2022/23
END:VEVENT
BEGIN:VEVENT
DTSTAMP:20260426T033205Z
DTSTART;TZID=Europe/Berlin:20230404T201500
DTEND;TZID=Europe/Berlin:20230404T231500
SUMMARY:O40 4. Liga Gr. 3 Seebach-Kügeliloo vs Höngg II (0)
UID:6dba2704-b6bc-41ac-b464-c83ed2b3d730
STATUS:CONFIRMED
LAST-MODIFIED:20230405T121537Z
DESCRIPTION:4. Liga O40 Gruppe 3\nBegegnungs-Nr: 0\nHeim: Seebach-Kügeliloo\nGast: Höngg II\n\nAdresse: Sperletweg 71\, 8052 Zürich\n
LOCATION:Sperletweg 71\, 8052 Zürich
CATEGORIES:Saison 2022/23
END:VEVENT
BEGIN:VEVENT
DTSTAMP:20260426T033205Z
DTSTART;TZID=Europe/Berlin:20221026T201500
DTEND;TZID=Europe/Berlin:20221026T231500
SUMMARY:O40 4. Liga Gr. 3 Buchs Zürich II vs Höngg II (0)
UID:2673a6ea-0b89-4e41-b176-65a322efe6b1
STATUS:CONFIRMED
LAST-MODIFIED:20221101T092227Z
DESCRIPTION:4. Liga O40 Gruppe 3\nBegegnungs-Nr: 0\nHeim: Buchs Zürich II\nGast: Höngg II\n\nAdresse: Schulstrasse 73\, 8105 Regensdorf\n
LOCATION:Schulstrasse 73\, 8105 Regensdorf
CATEGORIES:Saison 2022/23
END:VEVENT
END:VCALENDAR
