BEGIN:VCALENDAR
PRODID:-//nuDatenautomaten//framework iCal4j //DE
VERSION:2.0
CALSCALE:GREGORIAN
BEGIN:VTIMEZONE
TZID:Europe/Berlin
LAST-MODIFIED:20260306T231828Z
TZURL:https://www.tzurl.org/zoneinfo/Europe/Berlin
X-LIC-LOCATION:Europe/Berlin
X-PROLEPTIC-TZNAME:LMT
BEGIN:STANDARD
TZNAME:CET
TZOFFSETFROM:+005328
TZOFFSETTO:+0100
DTSTART:18930401T000000
END:STANDARD
BEGIN:DAYLIGHT
TZNAME:CEST
TZOFFSETFROM:+0100
TZOFFSETTO:+0200
DTSTART:19160430T230000
RDATE:19400401T020000
RDATE:19430329T020000
RDATE:19460414T020000
RDATE:19470406T030000
RDATE:19480418T020000
RDATE:19490410T020000
RDATE:19800406T020000
END:DAYLIGHT
BEGIN:STANDARD
TZNAME:CET
TZOFFSETFROM:+0200
TZOFFSETTO:+0100
DTSTART:19161001T010000
RDATE:19421102T030000
RDATE:19431004T030000
RDATE:19441002T030000
RDATE:19451118T030000
RDATE:19461007T030000
END:STANDARD
BEGIN:DAYLIGHT
TZNAME:CEST
TZOFFSETFROM:+0100
TZOFFSETTO:+0200
DTSTART:19170416T020000
RRULE:FREQ=YEARLY;UNTIL=19180415T010000Z;BYMONTH=4;BYDAY=3MO
END:DAYLIGHT
BEGIN:STANDARD
TZNAME:CET
TZOFFSETFROM:+0200
TZOFFSETTO:+0100
DTSTART:19170917T030000
RRULE:FREQ=YEARLY;UNTIL=19180916T010000Z;BYMONTH=9;BYDAY=3MO
END:STANDARD
BEGIN:DAYLIGHT
TZNAME:CEST
TZOFFSETFROM:+0100
TZOFFSETTO:+0200
DTSTART:19440403T020000
RRULE:FREQ=YEARLY;UNTIL=19450402T010000Z;BYMONTH=4;BYDAY=1MO
END:DAYLIGHT
BEGIN:DAYLIGHT
TZNAME:CEMT
TZOFFSETFROM:+0200
TZOFFSETTO:+0300
DTSTART:19450524T020000
RDATE:19470511T030000
END:DAYLIGHT
BEGIN:DAYLIGHT
TZNAME:CEST
TZOFFSETFROM:+0300
TZOFFSETTO:+0200
DTSTART:19450924T030000
RDATE:19470629T030000
END:DAYLIGHT
BEGIN:STANDARD
TZNAME:CET
TZOFFSETFROM:+0100
TZOFFSETTO:+0100
DTSTART:19460101T000000
RDATE:19800101T000000
END:STANDARD
BEGIN:STANDARD
TZNAME:CET
TZOFFSETFROM:+0200
TZOFFSETTO:+0100
DTSTART:19471005T030000
RRULE:FREQ=YEARLY;UNTIL=19491002T010000Z;BYMONTH=10;BYDAY=1SU
END:STANDARD
BEGIN:STANDARD
TZNAME:CET
TZOFFSETFROM:+0200
TZOFFSETTO:+0100
DTSTART:19800928T030000
RRULE:FREQ=YEARLY;UNTIL=19950924T010000Z;BYMONTH=9;BYDAY=-1SU
END:STANDARD
BEGIN:DAYLIGHT
TZNAME:CEST
TZOFFSETFROM:+0100
TZOFFSETTO:+0200
DTSTART:19810329T020000
RRULE:FREQ=YEARLY;BYMONTH=3;BYDAY=-1SU
END:DAYLIGHT
BEGIN:STANDARD
TZNAME:CET
TZOFFSETFROM:+0200
TZOFFSETTO:+0100
DTSTART:19961027T030000
RRULE:FREQ=YEARLY;BYMONTH=10;BYDAY=-1SU
END:STANDARD
END:VTIMEZONE
BEGIN:VEVENT
DTSTAMP:20260421T202638Z
DTSTART;TZID=Europe/Berlin:20220823T194500
DTEND;TZID=Europe/Berlin:20220823T224500
SUMMARY:HE 4. Liga Gr. 1 bls Spiez II vs Interlaken (2)
UID:734a8d54-d45c-4e6c-b7f0-9fc8cede4f9d
STATUS:CONFIRMED
LAST-MODIFIED:20220829T120712Z
DESCRIPTION:4. Liga Herren Gruppe 1\nBegegnungs-Nr: 2\nHeim: bls Spiez II\nGast: Interlaken\n\nAdresse: Hofachernweg 19 / Oberlandstr. 89\, 3700 Spiez\n
LOCATION:Hofachernweg 19 / Oberlandstr. 89\, 3700 Spiez
CATEGORIES:Saison 2022/23
END:VEVENT
BEGIN:VEVENT
DTSTAMP:20260421T202638Z
DTSTART;TZID=Europe/Berlin:20221101T194500
DTEND;TZID=Europe/Berlin:20221101T224500
SUMMARY:HE 4. Liga Gr. 1 bls Spiez II vs Langnau III (18)
UID:0e92ad93-3e6f-4549-bd0f-c796417f503c
STATUS:CONFIRMED
LAST-MODIFIED:20221102T072359Z
DESCRIPTION:4. Liga Herren Gruppe 1\nBegegnungs-Nr: 18\nHeim: bls Spiez II\nGast: Langnau III\n\nAdresse: Hofachernweg 19 / Oberlandstr. 89\, 3700 Spiez\n
LOCATION:Hofachernweg 19 / Oberlandstr. 89\, 3700 Spiez
CATEGORIES:Saison 2022/23
END:VEVENT
BEGIN:VEVENT
DTSTAMP:20260421T202638Z
DTSTART;TZID=Europe/Berlin:20230404T194500
DTEND;TZID=Europe/Berlin:20230404T224500
SUMMARY:HE 4. Liga Gr. 1 bls Spiez II vs Worb III (33)
UID:9452cb07-1661-4da2-9292-8021bf235986
STATUS:CONFIRMED
LAST-MODIFIED:20230409T182120Z
DESCRIPTION:4. Liga Herren Gruppe 1\nBegegnungs-Nr: 33\nHeim: bls Spiez II\nGast: Worb III\n\nAdresse: Hofachernweg 19 / Oberlandstr. 89\, 3700 Spiez\n
LOCATION:Hofachernweg 19 / Oberlandstr. 89\, 3700 Spiez
CATEGORIES:Saison 2022/23
END:VEVENT
BEGIN:VEVENT
DTSTAMP:20260421T202638Z
DTSTART;TZID=Europe/Berlin:20230328T194500
DTEND;TZID=Europe/Berlin:20230328T224500
SUMMARY:HE 4. Liga Gr. 1 bls Spiez II vs Münsingen IV (30)
UID:d5cbc535-08d7-466d-90af-3d0423adda86
STATUS:CONFIRMED
LAST-MODIFIED:20230330T071320Z
DESCRIPTION:4. Liga Herren Gruppe 1\nBegegnungs-Nr: 30\nHeim: bls Spiez II\nGast: Münsingen IV\n\nAdresse: Hofachernweg 19 / Oberlandstr. 89\, 3700 Spiez\n
LOCATION:Hofachernweg 19 / Oberlandstr. 89\, 3700 Spiez
CATEGORIES:Saison 2022/23
END:VEVENT
BEGIN:VEVENT
DTSTAMP:20260421T202638Z
DTSTART;TZID=Europe/Berlin:20230307T194500
DTEND;TZID=Europe/Berlin:20230307T224500
SUMMARY:HE 4. Liga Gr. 1 bls Spiez II vs Steffisburg (22)
UID:ecd55e8f-5e33-4c9f-b3b4-23d7e6d9eab6
STATUS:CONFIRMED
LAST-MODIFIED:20230308T144858Z
DESCRIPTION:4. Liga Herren Gruppe 1\nBegegnungs-Nr: 22\nHeim: bls Spiez II\nGast: Steffisburg\n\nAdresse: Hofachernweg 19 / Oberlandstr. 89\, 3700 Spiez\n
LOCATION:Hofachernweg 19 / Oberlandstr. 89\, 3700 Spiez
CATEGORIES:Saison 2022/23
END:VEVENT
BEGIN:VEVENT
DTSTAMP:20260421T202638Z
DTSTART;TZID=Europe/Berlin:20230214T194500
DTEND;TZID=Europe/Berlin:20230214T224500
SUMMARY:HE 4. Liga Gr. 1 bls Spiez II vs Heimberg V (14)
UID:78700580-3475-4245-baf8-a0f662371261
STATUS:CONFIRMED
LAST-MODIFIED:20230216T204733Z
DESCRIPTION:4. Liga Herren Gruppe 1\nBegegnungs-Nr: 14\nHeim: bls Spiez II\nGast: Heimberg V\n\nAdresse: Hofachernweg 19 / Oberlandstr. 89\, 3700 Spiez\n
LOCATION:Hofachernweg 19 / Oberlandstr. 89\, 3700 Spiez
CATEGORIES:Saison 2022/23
END:VEVENT
BEGIN:VEVENT
DTSTAMP:20260421T202638Z
DTSTART;TZID=Europe/Berlin:20230117T194500
DTEND;TZID=Europe/Berlin:20230117T224500
SUMMARY:HE 4. Liga Gr. 1 bls Spiez II vs Thun IV (5)
UID:776e3e1a-d28d-4b56-b4a8-41e6d51b3310
STATUS:CONFIRMED
LAST-MODIFIED:20230118T094631Z
DESCRIPTION:4. Liga Herren Gruppe 1\nBegegnungs-Nr: 5\nHeim: bls Spiez II\nGast: Thun IV\n\nAdresse: Hofachernweg 19 / Oberlandstr. 89\, 3700 Spiez\n
LOCATION:Hofachernweg 19 / Oberlandstr. 89\, 3700 Spiez
CATEGORIES:Saison 2022/23
END:VEVENT
BEGIN:VEVENT
DTSTAMP:20260421T202638Z
DTSTART;TZID=Europe/Berlin:20221122T194500
DTEND;TZID=Europe/Berlin:20221122T224500
SUMMARY:HE 4. Liga Gr. 1 bls Spiez II vs Bern V (26)
UID:0e250361-b0a7-46e4-879c-5c26386b3d4f
STATUS:CONFIRMED
LAST-MODIFIED:20221123T114328Z
DESCRIPTION:4. Liga Herren Gruppe 1\nBegegnungs-Nr: 26\nHeim: bls Spiez II\nGast: Bern V\n\nAdresse: Hofachernweg 19 / Oberlandstr. 89\, 3700 Spiez\n
LOCATION:Hofachernweg 19 / Oberlandstr. 89\, 3700 Spiez
CATEGORIES:Saison 2022/23
END:VEVENT
BEGIN:VEVENT
DTSTAMP:20260421T202638Z
DTSTART;TZID=Europe/Berlin:20221214T200000
DTEND;TZID=Europe/Berlin:20221214T230000
SUMMARY:HE 4. Liga Gr. 1 Worb III vs bls Spiez II (33)
UID:11cd1a24-c456-4473-ae14-13a72427e535
STATUS:CONFIRMED
LAST-MODIFIED:20221215T092231Z
DESCRIPTION:4. Liga Herren Gruppe 1\nBegegnungs-Nr: 33\nHeim: Worb III\nGast: bls Spiez II\n\nAdresse: Rosenweg 9\, 3075 Rüfenacht BE\n
LOCATION:Rosenweg 9\, 3075 Rüfenacht BE
CATEGORIES:Saison 2022/23
END:VEVENT
BEGIN:VEVENT
DTSTAMP:20260421T202638Z
DTSTART;TZID=Europe/Berlin:20221111T194500
DTEND;TZID=Europe/Berlin:20221111T224500
SUMMARY:HE 4. Liga Gr. 1 Steffisburg vs bls Spiez II (22)
UID:9e62abcd-b17d-4cbd-aa2e-9bd8d634d672
STATUS:CONFIRMED
LAST-MODIFIED:20221113T105905Z
DESCRIPTION:4. Liga Herren Gruppe 1\nBegegnungs-Nr: 22\nHeim: Steffisburg\nGast: bls Spiez II\n\nAdresse: Sonnenfeldstrasse 10\, 3613 Steffisburg\n
LOCATION:Sonnenfeldstrasse 10\, 3613 Steffisburg
CATEGORIES:Saison 2022/23
END:VEVENT
BEGIN:VEVENT
DTSTAMP:20260421T202638Z
DTSTART;TZID=Europe/Berlin:20221024T193000
DTEND;TZID=Europe/Berlin:20221024T223000
SUMMARY:HE 4. Liga Gr. 1 Heimberg V vs bls Spiez II (14)
UID:f30de81a-7b4b-4b41-9169-38343343f3f1
STATUS:CONFIRMED
LAST-MODIFIED:20221024T212504Z
DESCRIPTION:4. Liga Herren Gruppe 1\nBegegnungs-Nr: 14\nHeim: Heimberg V\nGast: bls Spiez II\n\nAdresse: Schulhausstrasse 20\, 3672 Oberdiessbach\n
LOCATION:Schulhausstrasse 20\, 3672 Oberdiessbach
CATEGORIES:Saison 2022/23
END:VEVENT
BEGIN:VEVENT
DTSTAMP:20260421T202638Z
DTSTART;TZID=Europe/Berlin:20220903T130000
DTEND;TZID=Europe/Berlin:20220903T160000
SUMMARY:HE 4. Liga Gr. 1 Thun IV vs bls Spiez II (5)
UID:a3dd9d1a-dc2e-4acf-83f1-fa0d0e3029ee
STATUS:CONFIRMED
LAST-MODIFIED:20220916T081457Z
DESCRIPTION:4. Liga Herren Gruppe 1\nBegegnungs-Nr: 5\nHeim: Thun IV\nGast: bls Spiez II\n\nAdresse: Hallerstrasse 28\, 3604 Thun\n
LOCATION:Hallerstrasse 28\, 3604 Thun
CATEGORIES:Saison 2022/23
END:VEVENT
BEGIN:VEVENT
DTSTAMP:20260421T202638Z
DTSTART;TZID=Europe/Berlin:20230322T193000
DTEND;TZID=Europe/Berlin:20230322T223000
SUMMARY:HE 4. Liga Gr. 1 Bern V vs bls Spiez II (26)
UID:2427387f-b800-4d65-b03e-ad714a7ae9e8
STATUS:CONFIRMED
LAST-MODIFIED:20230324T232509Z
DESCRIPTION:4. Liga Herren Gruppe 1\nBegegnungs-Nr: 26\nHeim: Bern V\nGast: bls Spiez II\n\nAdresse: Papiermühlestrasse 81\, 3014 Bern\n
LOCATION:Papiermühlestrasse 81\, 3014 Bern
CATEGORIES:Saison 2022/23
END:VEVENT
BEGIN:VEVENT
DTSTAMP:20260421T202638Z
DTSTART;TZID=Europe/Berlin:20230222T200000
DTEND;TZID=Europe/Berlin:20230222T230000
SUMMARY:HE 4. Liga Gr. 1 Langnau III vs bls Spiez II (18)
UID:aa97de83-e88f-4490-9dbb-e6b1944e436e
STATUS:CONFIRMED
LAST-MODIFIED:20230223T101708Z
DESCRIPTION:4. Liga Herren Gruppe 1\nBegegnungs-Nr: 18\nHeim: Langnau III\nGast: bls Spiez II\n\nAdresse: Bleicheweg 11\, 3550 Langnau\n
LOCATION:Bleicheweg 11\, 3550 Langnau
CATEGORIES:Saison 2022/23
END:VEVENT
BEGIN:VEVENT
DTSTAMP:20260421T202638Z
DTSTART;TZID=Europe/Berlin:20221219T200000
DTEND;TZID=Europe/Berlin:20221219T230000
SUMMARY:HE 4. Liga Gr. 1 Interlaken vs bls Spiez II (2)
UID:5ffff1ed-9cd1-41fc-a17b-f33f301f11fe
STATUS:CONFIRMED
LAST-MODIFIED:20221220T134647Z
DESCRIPTION:4. Liga Herren Gruppe 1\nBegegnungs-Nr: 2\nHeim: Interlaken\nGast: bls Spiez II\n\nAdresse: Burgweg 239R\, 3852 Ringgenberg\n
LOCATION:Burgweg 239R\, 3852 Ringgenberg
CATEGORIES:Saison 2022/23
END:VEVENT
BEGIN:VEVENT
DTSTAMP:20260421T202638Z
DTSTART;TZID=Europe/Berlin:20221130T200000
DTEND;TZID=Europe/Berlin:20221130T230000
SUMMARY:HE 4. Liga Gr. 1 Münsingen IV vs bls Spiez II (30)
UID:397e47da-a977-4690-bc6b-c7cbdccb780c
STATUS:CONFIRMED
LAST-MODIFIED:20221203T163937Z
DESCRIPTION:4. Liga Herren Gruppe 1\nBegegnungs-Nr: 30\nHeim: Münsingen IV\nGast: bls Spiez II\n\nAdresse: Turnhallenweg 8\, 3110 Münsingen\n
LOCATION:Turnhallenweg 8\, 3110 Münsingen
CATEGORIES:Saison 2022/23
END:VEVENT
END:VCALENDAR
