BEGIN:VCALENDAR
PRODID:-//nuDatenautomaten//framework iCal4j //DE
VERSION:2.0
CALSCALE:GREGORIAN
BEGIN:VTIMEZONE
TZID:Europe/Berlin
LAST-MODIFIED:20260306T231828Z
TZURL:https://www.tzurl.org/zoneinfo/Europe/Berlin
X-LIC-LOCATION:Europe/Berlin
X-PROLEPTIC-TZNAME:LMT
BEGIN:STANDARD
TZNAME:CET
TZOFFSETFROM:+005328
TZOFFSETTO:+0100
DTSTART:18930401T000000
END:STANDARD
BEGIN:DAYLIGHT
TZNAME:CEST
TZOFFSETFROM:+0100
TZOFFSETTO:+0200
DTSTART:19160430T230000
RDATE:19400401T020000
RDATE:19430329T020000
RDATE:19460414T020000
RDATE:19470406T030000
RDATE:19480418T020000
RDATE:19490410T020000
RDATE:19800406T020000
END:DAYLIGHT
BEGIN:STANDARD
TZNAME:CET
TZOFFSETFROM:+0200
TZOFFSETTO:+0100
DTSTART:19161001T010000
RDATE:19421102T030000
RDATE:19431004T030000
RDATE:19441002T030000
RDATE:19451118T030000
RDATE:19461007T030000
END:STANDARD
BEGIN:DAYLIGHT
TZNAME:CEST
TZOFFSETFROM:+0100
TZOFFSETTO:+0200
DTSTART:19170416T020000
RRULE:FREQ=YEARLY;UNTIL=19180415T010000Z;BYMONTH=4;BYDAY=3MO
END:DAYLIGHT
BEGIN:STANDARD
TZNAME:CET
TZOFFSETFROM:+0200
TZOFFSETTO:+0100
DTSTART:19170917T030000
RRULE:FREQ=YEARLY;UNTIL=19180916T010000Z;BYMONTH=9;BYDAY=3MO
END:STANDARD
BEGIN:DAYLIGHT
TZNAME:CEST
TZOFFSETFROM:+0100
TZOFFSETTO:+0200
DTSTART:19440403T020000
RRULE:FREQ=YEARLY;UNTIL=19450402T010000Z;BYMONTH=4;BYDAY=1MO
END:DAYLIGHT
BEGIN:DAYLIGHT
TZNAME:CEMT
TZOFFSETFROM:+0200
TZOFFSETTO:+0300
DTSTART:19450524T020000
RDATE:19470511T030000
END:DAYLIGHT
BEGIN:DAYLIGHT
TZNAME:CEST
TZOFFSETFROM:+0300
TZOFFSETTO:+0200
DTSTART:19450924T030000
RDATE:19470629T030000
END:DAYLIGHT
BEGIN:STANDARD
TZNAME:CET
TZOFFSETFROM:+0100
TZOFFSETTO:+0100
DTSTART:19460101T000000
RDATE:19800101T000000
END:STANDARD
BEGIN:STANDARD
TZNAME:CET
TZOFFSETFROM:+0200
TZOFFSETTO:+0100
DTSTART:19471005T030000
RRULE:FREQ=YEARLY;UNTIL=19491002T010000Z;BYMONTH=10;BYDAY=1SU
END:STANDARD
BEGIN:STANDARD
TZNAME:CET
TZOFFSETFROM:+0200
TZOFFSETTO:+0100
DTSTART:19800928T030000
RRULE:FREQ=YEARLY;UNTIL=19950924T010000Z;BYMONTH=9;BYDAY=-1SU
END:STANDARD
BEGIN:DAYLIGHT
TZNAME:CEST
TZOFFSETFROM:+0100
TZOFFSETTO:+0200
DTSTART:19810329T020000
RRULE:FREQ=YEARLY;BYMONTH=3;BYDAY=-1SU
END:DAYLIGHT
BEGIN:STANDARD
TZNAME:CET
TZOFFSETFROM:+0200
TZOFFSETTO:+0100
DTSTART:19961027T030000
RRULE:FREQ=YEARLY;BYMONTH=10;BYDAY=-1SU
END:STANDARD
END:VTIMEZONE
BEGIN:VEVENT
DTSTAMP:20260426T033347Z
DTSTART;TZID=Europe/Berlin:20220906T200000
DTEND;TZID=Europe/Berlin:20220906T230000
SUMMARY:HE 5. Liga Gr. 6 Greifensee vs Rapperswil-Jona VII (0)
UID:6230e439-407e-4f25-a11c-7236ae53bd75
STATUS:CONFIRMED
LAST-MODIFIED:20220909T132054Z
DESCRIPTION:5. Liga Herren Gruppe 6\nBegegnungs-Nr: 0\nHeim: Greifensee\nGast: Rapperswil-Jona VII\n\nAdresse: Stationsstrasse\, 8606 Nänikon\n
LOCATION:Stationsstrasse\, 8606 Nänikon
CATEGORIES:Saison 2022/23
END:VEVENT
BEGIN:VEVENT
DTSTAMP:20260426T033347Z
DTSTART;TZID=Europe/Berlin:20220927T200000
DTEND;TZID=Europe/Berlin:20220927T230000
SUMMARY:HE 5. Liga Gr. 6 Greifensee vs Gossau Zuerich II (0)
UID:d5886162-d674-4d46-9c23-988258e684ec
STATUS:CONFIRMED
LAST-MODIFIED:20220928T122653Z
DESCRIPTION:5. Liga Herren Gruppe 6\nBegegnungs-Nr: 0\nHeim: Greifensee\nGast: Gossau Zuerich II\n\nAdresse: Stationsstrasse\, 8606 Nänikon\n
LOCATION:Stationsstrasse\, 8606 Nänikon
CATEGORIES:Saison 2022/23
END:VEVENT
BEGIN:VEVENT
DTSTAMP:20260426T033347Z
DTSTART;TZID=Europe/Berlin:20221115T200000
DTEND;TZID=Europe/Berlin:20221115T230000
SUMMARY:HE 5. Liga Gr. 6 Greifensee vs Uster V (0)
UID:058da1cd-359c-469a-b1f0-f1711bc6c08c
STATUS:CONFIRMED
LAST-MODIFIED:20221118T151855Z
DESCRIPTION:5. Liga Herren Gruppe 6\nBegegnungs-Nr: 0\nHeim: Greifensee\nGast: Uster V\n\nAdresse: Stationsstrasse\, 8606 Nänikon\n
LOCATION:Stationsstrasse\, 8606 Nänikon
CATEGORIES:Saison 2022/23
END:VEVENT
BEGIN:VEVENT
DTSTAMP:20260426T033347Z
DTSTART;TZID=Europe/Berlin:20230110T200000
DTEND;TZID=Europe/Berlin:20230110T230000
SUMMARY:HE 5. Liga Gr. 6 Greifensee vs Wetzikon VII (0)
UID:ef77e425-d86c-4576-b003-edd4a52c2fd5
STATUS:CONFIRMED
LAST-MODIFIED:20230112T112121Z
DESCRIPTION:5. Liga Herren Gruppe 6\nBegegnungs-Nr: 0\nHeim: Greifensee\nGast: Wetzikon VII\n\nAdresse: Stationsstrasse\, 8606 Nänikon\n
LOCATION:Stationsstrasse\, 8606 Nänikon
CATEGORIES:Saison 2022/23
END:VEVENT
BEGIN:VEVENT
DTSTAMP:20260426T033347Z
DTSTART;TZID=Europe/Berlin:20230214T200000
DTEND;TZID=Europe/Berlin:20230214T230000
SUMMARY:HE 5. Liga Gr. 6 Greifensee vs Meilen-Männedorf IV (0)
UID:a7e15649-9bcf-4ef2-bb56-122a2eec914d
STATUS:CONFIRMED
LAST-MODIFIED:20230217T081314Z
DESCRIPTION:5. Liga Herren Gruppe 6\nBegegnungs-Nr: 0\nHeim: Greifensee\nGast: Meilen-Männedorf IV\n\nAdresse: Stationsstrasse\, 8606 Nänikon\n
LOCATION:Stationsstrasse\, 8606 Nänikon
CATEGORIES:Saison 2022/23
END:VEVENT
BEGIN:VEVENT
DTSTAMP:20260426T033347Z
DTSTART;TZID=Europe/Berlin:20230307T200000
DTEND;TZID=Europe/Berlin:20230307T230000
SUMMARY:HE 5. Liga Gr. 6 Greifensee vs Dübendorf-Volketswil IV (0)
UID:fc142485-e54a-4541-be0a-8ce68ff2e9ee
STATUS:CONFIRMED
LAST-MODIFIED:20230309T075216Z
DESCRIPTION:5. Liga Herren Gruppe 6\nBegegnungs-Nr: 0\nHeim: Greifensee\nGast: Dübendorf-Volketswil IV\n\nAdresse: Stationsstrasse\, 8606 Nänikon\n
LOCATION:Stationsstrasse\, 8606 Nänikon
CATEGORIES:Saison 2022/23
END:VEVENT
BEGIN:VEVENT
DTSTAMP:20260426T033347Z
DTSTART;TZID=Europe/Berlin:20221007T194500
DTEND;TZID=Europe/Berlin:20221007T224500
SUMMARY:HE 5. Liga Gr. 6 Wetzikon VII vs Greifensee (0)
UID:50d6af33-ada5-40ac-9596-6addde20e471
STATUS:CONFIRMED
LAST-MODIFIED:20221014T173837Z
DESCRIPTION:5. Liga Herren Gruppe 6\nBegegnungs-Nr: 0\nHeim: Wetzikon VII\nGast: Greifensee\n\nAdresse: Usterstrasse 37\, 8620 Wetzikon\n
LOCATION:Usterstrasse 37\, 8620 Wetzikon
CATEGORIES:Saison 2022/23
END:VEVENT
BEGIN:VEVENT
DTSTAMP:20260426T033347Z
DTSTART;TZID=Europe/Berlin:20220922T194500
DTEND;TZID=Europe/Berlin:20220922T224500
SUMMARY:HE 5. Liga Gr. 6 Meilen-Männedorf IV vs Greifensee (0)
UID:54d04292-997b-4a95-abea-3aa902de0d10
STATUS:CONFIRMED
LAST-MODIFIED:20220923T144532Z
DESCRIPTION:5. Liga Herren Gruppe 6\nBegegnungs-Nr: 0\nHeim: Meilen-Männedorf IV\nGast: Greifensee\n\nAdresse: Schulhausstr. 27\, 8706 Meilen\n
LOCATION:Schulhausstr. 27\, 8706 Meilen
CATEGORIES:Saison 2022/23
END:VEVENT
BEGIN:VEVENT
DTSTAMP:20260426T033347Z
DTSTART;TZID=Europe/Berlin:20221103T194500
DTEND;TZID=Europe/Berlin:20221103T224500
SUMMARY:HE 5. Liga Gr. 6 Dübendorf-Volketswil IV vs Greifensee (0)
UID:3da7134f-5f8e-4faa-b424-774a6f5a022e
STATUS:CONFIRMED
LAST-MODIFIED:20221108T162350Z
DESCRIPTION:5. Liga Herren Gruppe 6\nBegegnungs-Nr: 0\nHeim: Dübendorf-Volketswil IV\nGast: Greifensee\n\nAdresse: Wasserfurrenstrasse 7\, 8600 Dübendorf\n
LOCATION:Wasserfurrenstrasse 7\, 8600 Dübendorf
CATEGORIES:Saison 2022/23
END:VEVENT
BEGIN:VEVENT
DTSTAMP:20260426T033347Z
DTSTART;TZID=Europe/Berlin:20230126T200000
DTEND;TZID=Europe/Berlin:20230126T230000
SUMMARY:HE 5. Liga Gr. 6 Rapperswil-Jona VII vs Greifensee (0)
UID:64ed0671-863f-486f-a20d-de2288a80c77
STATUS:CONFIRMED
LAST-MODIFIED:20230127T162623Z
DESCRIPTION:5. Liga Herren Gruppe 6\nBegegnungs-Nr: 0\nHeim: Rapperswil-Jona VII\nGast: Greifensee\n\nAdresse: Holzwiesstrasse 39\, 8645 Jona\n
LOCATION:Holzwiesstrasse 39\, 8645 Jona
CATEGORIES:Saison 2022/23
END:VEVENT
BEGIN:VEVENT
DTSTAMP:20260426T033347Z
DTSTART;TZID=Europe/Berlin:20230206T201500
DTEND;TZID=Europe/Berlin:20230206T231500
SUMMARY:HE 5. Liga Gr. 6 Gossau Zuerich II vs Greifensee (0)
UID:7db79b36-e1a4-4201-98fe-bfb2fed9cb4d
STATUS:CONFIRMED
LAST-MODIFIED:20230209T113437Z
DESCRIPTION:5. Liga Herren Gruppe 6\nBegegnungs-Nr: 0\nHeim: Gossau Zuerich II\nGast: Greifensee\n\nAdresse: Schulstrasse\, 8624 Grüt-Gossau\n
LOCATION:Schulstrasse\, 8624 Grüt-Gossau
CATEGORIES:Saison 2022/23
END:VEVENT
BEGIN:VEVENT
DTSTAMP:20260426T033347Z
DTSTART;TZID=Europe/Berlin:20230317T201500
DTEND;TZID=Europe/Berlin:20230317T231500
SUMMARY:HE 5. Liga Gr. 6 Uster V vs Greifensee (0)
UID:8727fdf4-3f3c-437f-b738-8c02e18e16fe
STATUS:CONFIRMED
LAST-MODIFIED:20230328T074200Z
DESCRIPTION:5. Liga Herren Gruppe 6\nBegegnungs-Nr: 0\nHeim: Uster V\nGast: Greifensee\n\nAdresse: Wilstrasse 30 / Zürcherstrasse\, 8610 Uster\n
LOCATION:Wilstrasse 30 / Zürcherstrasse\, 8610 Uster
CATEGORIES:Saison 2022/23
END:VEVENT
END:VCALENDAR
