BEGIN:VCALENDAR
PRODID:-//nuDatenautomaten//framework iCal4j //DE
VERSION:2.0
CALSCALE:GREGORIAN
BEGIN:VTIMEZONE
TZID:Europe/Berlin
LAST-MODIFIED:20260306T231828Z
TZURL:https://www.tzurl.org/zoneinfo/Europe/Berlin
X-LIC-LOCATION:Europe/Berlin
X-PROLEPTIC-TZNAME:LMT
BEGIN:STANDARD
TZNAME:CET
TZOFFSETFROM:+005328
TZOFFSETTO:+0100
DTSTART:18930401T000000
END:STANDARD
BEGIN:DAYLIGHT
TZNAME:CEST
TZOFFSETFROM:+0100
TZOFFSETTO:+0200
DTSTART:19160430T230000
RDATE:19400401T020000
RDATE:19430329T020000
RDATE:19460414T020000
RDATE:19470406T030000
RDATE:19480418T020000
RDATE:19490410T020000
RDATE:19800406T020000
END:DAYLIGHT
BEGIN:STANDARD
TZNAME:CET
TZOFFSETFROM:+0200
TZOFFSETTO:+0100
DTSTART:19161001T010000
RDATE:19421102T030000
RDATE:19431004T030000
RDATE:19441002T030000
RDATE:19451118T030000
RDATE:19461007T030000
END:STANDARD
BEGIN:DAYLIGHT
TZNAME:CEST
TZOFFSETFROM:+0100
TZOFFSETTO:+0200
DTSTART:19170416T020000
RRULE:FREQ=YEARLY;UNTIL=19180415T010000Z;BYMONTH=4;BYDAY=3MO
END:DAYLIGHT
BEGIN:STANDARD
TZNAME:CET
TZOFFSETFROM:+0200
TZOFFSETTO:+0100
DTSTART:19170917T030000
RRULE:FREQ=YEARLY;UNTIL=19180916T010000Z;BYMONTH=9;BYDAY=3MO
END:STANDARD
BEGIN:DAYLIGHT
TZNAME:CEST
TZOFFSETFROM:+0100
TZOFFSETTO:+0200
DTSTART:19440403T020000
RRULE:FREQ=YEARLY;UNTIL=19450402T010000Z;BYMONTH=4;BYDAY=1MO
END:DAYLIGHT
BEGIN:DAYLIGHT
TZNAME:CEMT
TZOFFSETFROM:+0200
TZOFFSETTO:+0300
DTSTART:19450524T020000
RDATE:19470511T030000
END:DAYLIGHT
BEGIN:DAYLIGHT
TZNAME:CEST
TZOFFSETFROM:+0300
TZOFFSETTO:+0200
DTSTART:19450924T030000
RDATE:19470629T030000
END:DAYLIGHT
BEGIN:STANDARD
TZNAME:CET
TZOFFSETFROM:+0100
TZOFFSETTO:+0100
DTSTART:19460101T000000
RDATE:19800101T000000
END:STANDARD
BEGIN:STANDARD
TZNAME:CET
TZOFFSETFROM:+0200
TZOFFSETTO:+0100
DTSTART:19471005T030000
RRULE:FREQ=YEARLY;UNTIL=19491002T010000Z;BYMONTH=10;BYDAY=1SU
END:STANDARD
BEGIN:STANDARD
TZNAME:CET
TZOFFSETFROM:+0200
TZOFFSETTO:+0100
DTSTART:19800928T030000
RRULE:FREQ=YEARLY;UNTIL=19950924T010000Z;BYMONTH=9;BYDAY=-1SU
END:STANDARD
BEGIN:DAYLIGHT
TZNAME:CEST
TZOFFSETFROM:+0100
TZOFFSETTO:+0200
DTSTART:19810329T020000
RRULE:FREQ=YEARLY;BYMONTH=3;BYDAY=-1SU
END:DAYLIGHT
BEGIN:STANDARD
TZNAME:CET
TZOFFSETFROM:+0200
TZOFFSETTO:+0100
DTSTART:19961027T030000
RRULE:FREQ=YEARLY;BYMONTH=10;BYDAY=-1SU
END:STANDARD
END:VTIMEZONE
BEGIN:VEVENT
DTSTAMP:20260426T033241Z
DTSTART;TZID=Europe/Berlin:20230228T200000
DTEND;TZID=Europe/Berlin:20230228T230000
SUMMARY:O40 3. Liga Gr. 1 Gossau St.Gallen vs Ettenhausen (0)
UID:37a66df1-9735-45ec-ae88-5c4593798f03
STATUS:CONFIRMED
LAST-MODIFIED:20230302T155211Z
DESCRIPTION:3. Liga O40 Gruppe 1\nBegegnungs-Nr: 0\nHeim: Gossau St.Gallen\nGast: Ettenhausen\n\nAdresse: Falkenstrasse 21\, 9200 Gossau\n
LOCATION:Falkenstrasse 21\, 9200 Gossau
CATEGORIES:Saison 2022/23
END:VEVENT
BEGIN:VEVENT
DTSTAMP:20260426T033241Z
DTSTART;TZID=Europe/Berlin:20220823T200000
DTEND;TZID=Europe/Berlin:20220823T230000
SUMMARY:O40 3. Liga Gr. 1 Gossau St.Gallen vs St. Gallen II (0)
UID:c8c5b3ab-a199-44b0-99cd-f5ea933cae45
STATUS:CONFIRMED
LAST-MODIFIED:20220825T071537Z
DESCRIPTION:3. Liga O40 Gruppe 1\nBegegnungs-Nr: 0\nHeim: Gossau St.Gallen\nGast: St. Gallen II\n\nAdresse: Falkenstrasse 21\, 9200 Gossau\n
LOCATION:Falkenstrasse 21\, 9200 Gossau
CATEGORIES:Saison 2022/23
END:VEVENT
BEGIN:VEVENT
DTSTAMP:20260426T033241Z
DTSTART;TZID=Europe/Berlin:20221025T200000
DTEND;TZID=Europe/Berlin:20221025T230000
SUMMARY:O40 3. Liga Gr. 1 Gossau St.Gallen vs Wuppenau (0)
UID:3e801de7-2c61-4c6a-b040-f2adcb36696b
STATUS:CONFIRMED
LAST-MODIFIED:20221101T091842Z
DESCRIPTION:3. Liga O40 Gruppe 1\nBegegnungs-Nr: 0\nHeim: Gossau St.Gallen\nGast: Wuppenau\n\nAdresse: Falkenstrasse 21\, 9200 Gossau\n
LOCATION:Falkenstrasse 21\, 9200 Gossau
CATEGORIES:Saison 2022/23
END:VEVENT
BEGIN:VEVENT
DTSTAMP:20260426T033241Z
DTSTART;TZID=Europe/Berlin:20221206T200000
DTEND;TZID=Europe/Berlin:20221206T230000
SUMMARY:O40 3. Liga Gr. 1 Gossau St.Gallen vs Wallenwil (0)
UID:5554f436-79e8-491a-b910-8a63b00ad4f1
STATUS:CONFIRMED
LAST-MODIFIED:20221208T121738Z
DESCRIPTION:3. Liga O40 Gruppe 1\nBegegnungs-Nr: 0\nHeim: Gossau St.Gallen\nGast: Wallenwil\n\nAdresse: Falkenstrasse 21\, 9200 Gossau\n
LOCATION:Falkenstrasse 21\, 9200 Gossau
CATEGORIES:Saison 2022/23
END:VEVENT
BEGIN:VEVENT
DTSTAMP:20260426T033241Z
DTSTART;TZID=Europe/Berlin:20230117T200000
DTEND;TZID=Europe/Berlin:20230117T230000
SUMMARY:O40 3. Liga Gr. 1 Gossau St.Gallen vs Horn (0)
UID:8e544f45-05b1-4fca-8ec2-1857121a0ec8
STATUS:CONFIRMED
LAST-MODIFIED:20230127T163630Z
DESCRIPTION:3. Liga O40 Gruppe 1\nBegegnungs-Nr: 0\nHeim: Gossau St.Gallen\nGast: Horn\n\nAdresse: Falkenstrasse 21\, 9200 Gossau\n
LOCATION:Falkenstrasse 21\, 9200 Gossau
CATEGORIES:Saison 2022/23
END:VEVENT
BEGIN:VEVENT
DTSTAMP:20260426T033241Z
DTSTART;TZID=Europe/Berlin:20230404T200000
DTEND;TZID=Europe/Berlin:20230404T230000
SUMMARY:O40 3. Liga Gr. 1 Gossau St.Gallen vs Rorschach (0)
UID:97287b5f-a6c6-47f6-adb5-d06eb5c2a319
STATUS:CONFIRMED
LAST-MODIFIED:20230405T121359Z
DESCRIPTION:3. Liga O40 Gruppe 1\nBegegnungs-Nr: 0\nHeim: Gossau St.Gallen\nGast: Rorschach\n\nAdresse: Falkenstrasse 21\, 9200 Gossau\n
LOCATION:Falkenstrasse 21\, 9200 Gossau
CATEGORIES:Saison 2022/23
END:VEVENT
BEGIN:VEVENT
DTSTAMP:20260426T033241Z
DTSTART;TZID=Europe/Berlin:20230324T200000
DTEND;TZID=Europe/Berlin:20230324T230000
SUMMARY:O40 3. Liga Gr. 1 Wuppenau vs Gossau St.Gallen (0)
UID:265139c1-60c3-4358-9b75-7c23cd5c80cd
STATUS:CONFIRMED
LAST-MODIFIED:20230328T102107Z
DESCRIPTION:3. Liga O40 Gruppe 1\nBegegnungs-Nr: 0\nHeim: Wuppenau\nGast: Gossau St.Gallen\n\nAdresse: Nollenstrasse\, 9514 Wuppenau\n
LOCATION:Nollenstrasse\, 9514 Wuppenau
CATEGORIES:Saison 2022/23
END:VEVENT
BEGIN:VEVENT
DTSTAMP:20260426T033241Z
DTSTART;TZID=Europe/Berlin:20220816T200000
DTEND;TZID=Europe/Berlin:20220816T230000
SUMMARY:O40 3. Liga Gr. 1 Horn vs Gossau St.Gallen (0)
UID:8ff74653-81dc-422b-8282-31a87aff18bf
STATUS:CONFIRMED
LAST-MODIFIED:20220818T065653Z
DESCRIPTION:3. Liga O40 Gruppe 1\nBegegnungs-Nr: 0\nHeim: Horn\nGast: Gossau St.Gallen\n\nAdresse: Feldstrasse 16\, 9326 Horn\n
LOCATION:Feldstrasse 16\, 9326 Horn
CATEGORIES:Saison 2022/23
END:VEVENT
BEGIN:VEVENT
DTSTAMP:20260426T033241Z
DTSTART;TZID=Europe/Berlin:20220917T113000
DTEND;TZID=Europe/Berlin:20220917T143000
SUMMARY:O40 3. Liga Gr. 1 Ettenhausen vs Gossau St.Gallen (0)
UID:1be1434f-a5bd-4aba-ac46-539cf4ab3fc3
STATUS:CONFIRMED
LAST-MODIFIED:20220923T145713Z
DESCRIPTION:3. Liga O40 Gruppe 1\nBegegnungs-Nr: 0\nHeim: Ettenhausen\nGast: Gossau St.Gallen\n\nAdresse: Weidlistrasse 12\, 8356 Ettenhausen\n
LOCATION:Weidlistrasse 12\, 8356 Ettenhausen
CATEGORIES:Saison 2022/23
END:VEVENT
BEGIN:VEVENT
DTSTAMP:20260426T033241Z
DTSTART;TZID=Europe/Berlin:20221125T200000
DTEND;TZID=Europe/Berlin:20221125T230000
SUMMARY:O40 3. Liga Gr. 1 Rorschach vs Gossau St.Gallen (0)
UID:66e018dc-a787-489b-8473-7e0497cdf875
STATUS:CONFIRMED
LAST-MODIFIED:20221128T150103Z
DESCRIPTION:3. Liga O40 Gruppe 1\nBegegnungs-Nr: 0\nHeim: Rorschach\nGast: Gossau St.Gallen\n\nAdresse: Mariabergstrasse 33\, 9400 Rorschach\n
LOCATION:Mariabergstrasse 33\, 9400 Rorschach
CATEGORIES:Saison 2022/23
END:VEVENT
BEGIN:VEVENT
DTSTAMP:20260426T033241Z
DTSTART;TZID=Europe/Berlin:20230203T200000
DTEND;TZID=Europe/Berlin:20230203T230000
SUMMARY:O40 3. Liga Gr. 1 St. Gallen II vs Gossau St.Gallen (0)
UID:d20d868e-f24e-4e78-b4a3-682c02a06c0c
STATUS:CONFIRMED
LAST-MODIFIED:20220825T072442Z
DESCRIPTION:3. Liga O40 Gruppe 1\nBegegnungs-Nr: 0\nHeim: St. Gallen II\nGast: Gossau St.Gallen\n\nAdresse: Zilstrasse 61\, 9016 St.Gallen\n
LOCATION:Zilstrasse 61\, 9016 St.Gallen
CATEGORIES:Saison 2022/23
END:VEVENT
BEGIN:VEVENT
DTSTAMP:20260426T033241Z
DTSTART;TZID=Europe/Berlin:20230413T201500
DTEND;TZID=Europe/Berlin:20230413T231500
SUMMARY:O40 3. Liga Gr. 1 Wallenwil vs Gossau St.Gallen (0)
UID:183b99f8-8389-43b1-b63a-d7fe7e19747e
STATUS:CONFIRMED
LAST-MODIFIED:20230420T095912Z
DESCRIPTION:3. Liga O40 Gruppe 1\nBegegnungs-Nr: 0\nHeim: Wallenwil\nGast: Gossau St.Gallen\n\nAdresse: Stationsstrasse 29\, 8360 Wallenwil\n
LOCATION:Stationsstrasse 29\, 8360 Wallenwil
CATEGORIES:Saison 2022/23
END:VEVENT
END:VCALENDAR
