BEGIN:VCALENDAR
PRODID:-//nuDatenautomaten//framework iCal4j //DE
VERSION:2.0
CALSCALE:GREGORIAN
BEGIN:VTIMEZONE
TZID:Europe/Berlin
LAST-MODIFIED:20260306T231828Z
TZURL:https://www.tzurl.org/zoneinfo/Europe/Berlin
X-LIC-LOCATION:Europe/Berlin
X-PROLEPTIC-TZNAME:LMT
BEGIN:STANDARD
TZNAME:CET
TZOFFSETFROM:+005328
TZOFFSETTO:+0100
DTSTART:18930401T000000
END:STANDARD
BEGIN:DAYLIGHT
TZNAME:CEST
TZOFFSETFROM:+0100
TZOFFSETTO:+0200
DTSTART:19160430T230000
RDATE:19400401T020000
RDATE:19430329T020000
RDATE:19460414T020000
RDATE:19470406T030000
RDATE:19480418T020000
RDATE:19490410T020000
RDATE:19800406T020000
END:DAYLIGHT
BEGIN:STANDARD
TZNAME:CET
TZOFFSETFROM:+0200
TZOFFSETTO:+0100
DTSTART:19161001T010000
RDATE:19421102T030000
RDATE:19431004T030000
RDATE:19441002T030000
RDATE:19451118T030000
RDATE:19461007T030000
END:STANDARD
BEGIN:DAYLIGHT
TZNAME:CEST
TZOFFSETFROM:+0100
TZOFFSETTO:+0200
DTSTART:19170416T020000
RRULE:FREQ=YEARLY;UNTIL=19180415T010000Z;BYMONTH=4;BYDAY=3MO
END:DAYLIGHT
BEGIN:STANDARD
TZNAME:CET
TZOFFSETFROM:+0200
TZOFFSETTO:+0100
DTSTART:19170917T030000
RRULE:FREQ=YEARLY;UNTIL=19180916T010000Z;BYMONTH=9;BYDAY=3MO
END:STANDARD
BEGIN:DAYLIGHT
TZNAME:CEST
TZOFFSETFROM:+0100
TZOFFSETTO:+0200
DTSTART:19440403T020000
RRULE:FREQ=YEARLY;UNTIL=19450402T010000Z;BYMONTH=4;BYDAY=1MO
END:DAYLIGHT
BEGIN:DAYLIGHT
TZNAME:CEMT
TZOFFSETFROM:+0200
TZOFFSETTO:+0300
DTSTART:19450524T020000
RDATE:19470511T030000
END:DAYLIGHT
BEGIN:DAYLIGHT
TZNAME:CEST
TZOFFSETFROM:+0300
TZOFFSETTO:+0200
DTSTART:19450924T030000
RDATE:19470629T030000
END:DAYLIGHT
BEGIN:STANDARD
TZNAME:CET
TZOFFSETFROM:+0100
TZOFFSETTO:+0100
DTSTART:19460101T000000
RDATE:19800101T000000
END:STANDARD
BEGIN:STANDARD
TZNAME:CET
TZOFFSETFROM:+0200
TZOFFSETTO:+0100
DTSTART:19471005T030000
RRULE:FREQ=YEARLY;UNTIL=19491002T010000Z;BYMONTH=10;BYDAY=1SU
END:STANDARD
BEGIN:STANDARD
TZNAME:CET
TZOFFSETFROM:+0200
TZOFFSETTO:+0100
DTSTART:19800928T030000
RRULE:FREQ=YEARLY;UNTIL=19950924T010000Z;BYMONTH=9;BYDAY=-1SU
END:STANDARD
BEGIN:DAYLIGHT
TZNAME:CEST
TZOFFSETFROM:+0100
TZOFFSETTO:+0200
DTSTART:19810329T020000
RRULE:FREQ=YEARLY;BYMONTH=3;BYDAY=-1SU
END:DAYLIGHT
BEGIN:STANDARD
TZNAME:CET
TZOFFSETFROM:+0200
TZOFFSETTO:+0100
DTSTART:19961027T030000
RRULE:FREQ=YEARLY;BYMONTH=10;BYDAY=-1SU
END:STANDARD
END:VTIMEZONE
BEGIN:VEVENT
DTSTAMP:20260426T033327Z
DTSTART;TZID=Europe/Berlin:20221003T193000
DTEND;TZID=Europe/Berlin:20221003T223000
SUMMARY:O40 2. Liga Gr. 2 Pinguin Zürich vs Flums (0)
UID:8bb63a2a-5e83-477b-b8df-d836ca03fdda
STATUS:CONFIRMED
LAST-MODIFIED:20221014T175233Z
DESCRIPTION:2. Liga O40 Gruppe 2\nBegegnungs-Nr: 0\nHeim: Pinguin Zürich\nGast: Flums\n\nAdresse: Basteiplatz\, 8001 Zürich\n
LOCATION:Basteiplatz\, 8001 Zürich
CATEGORIES:Saison 2022/23
END:VEVENT
BEGIN:VEVENT
DTSTAMP:20260426T033327Z
DTSTART;TZID=Europe/Berlin:20221114T193000
DTEND;TZID=Europe/Berlin:20221114T223000
SUMMARY:O40 2. Liga Gr. 2 Pinguin Zürich vs Rapperswil-Jona (0)
UID:e5259f7d-cbb2-41db-b0fa-e9446004ccaa
STATUS:CONFIRMED
LAST-MODIFIED:20221118T153126Z
DESCRIPTION:2. Liga O40 Gruppe 2\nBegegnungs-Nr: 0\nHeim: Pinguin Zürich\nGast: Rapperswil-Jona\n\nAdresse: Basteiplatz\, 8001 Zürich\n
LOCATION:Basteiplatz\, 8001 Zürich
CATEGORIES:Saison 2022/23
END:VEVENT
BEGIN:VEVENT
DTSTAMP:20260426T033327Z
DTSTART;TZID=Europe/Berlin:20221121T193000
DTEND;TZID=Europe/Berlin:20221121T223000
SUMMARY:O40 2. Liga Gr. 2 Pinguin Zürich vs Zürich-Affoltern II (0)
UID:f3d27353-6e10-40a4-a5c1-8cc973027468
STATUS:CONFIRMED
LAST-MODIFIED:20221128T144950Z
DESCRIPTION:2. Liga O40 Gruppe 2\nBegegnungs-Nr: 0\nHeim: Pinguin Zürich\nGast: Zürich-Affoltern II\n\nAdresse: Basteiplatz\, 8001 Zürich\n
LOCATION:Basteiplatz\, 8001 Zürich
CATEGORIES:Saison 2022/23
END:VEVENT
BEGIN:VEVENT
DTSTAMP:20260426T033327Z
DTSTART;TZID=Europe/Berlin:20230320T193000
DTEND;TZID=Europe/Berlin:20230320T223000
SUMMARY:O40 2. Liga Gr. 2 Pinguin Zürich vs Bülach (0)
UID:984e5186-340b-495d-b1e6-d0fe88eb7908
STATUS:CONFIRMED
LAST-MODIFIED:20230328T102038Z
DESCRIPTION:2. Liga O40 Gruppe 2\nBegegnungs-Nr: 0\nHeim: Pinguin Zürich\nGast: Bülach\n\nAdresse: Basteiplatz\, 8001 Zürich\n
LOCATION:Basteiplatz\, 8001 Zürich
CATEGORIES:Saison 2022/23
END:VEVENT
BEGIN:VEVENT
DTSTAMP:20260426T033327Z
DTSTART;TZID=Europe/Berlin:20221212T193000
DTEND;TZID=Europe/Berlin:20221212T223000
SUMMARY:O40 2. Liga Gr. 2 Pinguin Zürich vs Affoltern A/A (0)
UID:6afae323-28d9-4d48-8ca1-3a5598deed02
STATUS:CONFIRMED
LAST-MODIFIED:20221215T090011Z
DESCRIPTION:2. Liga O40 Gruppe 2\nBegegnungs-Nr: 0\nHeim: Pinguin Zürich\nGast: Affoltern A/A\n\nAdresse: Basteiplatz\, 8001 Zürich\n
LOCATION:Basteiplatz\, 8001 Zürich
CATEGORIES:Saison 2022/23
END:VEVENT
BEGIN:VEVENT
DTSTAMP:20260426T033327Z
DTSTART;TZID=Europe/Berlin:20230414T193000
DTEND;TZID=Europe/Berlin:20230414T223000
SUMMARY:O40 2. Liga Gr. 2 Pinguin Zürich vs Embrachertal (0)
UID:51a184de-2614-4eb2-948b-6356d0b9fbb6
STATUS:CONFIRMED
LAST-MODIFIED:20230420T091350Z
DESCRIPTION:2. Liga O40 Gruppe 2\nBegegnungs-Nr: 0\nHeim: Pinguin Zürich\nGast: Embrachertal\n\nAdresse: Basteiplatz\, 8001 Zürich\n
LOCATION:Basteiplatz\, 8001 Zürich
CATEGORIES:Saison 2022/23
END:VEVENT
BEGIN:VEVENT
DTSTAMP:20260426T033327Z
DTSTART;TZID=Europe/Berlin:20221027T201500
DTEND;TZID=Europe/Berlin:20221027T231500
SUMMARY:O40 2. Liga Gr. 2 Bülach vs Pinguin Zürich (0)
UID:726e286b-5300-4680-b8c7-ed4c8b9af56d
STATUS:CONFIRMED
LAST-MODIFIED:20221101T091753Z
DESCRIPTION:2. Liga O40 Gruppe 2\nBegegnungs-Nr: 0\nHeim: Bülach\nGast: Pinguin Zürich\n\nAdresse: Unterweg 51\, 8180 Bülach\n
LOCATION:Unterweg 51\, 8180 Bülach
CATEGORIES:Saison 2022/23
END:VEVENT
BEGIN:VEVENT
DTSTAMP:20260426T033327Z
DTSTART;TZID=Europe/Berlin:20230405T193000
DTEND;TZID=Europe/Berlin:20230405T223000
SUMMARY:O40 2. Liga Gr. 2 Zürich-Affoltern II vs Pinguin Zürich (0)
UID:4332e09b-55ca-4085-b9de-8dce3d89a5fc
STATUS:CONFIRMED
LAST-MODIFIED:20230501T053522Z
DESCRIPTION:2. Liga O40 Gruppe 2\nBegegnungs-Nr: 0\nHeim: Zürich-Affoltern II\nGast: Pinguin Zürich\n\nAdresse: Fronwaldstr.115\, 8046 Zürich\n
LOCATION:Fronwaldstr.115\, 8046 Zürich
CATEGORIES:Saison 2022/23
END:VEVENT
BEGIN:VEVENT
DTSTAMP:20260426T033327Z
DTSTART;TZID=Europe/Berlin:20230303T193000
DTEND;TZID=Europe/Berlin:20230303T223000
SUMMARY:O40 2. Liga Gr. 2 Rapperswil-Jona vs Pinguin Zürich (0)
UID:852466f3-e80e-4c18-8f9a-1a92388e58af
STATUS:CONFIRMED
LAST-MODIFIED:20230307T122215Z
DESCRIPTION:2. Liga O40 Gruppe 2\nBegegnungs-Nr: 0\nHeim: Rapperswil-Jona\nGast: Pinguin Zürich\n\nAdresse: Kreuzstrasse 43\, 8640 Rapperswil\n
LOCATION:Kreuzstrasse 43\, 8640 Rapperswil
CATEGORIES:Saison 2022/23
END:VEVENT
BEGIN:VEVENT
DTSTAMP:20260426T033327Z
DTSTART;TZID=Europe/Berlin:20230209T194500
DTEND;TZID=Europe/Berlin:20230209T224500
SUMMARY:O40 2. Liga Gr. 2 Affoltern A/A vs Pinguin Zürich (0)
UID:2eb13ed2-a4c1-4973-81cb-322e31e2c510
STATUS:CONFIRMED
LAST-MODIFIED:20230210T101258Z
DESCRIPTION:2. Liga O40 Gruppe 2\nBegegnungs-Nr: 0\nHeim: Affoltern A/A\nGast: Pinguin Zürich\n\nAdresse: Butzenstrasse 8\, 8910 Affoltern am Albis\n
LOCATION:Butzenstrasse 8\, 8910 Affoltern am Albis
CATEGORIES:Saison 2022/23
END:VEVENT
BEGIN:VEVENT
DTSTAMP:20260426T033327Z
DTSTART;TZID=Europe/Berlin:20230119T201500
DTEND;TZID=Europe/Berlin:20230119T231500
SUMMARY:O40 2. Liga Gr. 2 Flums vs Pinguin Zürich (0)
UID:71d84eb4-47c8-4230-9fb8-687a12cdd170
STATUS:CONFIRMED
LAST-MODIFIED:20230127T163555Z
DESCRIPTION:2. Liga O40 Gruppe 2\nBegegnungs-Nr: 0\nHeim: Flums\nGast: Pinguin Zürich\n\nAdresse: Bergstrasse\, 8890 Flums\n
LOCATION:Bergstrasse\, 8890 Flums
CATEGORIES:Saison 2022/23
END:VEVENT
BEGIN:VEVENT
DTSTAMP:20260426T033327Z
DTSTART;TZID=Europe/Berlin:20221206T200000
DTEND;TZID=Europe/Berlin:20221206T230000
SUMMARY:O40 2. Liga Gr. 2 Embrachertal vs Pinguin Zürich (0)
UID:2b251eb4-e112-46ac-92b3-da5fa283716c
STATUS:CONFIRMED
LAST-MODIFIED:20221208T121716Z
DESCRIPTION:2. Liga O40 Gruppe 2\nBegegnungs-Nr: 0\nHeim: Embrachertal\nGast: Pinguin Zürich\n\nAdresse: Hintermarchlenstrasse 31 + 33\, 8426 Lufingen\n
LOCATION:Hintermarchlenstrasse 31 + 33\, 8426 Lufingen
CATEGORIES:Saison 2022/23
END:VEVENT
END:VCALENDAR
