BEGIN:VCALENDAR
PRODID:-//nuDatenautomaten//framework iCal4j //DE
VERSION:2.0
CALSCALE:GREGORIAN
BEGIN:VTIMEZONE
TZID:Europe/Berlin
LAST-MODIFIED:20260306T231828Z
TZURL:https://www.tzurl.org/zoneinfo/Europe/Berlin
X-LIC-LOCATION:Europe/Berlin
X-PROLEPTIC-TZNAME:LMT
BEGIN:STANDARD
TZNAME:CET
TZOFFSETFROM:+005328
TZOFFSETTO:+0100
DTSTART:18930401T000000
END:STANDARD
BEGIN:DAYLIGHT
TZNAME:CEST
TZOFFSETFROM:+0100
TZOFFSETTO:+0200
DTSTART:19160430T230000
RDATE:19400401T020000
RDATE:19430329T020000
RDATE:19460414T020000
RDATE:19470406T030000
RDATE:19480418T020000
RDATE:19490410T020000
RDATE:19800406T020000
END:DAYLIGHT
BEGIN:STANDARD
TZNAME:CET
TZOFFSETFROM:+0200
TZOFFSETTO:+0100
DTSTART:19161001T010000
RDATE:19421102T030000
RDATE:19431004T030000
RDATE:19441002T030000
RDATE:19451118T030000
RDATE:19461007T030000
END:STANDARD
BEGIN:DAYLIGHT
TZNAME:CEST
TZOFFSETFROM:+0100
TZOFFSETTO:+0200
DTSTART:19170416T020000
RRULE:FREQ=YEARLY;UNTIL=19180415T010000Z;BYMONTH=4;BYDAY=3MO
END:DAYLIGHT
BEGIN:STANDARD
TZNAME:CET
TZOFFSETFROM:+0200
TZOFFSETTO:+0100
DTSTART:19170917T030000
RRULE:FREQ=YEARLY;UNTIL=19180916T010000Z;BYMONTH=9;BYDAY=3MO
END:STANDARD
BEGIN:DAYLIGHT
TZNAME:CEST
TZOFFSETFROM:+0100
TZOFFSETTO:+0200
DTSTART:19440403T020000
RRULE:FREQ=YEARLY;UNTIL=19450402T010000Z;BYMONTH=4;BYDAY=1MO
END:DAYLIGHT
BEGIN:DAYLIGHT
TZNAME:CEMT
TZOFFSETFROM:+0200
TZOFFSETTO:+0300
DTSTART:19450524T020000
RDATE:19470511T030000
END:DAYLIGHT
BEGIN:DAYLIGHT
TZNAME:CEST
TZOFFSETFROM:+0300
TZOFFSETTO:+0200
DTSTART:19450924T030000
RDATE:19470629T030000
END:DAYLIGHT
BEGIN:STANDARD
TZNAME:CET
TZOFFSETFROM:+0100
TZOFFSETTO:+0100
DTSTART:19460101T000000
RDATE:19800101T000000
END:STANDARD
BEGIN:STANDARD
TZNAME:CET
TZOFFSETFROM:+0200
TZOFFSETTO:+0100
DTSTART:19471005T030000
RRULE:FREQ=YEARLY;UNTIL=19491002T010000Z;BYMONTH=10;BYDAY=1SU
END:STANDARD
BEGIN:STANDARD
TZNAME:CET
TZOFFSETFROM:+0200
TZOFFSETTO:+0100
DTSTART:19800928T030000
RRULE:FREQ=YEARLY;UNTIL=19950924T010000Z;BYMONTH=9;BYDAY=-1SU
END:STANDARD
BEGIN:DAYLIGHT
TZNAME:CEST
TZOFFSETFROM:+0100
TZOFFSETTO:+0200
DTSTART:19810329T020000
RRULE:FREQ=YEARLY;BYMONTH=3;BYDAY=-1SU
END:DAYLIGHT
BEGIN:STANDARD
TZNAME:CET
TZOFFSETFROM:+0200
TZOFFSETTO:+0100
DTSTART:19961027T030000
RRULE:FREQ=YEARLY;BYMONTH=10;BYDAY=-1SU
END:STANDARD
END:VTIMEZONE
BEGIN:VEVENT
DTSTAMP:20260421T202802Z
DTSTART;TZID=Europe/Berlin:20220822T193000
DTEND;TZID=Europe/Berlin:20220822T223000
SUMMARY:HE 4. Liga Gr. 1 Bern V vs Langnau III (3)
UID:d91237fc-5789-4b2e-9e95-e1163a5b6f55
STATUS:CONFIRMED
LAST-MODIFIED:20220829T120655Z
DESCRIPTION:4. Liga Herren Gruppe 1\nBegegnungs-Nr: 3\nHeim: Bern V\nGast: Langnau III\n\nAdresse: Mädergutstrasse 58\, 3018 Bern\n
LOCATION:Mädergutstrasse 58\, 3018 Bern
CATEGORIES:Saison 2022/23
END:VEVENT
BEGIN:VEVENT
DTSTAMP:20260421T202802Z
DTSTART;TZID=Europe/Berlin:20221214T193000
DTEND;TZID=Europe/Berlin:20221214T223000
SUMMARY:HE 4. Liga Gr. 1 Bern V vs Steffisburg (34)
UID:b332c324-fe75-4421-b5a1-e9b360401605
STATUS:CONFIRMED
LAST-MODIFIED:20221215T092418Z
DESCRIPTION:4. Liga Herren Gruppe 1\nBegegnungs-Nr: 34\nHeim: Bern V\nGast: Steffisburg\n\nAdresse: Papiermühlestrasse 81\, 3014 Bern\n
LOCATION:Papiermühlestrasse 81\, 3014 Bern
CATEGORIES:Saison 2022/23
END:VEVENT
BEGIN:VEVENT
DTSTAMP:20260421T202802Z
DTSTART;TZID=Europe/Berlin:20221130T193000
DTEND;TZID=Europe/Berlin:20221130T223000
SUMMARY:HE 4. Liga Gr. 1 Bern V vs Worb III (29)
UID:8c67a113-6bf8-40ca-96c8-68cbdc6a5c5f
STATUS:CONFIRMED
LAST-MODIFIED:20221203T164030Z
DESCRIPTION:4. Liga Herren Gruppe 1\nBegegnungs-Nr: 29\nHeim: Bern V\nGast: Worb III\n\nAdresse: Papiermühlestrasse 81\, 3014 Bern\n
LOCATION:Papiermühlestrasse 81\, 3014 Bern
CATEGORIES:Saison 2022/23
END:VEVENT
BEGIN:VEVENT
DTSTAMP:20260421T202802Z
DTSTART;TZID=Europe/Berlin:20221102T193000
DTEND;TZID=Europe/Berlin:20221102T223000
SUMMARY:HE 4. Liga Gr. 1 Bern V vs Münsingen IV (19)
UID:ef5223eb-65fa-4f32-b7f0-148418ba4b6b
STATUS:CONFIRMED
LAST-MODIFIED:20221103T090958Z
DESCRIPTION:4. Liga Herren Gruppe 1\nBegegnungs-Nr: 19\nHeim: Bern V\nGast: Münsingen IV\n\nAdresse: Papiermühlestrasse 81\, 3014 Bern\n
LOCATION:Papiermühlestrasse 81\, 3014 Bern
CATEGORIES:Saison 2022/23
END:VEVENT
BEGIN:VEVENT
DTSTAMP:20260421T202802Z
DTSTART;TZID=Europe/Berlin:20220914T193000
DTEND;TZID=Europe/Berlin:20220914T223000
SUMMARY:HE 4. Liga Gr. 1 Bern V vs Thun IV (10)
UID:dce9c86f-8f9c-4eff-b4f7-467c014b4b80
STATUS:CONFIRMED
LAST-MODIFIED:20220916T081709Z
DESCRIPTION:4. Liga Herren Gruppe 1\nBegegnungs-Nr: 10\nHeim: Bern V\nGast: Thun IV\n\nAdresse: Papiermühlestrasse 81\, 3014 Bern\n
LOCATION:Papiermühlestrasse 81\, 3014 Bern
CATEGORIES:Saison 2022/23
END:VEVENT
BEGIN:VEVENT
DTSTAMP:20260421T202802Z
DTSTART;TZID=Europe/Berlin:20230322T193000
DTEND;TZID=Europe/Berlin:20230322T223000
SUMMARY:HE 4. Liga Gr. 1 Bern V vs bls Spiez II (26)
UID:2427387f-b800-4d65-b03e-ad714a7ae9e8
STATUS:CONFIRMED
LAST-MODIFIED:20230324T232509Z
DESCRIPTION:4. Liga Herren Gruppe 1\nBegegnungs-Nr: 26\nHeim: Bern V\nGast: bls Spiez II\n\nAdresse: Papiermühlestrasse 81\, 3014 Bern\n
LOCATION:Papiermühlestrasse 81\, 3014 Bern
CATEGORIES:Saison 2022/23
END:VEVENT
BEGIN:VEVENT
DTSTAMP:20260421T202802Z
DTSTART;TZID=Europe/Berlin:20230308T193000
DTEND;TZID=Europe/Berlin:20230308T223000
SUMMARY:HE 4. Liga Gr. 1 Bern V vs Heimberg V (23)
UID:0e74998a-ba92-44d0-9691-885f757a7bc7
STATUS:CONFIRMED
LAST-MODIFIED:20230309T115500Z
DESCRIPTION:4. Liga Herren Gruppe 1\nBegegnungs-Nr: 23\nHeim: Bern V\nGast: Heimberg V\n\nAdresse: Papiermühlestrasse 81\, 3014 Bern\n
LOCATION:Papiermühlestrasse 81\, 3014 Bern
CATEGORIES:Saison 2022/23
END:VEVENT
BEGIN:VEVENT
DTSTAMP:20260421T202802Z
DTSTART;TZID=Europe/Berlin:20230118T193000
DTEND;TZID=Europe/Berlin:20230118T223000
SUMMARY:HE 4. Liga Gr. 1 Bern V vs Interlaken (6)
UID:a0edd4a0-a28d-4df9-84f0-b94d3a0d1aaf
STATUS:CONFIRMED
LAST-MODIFIED:20230122T105751Z
DESCRIPTION:4. Liga Herren Gruppe 1\nBegegnungs-Nr: 6\nHeim: Bern V\nGast: Interlaken\n\nAdresse: Papiermühlestrasse 81\, 3014 Bern\n
LOCATION:Papiermühlestrasse 81\, 3014 Bern
CATEGORIES:Saison 2022/23
END:VEVENT
BEGIN:VEVENT
DTSTAMP:20260421T202802Z
DTSTART;TZID=Europe/Berlin:20221112T150000
DTEND;TZID=Europe/Berlin:20221112T180000
SUMMARY:HE 4. Liga Gr. 1 Heimberg V vs Bern V (23)
UID:5a1dcf67-f31d-49fd-a47f-e3416f3f7b48
STATUS:CONFIRMED
LAST-MODIFIED:20221113T105916Z
DESCRIPTION:4. Liga Herren Gruppe 1\nBegegnungs-Nr: 23\nHeim: Heimberg V\nGast: Bern V\n\nAdresse: Niesenstrasse 38\, 3627 Heimberg\n
LOCATION:Niesenstrasse 38\, 3627 Heimberg
CATEGORIES:Saison 2022/23
END:VEVENT
BEGIN:VEVENT
DTSTAMP:20260421T202802Z
DTSTART;TZID=Europe/Berlin:20220902T200000
DTEND;TZID=Europe/Berlin:20220902T230000
SUMMARY:HE 4. Liga Gr. 1 Interlaken vs Bern V (6)
UID:b4a84509-9772-481e-a6f6-816f8fa3c021
STATUS:CONFIRMED
LAST-MODIFIED:20220904T162048Z
DESCRIPTION:4. Liga Herren Gruppe 1\nBegegnungs-Nr: 6\nHeim: Interlaken\nGast: Bern V\n\nAdresse: Burgweg 239R\, 3852 Ringgenberg\n
LOCATION:Burgweg 239R\, 3852 Ringgenberg
CATEGORIES:Saison 2022/23
END:VEVENT
BEGIN:VEVENT
DTSTAMP:20260421T202802Z
DTSTART;TZID=Europe/Berlin:20230404T194500
DTEND;TZID=Europe/Berlin:20230404T224500
SUMMARY:HE 4. Liga Gr. 1 Steffisburg vs Bern V (34)
UID:47bc6ef5-7257-4373-b0f1-f2842994c374
STATUS:CONFIRMED
LAST-MODIFIED:20230409T182146Z
DESCRIPTION:4. Liga Herren Gruppe 1\nBegegnungs-Nr: 34\nHeim: Steffisburg\nGast: Bern V\n\nAdresse: Sonnenfeldstrasse 10\, 3613 Steffisburg\n
LOCATION:Sonnenfeldstrasse 10\, 3613 Steffisburg
CATEGORIES:Saison 2022/23
END:VEVENT
BEGIN:VEVENT
DTSTAMP:20260421T202802Z
DTSTART;TZID=Europe/Berlin:20230324T200000
DTEND;TZID=Europe/Berlin:20230324T230000
SUMMARY:HE 4. Liga Gr. 1 Worb III vs Bern V (29)
UID:0dd18a91-5df7-4af8-99d8-efae296c489f
STATUS:CONFIRMED
LAST-MODIFIED:20230324T232531Z
DESCRIPTION:4. Liga Herren Gruppe 1\nBegegnungs-Nr: 29\nHeim: Worb III\nGast: Bern V\n\nAdresse: Rosenweg 9\, 3075 Rüfenacht BE\n
LOCATION:Rosenweg 9\, 3075 Rüfenacht BE
CATEGORIES:Saison 2022/23
END:VEVENT
BEGIN:VEVENT
DTSTAMP:20260421T202802Z
DTSTART;TZID=Europe/Berlin:20230222T200000
DTEND;TZID=Europe/Berlin:20230222T230000
SUMMARY:HE 4. Liga Gr. 1 Münsingen IV vs Bern V (19)
UID:027fb993-cdd7-4ef3-a21a-373bd736f03f
STATUS:CONFIRMED
LAST-MODIFIED:20230223T101644Z
DESCRIPTION:4. Liga Herren Gruppe 1\nBegegnungs-Nr: 19\nHeim: Münsingen IV\nGast: Bern V\n\nAdresse: Turnhallenweg 8\, 3110 Münsingen\n
LOCATION:Turnhallenweg 8\, 3110 Münsingen
CATEGORIES:Saison 2022/23
END:VEVENT
BEGIN:VEVENT
DTSTAMP:20260421T202802Z
DTSTART;TZID=Europe/Berlin:20230128T130000
DTEND;TZID=Europe/Berlin:20230128T160000
SUMMARY:HE 4. Liga Gr. 1 Thun IV vs Bern V (10)
UID:11d2d46b-cf01-483f-9feb-274ce1a70f03
STATUS:CONFIRMED
LAST-MODIFIED:20230129T125222Z
DESCRIPTION:4. Liga Herren Gruppe 1\nBegegnungs-Nr: 10\nHeim: Thun IV\nGast: Bern V\n\nAdresse: Hallerstrasse 28\, 3604 Thun\n
LOCATION:Hallerstrasse 28\, 3604 Thun
CATEGORIES:Saison 2022/23
END:VEVENT
BEGIN:VEVENT
DTSTAMP:20260421T202802Z
DTSTART;TZID=Europe/Berlin:20221221T200000
DTEND;TZID=Europe/Berlin:20221221T230000
SUMMARY:HE 4. Liga Gr. 1 Langnau III vs Bern V (3)
UID:14386162-ddaa-40ae-9529-1104b3955537
STATUS:CONFIRMED
LAST-MODIFIED:20221222T152059Z
DESCRIPTION:4. Liga Herren Gruppe 1\nBegegnungs-Nr: 3\nHeim: Langnau III\nGast: Bern V\n\nAdresse: Bleicheweg 11\, 3550 Langnau\n
LOCATION:Bleicheweg 11\, 3550 Langnau
CATEGORIES:Saison 2022/23
END:VEVENT
BEGIN:VEVENT
DTSTAMP:20260421T202802Z
DTSTART;TZID=Europe/Berlin:20221122T194500
DTEND;TZID=Europe/Berlin:20221122T224500
SUMMARY:HE 4. Liga Gr. 1 bls Spiez II vs Bern V (26)
UID:0e250361-b0a7-46e4-879c-5c26386b3d4f
STATUS:CONFIRMED
LAST-MODIFIED:20221123T114328Z
DESCRIPTION:4. Liga Herren Gruppe 1\nBegegnungs-Nr: 26\nHeim: bls Spiez II\nGast: Bern V\n\nAdresse: Hofachernweg 19 / Oberlandstr. 89\, 3700 Spiez\n
LOCATION:Hofachernweg 19 / Oberlandstr. 89\, 3700 Spiez
CATEGORIES:Saison 2022/23
END:VEVENT
END:VCALENDAR
