BEGIN:VCALENDAR
PRODID:-//nuDatenautomaten//framework iCal4j //DE
VERSION:2.0
CALSCALE:GREGORIAN
BEGIN:VTIMEZONE
TZID:Europe/Berlin
LAST-MODIFIED:20260306T231828Z
TZURL:https://www.tzurl.org/zoneinfo/Europe/Berlin
X-LIC-LOCATION:Europe/Berlin
X-PROLEPTIC-TZNAME:LMT
BEGIN:STANDARD
TZNAME:CET
TZOFFSETFROM:+005328
TZOFFSETTO:+0100
DTSTART:18930401T000000
END:STANDARD
BEGIN:DAYLIGHT
TZNAME:CEST
TZOFFSETFROM:+0100
TZOFFSETTO:+0200
DTSTART:19160430T230000
RDATE:19400401T020000
RDATE:19430329T020000
RDATE:19460414T020000
RDATE:19470406T030000
RDATE:19480418T020000
RDATE:19490410T020000
RDATE:19800406T020000
END:DAYLIGHT
BEGIN:STANDARD
TZNAME:CET
TZOFFSETFROM:+0200
TZOFFSETTO:+0100
DTSTART:19161001T010000
RDATE:19421102T030000
RDATE:19431004T030000
RDATE:19441002T030000
RDATE:19451118T030000
RDATE:19461007T030000
END:STANDARD
BEGIN:DAYLIGHT
TZNAME:CEST
TZOFFSETFROM:+0100
TZOFFSETTO:+0200
DTSTART:19170416T020000
RRULE:FREQ=YEARLY;UNTIL=19180415T010000Z;BYMONTH=4;BYDAY=3MO
END:DAYLIGHT
BEGIN:STANDARD
TZNAME:CET
TZOFFSETFROM:+0200
TZOFFSETTO:+0100
DTSTART:19170917T030000
RRULE:FREQ=YEARLY;UNTIL=19180916T010000Z;BYMONTH=9;BYDAY=3MO
END:STANDARD
BEGIN:DAYLIGHT
TZNAME:CEST
TZOFFSETFROM:+0100
TZOFFSETTO:+0200
DTSTART:19440403T020000
RRULE:FREQ=YEARLY;UNTIL=19450402T010000Z;BYMONTH=4;BYDAY=1MO
END:DAYLIGHT
BEGIN:DAYLIGHT
TZNAME:CEMT
TZOFFSETFROM:+0200
TZOFFSETTO:+0300
DTSTART:19450524T020000
RDATE:19470511T030000
END:DAYLIGHT
BEGIN:DAYLIGHT
TZNAME:CEST
TZOFFSETFROM:+0300
TZOFFSETTO:+0200
DTSTART:19450924T030000
RDATE:19470629T030000
END:DAYLIGHT
BEGIN:STANDARD
TZNAME:CET
TZOFFSETFROM:+0100
TZOFFSETTO:+0100
DTSTART:19460101T000000
RDATE:19800101T000000
END:STANDARD
BEGIN:STANDARD
TZNAME:CET
TZOFFSETFROM:+0200
TZOFFSETTO:+0100
DTSTART:19471005T030000
RRULE:FREQ=YEARLY;UNTIL=19491002T010000Z;BYMONTH=10;BYDAY=1SU
END:STANDARD
BEGIN:STANDARD
TZNAME:CET
TZOFFSETFROM:+0200
TZOFFSETTO:+0100
DTSTART:19800928T030000
RRULE:FREQ=YEARLY;UNTIL=19950924T010000Z;BYMONTH=9;BYDAY=-1SU
END:STANDARD
BEGIN:DAYLIGHT
TZNAME:CEST
TZOFFSETFROM:+0100
TZOFFSETTO:+0200
DTSTART:19810329T020000
RRULE:FREQ=YEARLY;BYMONTH=3;BYDAY=-1SU
END:DAYLIGHT
BEGIN:STANDARD
TZNAME:CET
TZOFFSETFROM:+0200
TZOFFSETTO:+0100
DTSTART:19961027T030000
RRULE:FREQ=YEARLY;BYMONTH=10;BYDAY=-1SU
END:STANDARD
END:VTIMEZONE
BEGIN:VEVENT
DTSTAMP:20260426T034015Z
DTSTART;TZID=Europe/Berlin:20221005T193000
DTEND;TZID=Europe/Berlin:20221005T223000
SUMMARY:O40 2. Liga Gr. 2 Zürich-Affoltern II vs Bülach (0)
UID:35b717b4-be20-4161-beab-ac618f8334ea
STATUS:CONFIRMED
LAST-MODIFIED:20221007T070322Z
DESCRIPTION:2. Liga O40 Gruppe 2\nBegegnungs-Nr: 0\nHeim: Zürich-Affoltern II\nGast: Bülach\n\nAdresse: Fronwaldstr.115\, 8046 Zürich\n
LOCATION:Fronwaldstr.115\, 8046 Zürich
CATEGORIES:Saison 2022/23
END:VEVENT
BEGIN:VEVENT
DTSTAMP:20260426T034015Z
DTSTART;TZID=Europe/Berlin:20230405T193000
DTEND;TZID=Europe/Berlin:20230405T223000
SUMMARY:O40 2. Liga Gr. 2 Zürich-Affoltern II vs Pinguin Zürich (0)
UID:4332e09b-55ca-4085-b9de-8dce3d89a5fc
STATUS:CONFIRMED
LAST-MODIFIED:20230501T053522Z
DESCRIPTION:2. Liga O40 Gruppe 2\nBegegnungs-Nr: 0\nHeim: Zürich-Affoltern II\nGast: Pinguin Zürich\n\nAdresse: Fronwaldstr.115\, 8046 Zürich\n
LOCATION:Fronwaldstr.115\, 8046 Zürich
CATEGORIES:Saison 2022/23
END:VEVENT
BEGIN:VEVENT
DTSTAMP:20260426T034015Z
DTSTART;TZID=Europe/Berlin:20221207T193000
DTEND;TZID=Europe/Berlin:20221207T223000
SUMMARY:O40 2. Liga Gr. 2 Zürich-Affoltern II vs Affoltern A/A (0)
UID:7cf78fa9-a436-4784-879b-cf24506ca314
STATUS:CONFIRMED
LAST-MODIFIED:20221212T145032Z
DESCRIPTION:2. Liga O40 Gruppe 2\nBegegnungs-Nr: 0\nHeim: Zürich-Affoltern II\nGast: Affoltern A/A\n\nAdresse: Fronwaldstr.115\, 8046 Zürich\n
LOCATION:Fronwaldstr.115\, 8046 Zürich
CATEGORIES:Saison 2022/23
END:VEVENT
BEGIN:VEVENT
DTSTAMP:20260426T034015Z
DTSTART;TZID=Europe/Berlin:20221214T193000
DTEND;TZID=Europe/Berlin:20221214T223000
SUMMARY:O40 2. Liga Gr. 2 Zürich-Affoltern II vs Embrachertal (0)
UID:6cc70cf2-da98-4d31-9e1c-5aa71ac36716
STATUS:CONFIRMED
LAST-MODIFIED:20221215T090029Z
DESCRIPTION:2. Liga O40 Gruppe 2\nBegegnungs-Nr: 0\nHeim: Zürich-Affoltern II\nGast: Embrachertal\n\nAdresse: Fronwaldstr.115\, 8046 Zürich\n
LOCATION:Fronwaldstr.115\, 8046 Zürich
CATEGORIES:Saison 2022/23
END:VEVENT
BEGIN:VEVENT
DTSTAMP:20260426T034015Z
DTSTART;TZID=Europe/Berlin:20230201T193000
DTEND;TZID=Europe/Berlin:20230201T223000
SUMMARY:O40 2. Liga Gr. 2 Zürich-Affoltern II vs Flums (0)
UID:641ac807-17fc-40a5-8601-c39147804ccf
STATUS:CONFIRMED
LAST-MODIFIED:20230206T090252Z
DESCRIPTION:2. Liga O40 Gruppe 2\nBegegnungs-Nr: 0\nHeim: Zürich-Affoltern II\nGast: Flums\n\nAdresse: Fronwaldstr.115\, 8046 Zürich\n
LOCATION:Fronwaldstr.115\, 8046 Zürich
CATEGORIES:Saison 2022/23
END:VEVENT
BEGIN:VEVENT
DTSTAMP:20260426T034015Z
DTSTART;TZID=Europe/Berlin:20230322T193000
DTEND;TZID=Europe/Berlin:20230322T223000
SUMMARY:O40 2. Liga Gr. 2 Zürich-Affoltern II vs Rapperswil-Jona (0)
UID:311baa4b-02b7-435f-b9ea-d788959bebae
STATUS:CONFIRMED
LAST-MODIFIED:20230328T102048Z
DESCRIPTION:2. Liga O40 Gruppe 2\nBegegnungs-Nr: 0\nHeim: Zürich-Affoltern II\nGast: Rapperswil-Jona\n\nAdresse: Fronwaldstr.115\, 8046 Zürich\n
LOCATION:Fronwaldstr.115\, 8046 Zürich
CATEGORIES:Saison 2022/23
END:VEVENT
BEGIN:VEVENT
DTSTAMP:20260426T034015Z
DTSTART;TZID=Europe/Berlin:20220825T201500
DTEND;TZID=Europe/Berlin:20220825T231500
SUMMARY:O40 2. Liga Gr. 2 Flums vs Zürich-Affoltern II (0)
UID:4bb3423b-a8ae-4980-80e3-0071b28b7b78
STATUS:CONFIRMED
LAST-MODIFIED:20220826T074107Z
DESCRIPTION:2. Liga O40 Gruppe 2\nBegegnungs-Nr: 0\nHeim: Flums\nGast: Zürich-Affoltern II\n\nAdresse: Bergstrasse\, 8890 Flums\n
LOCATION:Bergstrasse\, 8890 Flums
CATEGORIES:Saison 2022/23
END:VEVENT
BEGIN:VEVENT
DTSTAMP:20260426T034015Z
DTSTART;TZID=Europe/Berlin:20221028T193000
DTEND;TZID=Europe/Berlin:20221028T223000
SUMMARY:O40 2. Liga Gr. 2 Rapperswil-Jona vs Zürich-Affoltern II (0)
UID:87edbfc5-b770-4a05-8e9e-67406ed281b3
STATUS:CONFIRMED
LAST-MODIFIED:20221101T091822Z
DESCRIPTION:2. Liga O40 Gruppe 2\nBegegnungs-Nr: 0\nHeim: Rapperswil-Jona\nGast: Zürich-Affoltern II\n\nAdresse: Kreuzstrasse 43\, 8640 Rapperswil\n
LOCATION:Kreuzstrasse 43\, 8640 Rapperswil
CATEGORIES:Saison 2022/23
END:VEVENT
BEGIN:VEVENT
DTSTAMP:20260426T034015Z
DTSTART;TZID=Europe/Berlin:20221121T193000
DTEND;TZID=Europe/Berlin:20221121T223000
SUMMARY:O40 2. Liga Gr. 2 Pinguin Zürich vs Zürich-Affoltern II (0)
UID:f3d27353-6e10-40a4-a5c1-8cc973027468
STATUS:CONFIRMED
LAST-MODIFIED:20221128T144950Z
DESCRIPTION:2. Liga O40 Gruppe 2\nBegegnungs-Nr: 0\nHeim: Pinguin Zürich\nGast: Zürich-Affoltern II\n\nAdresse: Basteiplatz\, 8001 Zürich\n
LOCATION:Basteiplatz\, 8001 Zürich
CATEGORIES:Saison 2022/23
END:VEVENT
BEGIN:VEVENT
DTSTAMP:20260426T034015Z
DTSTART;TZID=Europe/Berlin:20230119T201500
DTEND;TZID=Europe/Berlin:20230119T231500
SUMMARY:O40 2. Liga Gr. 2 Bülach vs Zürich-Affoltern II (0)
UID:6dd6bd46-8907-4fdf-9e71-bffe6f67f091
STATUS:CONFIRMED
LAST-MODIFIED:20230127T163603Z
DESCRIPTION:2. Liga O40 Gruppe 2\nBegegnungs-Nr: 0\nHeim: Bülach\nGast: Zürich-Affoltern II\n\nAdresse: Unterweg 51\, 8180 Bülach\n
LOCATION:Unterweg 51\, 8180 Bülach
CATEGORIES:Saison 2022/23
END:VEVENT
BEGIN:VEVENT
DTSTAMP:20260426T034015Z
DTSTART;TZID=Europe/Berlin:20230413T194500
DTEND;TZID=Europe/Berlin:20230413T224500
SUMMARY:O40 2. Liga Gr. 2 Affoltern A/A vs Zürich-Affoltern II (0)
UID:dfdbb8d9-5439-42d6-a1a5-9bf022a7f4d0
STATUS:CONFIRMED
LAST-MODIFIED:20230420T091836Z
DESCRIPTION:2. Liga O40 Gruppe 2\nBegegnungs-Nr: 0\nHeim: Affoltern A/A\nGast: Zürich-Affoltern II\n\nAdresse: Butzenstrasse 8\, 8910 Affoltern am Albis\n
LOCATION:Butzenstrasse 8\, 8910 Affoltern am Albis
CATEGORIES:Saison 2022/23
END:VEVENT
BEGIN:VEVENT
DTSTAMP:20260426T034015Z
DTSTART;TZID=Europe/Berlin:20230418T200000
DTEND;TZID=Europe/Berlin:20230418T230000
SUMMARY:O40 2. Liga Gr. 2 Embrachertal vs Zürich-Affoltern II (0)
UID:58cb7ae1-d7dc-4406-a09a-8fd166156c46
STATUS:CONFIRMED
LAST-MODIFIED:20230421T091022Z
DESCRIPTION:2. Liga O40 Gruppe 2\nBegegnungs-Nr: 0\nHeim: Embrachertal\nGast: Zürich-Affoltern II\n\nAdresse: Hintermarchlenstrasse 31 + 33\, 8426 Lufingen\n
LOCATION:Hintermarchlenstrasse 31 + 33\, 8426 Lufingen
CATEGORIES:Saison 2022/23
END:VEVENT
END:VCALENDAR
