BEGIN:VCALENDAR
PRODID:-//nuDatenautomaten//framework iCal4j //DE
VERSION:2.0
CALSCALE:GREGORIAN
BEGIN:VTIMEZONE
TZID:Europe/Berlin
LAST-MODIFIED:20260306T231828Z
TZURL:https://www.tzurl.org/zoneinfo/Europe/Berlin
X-LIC-LOCATION:Europe/Berlin
X-PROLEPTIC-TZNAME:LMT
BEGIN:STANDARD
TZNAME:CET
TZOFFSETFROM:+005328
TZOFFSETTO:+0100
DTSTART:18930401T000000
END:STANDARD
BEGIN:DAYLIGHT
TZNAME:CEST
TZOFFSETFROM:+0100
TZOFFSETTO:+0200
DTSTART:19160430T230000
RDATE:19400401T020000
RDATE:19430329T020000
RDATE:19460414T020000
RDATE:19470406T030000
RDATE:19480418T020000
RDATE:19490410T020000
RDATE:19800406T020000
END:DAYLIGHT
BEGIN:STANDARD
TZNAME:CET
TZOFFSETFROM:+0200
TZOFFSETTO:+0100
DTSTART:19161001T010000
RDATE:19421102T030000
RDATE:19431004T030000
RDATE:19441002T030000
RDATE:19451118T030000
RDATE:19461007T030000
END:STANDARD
BEGIN:DAYLIGHT
TZNAME:CEST
TZOFFSETFROM:+0100
TZOFFSETTO:+0200
DTSTART:19170416T020000
RRULE:FREQ=YEARLY;UNTIL=19180415T010000Z;BYMONTH=4;BYDAY=3MO
END:DAYLIGHT
BEGIN:STANDARD
TZNAME:CET
TZOFFSETFROM:+0200
TZOFFSETTO:+0100
DTSTART:19170917T030000
RRULE:FREQ=YEARLY;UNTIL=19180916T010000Z;BYMONTH=9;BYDAY=3MO
END:STANDARD
BEGIN:DAYLIGHT
TZNAME:CEST
TZOFFSETFROM:+0100
TZOFFSETTO:+0200
DTSTART:19440403T020000
RRULE:FREQ=YEARLY;UNTIL=19450402T010000Z;BYMONTH=4;BYDAY=1MO
END:DAYLIGHT
BEGIN:DAYLIGHT
TZNAME:CEMT
TZOFFSETFROM:+0200
TZOFFSETTO:+0300
DTSTART:19450524T020000
RDATE:19470511T030000
END:DAYLIGHT
BEGIN:DAYLIGHT
TZNAME:CEST
TZOFFSETFROM:+0300
TZOFFSETTO:+0200
DTSTART:19450924T030000
RDATE:19470629T030000
END:DAYLIGHT
BEGIN:STANDARD
TZNAME:CET
TZOFFSETFROM:+0100
TZOFFSETTO:+0100
DTSTART:19460101T000000
RDATE:19800101T000000
END:STANDARD
BEGIN:STANDARD
TZNAME:CET
TZOFFSETFROM:+0200
TZOFFSETTO:+0100
DTSTART:19471005T030000
RRULE:FREQ=YEARLY;UNTIL=19491002T010000Z;BYMONTH=10;BYDAY=1SU
END:STANDARD
BEGIN:STANDARD
TZNAME:CET
TZOFFSETFROM:+0200
TZOFFSETTO:+0100
DTSTART:19800928T030000
RRULE:FREQ=YEARLY;UNTIL=19950924T010000Z;BYMONTH=9;BYDAY=-1SU
END:STANDARD
BEGIN:DAYLIGHT
TZNAME:CEST
TZOFFSETFROM:+0100
TZOFFSETTO:+0200
DTSTART:19810329T020000
RRULE:FREQ=YEARLY;BYMONTH=3;BYDAY=-1SU
END:DAYLIGHT
BEGIN:STANDARD
TZNAME:CET
TZOFFSETFROM:+0200
TZOFFSETTO:+0100
DTSTART:19961027T030000
RRULE:FREQ=YEARLY;BYMONTH=10;BYDAY=-1SU
END:STANDARD
END:VTIMEZONE
BEGIN:VEVENT
DTSTAMP:20260426T043651Z
DTSTART;TZID=Europe/Berlin:20220909T200000
DTEND;TZID=Europe/Berlin:20220909T230000
SUMMARY:HE 4. Liga Gr. 5 Wolfhausen vs Pinguin Zürich IV (0)
UID:94c20f1a-78f3-497c-9ed4-6da1f4656e61
STATUS:CONFIRMED
LAST-MODIFIED:20220912T071518Z
DESCRIPTION:4. Liga Herren Gruppe 5\nBegegnungs-Nr: 0\nHeim: Wolfhausen\nGast: Pinguin Zürich IV\n\nAdresse: Schulstrasse 9\, 8633 Wolfhausen\n
LOCATION:Schulstrasse 9\, 8633 Wolfhausen
CATEGORIES:Saison 2022/23
END:VEVENT
BEGIN:VEVENT
DTSTAMP:20260426T043651Z
DTSTART;TZID=Europe/Berlin:20220930T200000
DTEND;TZID=Europe/Berlin:20220930T230000
SUMMARY:HE 4. Liga Gr. 5 Wolfhausen vs Meilen-Männedorf II (0)
UID:e720ff64-4342-4636-bf91-98609bd8b6b6
STATUS:CONFIRMED
LAST-MODIFIED:20221006T132630Z
DESCRIPTION:4. Liga Herren Gruppe 5\nBegegnungs-Nr: 0\nHeim: Wolfhausen\nGast: Meilen-Männedorf II\n\nAdresse: Schulstrasse 9\, 8633 Wolfhausen\n
LOCATION:Schulstrasse 9\, 8633 Wolfhausen
CATEGORIES:Saison 2022/23
END:VEVENT
BEGIN:VEVENT
DTSTAMP:20260426T043651Z
DTSTART;TZID=Europe/Berlin:20221118T200000
DTEND;TZID=Europe/Berlin:20221118T230000
SUMMARY:HE 4. Liga Gr. 5 Wolfhausen vs Kloten II (0)
UID:1166536c-0e23-44f9-b25f-a1d737a02c24
STATUS:CONFIRMED
LAST-MODIFIED:20221128T095344Z
DESCRIPTION:4. Liga Herren Gruppe 5\nBegegnungs-Nr: 0\nHeim: Wolfhausen\nGast: Kloten II\n\nAdresse: Schulstrasse 9\, 8633 Wolfhausen\n
LOCATION:Schulstrasse 9\, 8633 Wolfhausen
CATEGORIES:Saison 2022/23
END:VEVENT
BEGIN:VEVENT
DTSTAMP:20260426T043651Z
DTSTART;TZID=Europe/Berlin:20221202T200000
DTEND;TZID=Europe/Berlin:20221202T230000
SUMMARY:HE 4. Liga Gr. 5 Wolfhausen vs Höngg (0)
UID:77f77479-899c-48fb-8f92-c492914228ab
STATUS:CONFIRMED
LAST-MODIFIED:20221208T114017Z
DESCRIPTION:4. Liga Herren Gruppe 5\nBegegnungs-Nr: 0\nHeim: Wolfhausen\nGast: Höngg\n\nAdresse: Schulstrasse 9\, 8633 Wolfhausen\n
LOCATION:Schulstrasse 9\, 8633 Wolfhausen
CATEGORIES:Saison 2022/23
END:VEVENT
BEGIN:VEVENT
DTSTAMP:20260426T043651Z
DTSTART;TZID=Europe/Berlin:20230116T200000
DTEND;TZID=Europe/Berlin:20230116T230000
SUMMARY:HE 4. Liga Gr. 5 Wolfhausen vs BW-Wollishofen IV (0)
UID:baac8573-73f6-440c-bedf-10914b38f918
STATUS:CONFIRMED
LAST-MODIFIED:20230117T081854Z
DESCRIPTION:4. Liga Herren Gruppe 5\nBegegnungs-Nr: 0\nHeim: Wolfhausen\nGast: BW-Wollishofen IV\n\nAdresse: Schulstrasse 9\, 8633 Wolfhausen\n
LOCATION:Schulstrasse 9\, 8633 Wolfhausen
CATEGORIES:Saison 2022/23
END:VEVENT
BEGIN:VEVENT
DTSTAMP:20260426T043651Z
DTSTART;TZID=Europe/Berlin:20230203T200000
DTEND;TZID=Europe/Berlin:20230203T230000
SUMMARY:HE 4. Liga Gr. 5 Wolfhausen vs Young Stars ZH VI (0)
UID:e7de1914-cfd6-4d23-b9df-9ca366def22c
STATUS:CONFIRMED
LAST-MODIFIED:20230209T104235Z
DESCRIPTION:4. Liga Herren Gruppe 5\nBegegnungs-Nr: 0\nHeim: Wolfhausen\nGast: Young Stars ZH VI\n\nAdresse: Schulstrasse 9\, 8633 Wolfhausen\n
LOCATION:Schulstrasse 9\, 8633 Wolfhausen
CATEGORIES:Saison 2022/23
END:VEVENT
BEGIN:VEVENT
DTSTAMP:20260426T043651Z
DTSTART;TZID=Europe/Berlin:20230310T200000
DTEND;TZID=Europe/Berlin:20230310T230000
SUMMARY:HE 4. Liga Gr. 5 Wolfhausen vs Uster IV (0)
UID:ea4c2e15-4052-4222-a434-40f423225f89
STATUS:CONFIRMED
LAST-MODIFIED:20220825T072254Z
DESCRIPTION:4. Liga Herren Gruppe 5\nBegegnungs-Nr: 0\nHeim: Wolfhausen\nGast: Uster IV\n\nAdresse: Schulstrasse 9\, 8633 Wolfhausen\n
LOCATION:Schulstrasse 9\, 8633 Wolfhausen
CATEGORIES:Saison 2022/23
END:VEVENT
BEGIN:VEVENT
DTSTAMP:20260426T043651Z
DTSTART;TZID=Europe/Berlin:20220902T200000
DTEND;TZID=Europe/Berlin:20220902T230000
SUMMARY:HE 4. Liga Gr. 5 BW-Wollishofen IV vs Wolfhausen (0)
UID:4892d95f-85d0-404c-96af-a6b0be364c26
STATUS:CONFIRMED
LAST-MODIFIED:20220905T092932Z
DESCRIPTION:4. Liga Herren Gruppe 5\nBegegnungs-Nr: 0\nHeim: BW-Wollishofen IV\nGast: Wolfhausen\n\nAdresse: Kilchbergstr. 28\, 8038 Zürich\n
LOCATION:Kilchbergstr. 28\, 8038 Zürich
CATEGORIES:Saison 2022/23
END:VEVENT
BEGIN:VEVENT
DTSTAMP:20260426T043651Z
DTSTART;TZID=Europe/Berlin:20220921T201500
DTEND;TZID=Europe/Berlin:20220921T231500
SUMMARY:HE 4. Liga Gr. 5 Young Stars ZH VI vs Wolfhausen (0)
UID:a678ca9d-211a-42fd-9fd4-a4c499c11811
STATUS:CONFIRMED
LAST-MODIFIED:20220923T144135Z
DESCRIPTION:4. Liga Herren Gruppe 5\nBegegnungs-Nr: 0\nHeim: Young Stars ZH VI\nGast: Wolfhausen\n\nAdresse: Seefeldstrasse 93\, 8008 Zürich\n
LOCATION:Seefeldstrasse 93\, 8008 Zürich
CATEGORIES:Saison 2022/23
END:VEVENT
BEGIN:VEVENT
DTSTAMP:20260426T043651Z
DTSTART;TZID=Europe/Berlin:20221101T201500
DTEND;TZID=Europe/Berlin:20221101T231500
SUMMARY:HE 4. Liga Gr. 5 Uster IV vs Wolfhausen (0)
UID:b7e15f18-cd99-486d-8356-4ce488453edd
STATUS:CONFIRMED
LAST-MODIFIED:20220825T072046Z
DESCRIPTION:4. Liga Herren Gruppe 5\nBegegnungs-Nr: 0\nHeim: Uster IV\nGast: Wolfhausen\n\nAdresse: Wilstrasse 30 / Zürcherstrasse\, 8610 Uster\n
LOCATION:Wilstrasse 30 / Zürcherstrasse\, 8610 Uster
CATEGORIES:Saison 2022/23
END:VEVENT
BEGIN:VEVENT
DTSTAMP:20260426T043651Z
DTSTART;TZID=Europe/Berlin:20230127T193000
DTEND;TZID=Europe/Berlin:20230127T223000
SUMMARY:HE 4. Liga Gr. 5 Pinguin Zürich IV vs Wolfhausen (0)
UID:53907e16-e32f-49ed-9945-52409f1d8369
STATUS:CONFIRMED
LAST-MODIFIED:20230131T122119Z
DESCRIPTION:4. Liga Herren Gruppe 5\nBegegnungs-Nr: 0\nHeim: Pinguin Zürich IV\nGast: Wolfhausen\n\nAdresse: Basteiplatz\, 8001 Zürich\n
LOCATION:Basteiplatz\, 8001 Zürich
CATEGORIES:Saison 2022/23
END:VEVENT
BEGIN:VEVENT
DTSTAMP:20260426T043651Z
DTSTART;TZID=Europe/Berlin:20230206T194500
DTEND;TZID=Europe/Berlin:20230206T224500
SUMMARY:HE 4. Liga Gr. 5 Meilen-Männedorf II vs Wolfhausen (0)
UID:f4e0abec-eb8d-49b0-8c8c-6080d8396cab
STATUS:CONFIRMED
LAST-MODIFIED:20230209T104247Z
DESCRIPTION:4. Liga Herren Gruppe 5\nBegegnungs-Nr: 0\nHeim: Meilen-Männedorf II\nGast: Wolfhausen\n\nAdresse: Schulstrasse 10\, 8708 Männedorf\n
LOCATION:Schulstrasse 10\, 8708 Männedorf
CATEGORIES:Saison 2022/23
END:VEVENT
BEGIN:VEVENT
DTSTAMP:20260426T043651Z
DTSTART;TZID=Europe/Berlin:20230316T194500
DTEND;TZID=Europe/Berlin:20230316T224500
SUMMARY:HE 4. Liga Gr. 5 Kloten II vs Wolfhausen (0)
UID:97d8771c-06b9-476a-a822-51846597feac
STATUS:CONFIRMED
LAST-MODIFIED:20230322T140337Z
DESCRIPTION:4. Liga Herren Gruppe 5\nBegegnungs-Nr: 0\nHeim: Kloten II\nGast: Wolfhausen\n\nAdresse: Schluefweg 10\, 8302 Kloten\n
LOCATION:Schluefweg 10\, 8302 Kloten
CATEGORIES:Saison 2022/23
END:VEVENT
BEGIN:VEVENT
DTSTAMP:20260426T043651Z
DTSTART;TZID=Europe/Berlin:20230329T200000
DTEND;TZID=Europe/Berlin:20230329T230000
SUMMARY:HE 4. Liga Gr. 5 Höngg vs Wolfhausen (0)
UID:38b05094-5eb4-4b63-a675-6f2d80088ee5
STATUS:CONFIRMED
LAST-MODIFIED:20230403T093637Z
DESCRIPTION:4. Liga Herren Gruppe 5\nBegegnungs-Nr: 0\nHeim: Höngg\nGast: Wolfhausen\n\nAdresse: Bläsistrasse 2\, 8049 Zürich\n
LOCATION:Bläsistrasse 2\, 8049 Zürich
CATEGORIES:Saison 2022/23
END:VEVENT
END:VCALENDAR
