BEGIN:VCALENDAR
PRODID:-//nuDatenautomaten//framework iCal4j //DE
VERSION:2.0
CALSCALE:GREGORIAN
BEGIN:VTIMEZONE
TZID:Europe/Berlin
LAST-MODIFIED:20260306T231828Z
TZURL:https://www.tzurl.org/zoneinfo/Europe/Berlin
X-LIC-LOCATION:Europe/Berlin
X-PROLEPTIC-TZNAME:LMT
BEGIN:STANDARD
TZNAME:CET
TZOFFSETFROM:+005328
TZOFFSETTO:+0100
DTSTART:18930401T000000
END:STANDARD
BEGIN:DAYLIGHT
TZNAME:CEST
TZOFFSETFROM:+0100
TZOFFSETTO:+0200
DTSTART:19160430T230000
RDATE:19400401T020000
RDATE:19430329T020000
RDATE:19460414T020000
RDATE:19470406T030000
RDATE:19480418T020000
RDATE:19490410T020000
RDATE:19800406T020000
END:DAYLIGHT
BEGIN:STANDARD
TZNAME:CET
TZOFFSETFROM:+0200
TZOFFSETTO:+0100
DTSTART:19161001T010000
RDATE:19421102T030000
RDATE:19431004T030000
RDATE:19441002T030000
RDATE:19451118T030000
RDATE:19461007T030000
END:STANDARD
BEGIN:DAYLIGHT
TZNAME:CEST
TZOFFSETFROM:+0100
TZOFFSETTO:+0200
DTSTART:19170416T020000
RRULE:FREQ=YEARLY;UNTIL=19180415T010000Z;BYMONTH=4;BYDAY=3MO
END:DAYLIGHT
BEGIN:STANDARD
TZNAME:CET
TZOFFSETFROM:+0200
TZOFFSETTO:+0100
DTSTART:19170917T030000
RRULE:FREQ=YEARLY;UNTIL=19180916T010000Z;BYMONTH=9;BYDAY=3MO
END:STANDARD
BEGIN:DAYLIGHT
TZNAME:CEST
TZOFFSETFROM:+0100
TZOFFSETTO:+0200
DTSTART:19440403T020000
RRULE:FREQ=YEARLY;UNTIL=19450402T010000Z;BYMONTH=4;BYDAY=1MO
END:DAYLIGHT
BEGIN:DAYLIGHT
TZNAME:CEMT
TZOFFSETFROM:+0200
TZOFFSETTO:+0300
DTSTART:19450524T020000
RDATE:19470511T030000
END:DAYLIGHT
BEGIN:DAYLIGHT
TZNAME:CEST
TZOFFSETFROM:+0300
TZOFFSETTO:+0200
DTSTART:19450924T030000
RDATE:19470629T030000
END:DAYLIGHT
BEGIN:STANDARD
TZNAME:CET
TZOFFSETFROM:+0100
TZOFFSETTO:+0100
DTSTART:19460101T000000
RDATE:19800101T000000
END:STANDARD
BEGIN:STANDARD
TZNAME:CET
TZOFFSETFROM:+0200
TZOFFSETTO:+0100
DTSTART:19471005T030000
RRULE:FREQ=YEARLY;UNTIL=19491002T010000Z;BYMONTH=10;BYDAY=1SU
END:STANDARD
BEGIN:STANDARD
TZNAME:CET
TZOFFSETFROM:+0200
TZOFFSETTO:+0100
DTSTART:19800928T030000
RRULE:FREQ=YEARLY;UNTIL=19950924T010000Z;BYMONTH=9;BYDAY=-1SU
END:STANDARD
BEGIN:DAYLIGHT
TZNAME:CEST
TZOFFSETFROM:+0100
TZOFFSETTO:+0200
DTSTART:19810329T020000
RRULE:FREQ=YEARLY;BYMONTH=3;BYDAY=-1SU
END:DAYLIGHT
BEGIN:STANDARD
TZNAME:CET
TZOFFSETFROM:+0200
TZOFFSETTO:+0100
DTSTART:19961027T030000
RRULE:FREQ=YEARLY;BYMONTH=10;BYDAY=-1SU
END:STANDARD
END:VTIMEZONE
BEGIN:VEVENT
DTSTAMP:20260426T034020Z
DTSTART;TZID=Europe/Berlin:20220915T194500
DTEND;TZID=Europe/Berlin:20220915T224500
SUMMARY:O40 2. Liga Gr. 2 Affoltern A/A vs Bülach (0)
UID:9cdc59cf-0af6-4bee-ac57-b6a160f71233
STATUS:CONFIRMED
LAST-MODIFIED:20220923T145652Z
DESCRIPTION:2. Liga O40 Gruppe 2\nBegegnungs-Nr: 0\nHeim: Affoltern A/A\nGast: Bülach\n\nAdresse: Butzenstrasse 8\, 8910 Affoltern am Albis\n
LOCATION:Butzenstrasse 8\, 8910 Affoltern am Albis
CATEGORIES:Saison 2022/23
END:VEVENT
BEGIN:VEVENT
DTSTAMP:20260426T034020Z
DTSTART;TZID=Europe/Berlin:20221124T194500
DTEND;TZID=Europe/Berlin:20221124T224500
SUMMARY:O40 2. Liga Gr. 2 Affoltern A/A vs Embrachertal (0)
UID:1fba419c-04df-477c-abf2-e3ccb180a671
STATUS:CONFIRMED
LAST-MODIFIED:20221128T145902Z
DESCRIPTION:2. Liga O40 Gruppe 2\nBegegnungs-Nr: 0\nHeim: Affoltern A/A\nGast: Embrachertal\n\nAdresse: Butzenstrasse 8\, 8910 Affoltern am Albis\n
LOCATION:Butzenstrasse 8\, 8910 Affoltern am Albis
CATEGORIES:Saison 2022/23
END:VEVENT
BEGIN:VEVENT
DTSTAMP:20260426T034020Z
DTSTART;TZID=Europe/Berlin:20230209T194500
DTEND;TZID=Europe/Berlin:20230209T224500
SUMMARY:O40 2. Liga Gr. 2 Affoltern A/A vs Pinguin Zürich (0)
UID:2eb13ed2-a4c1-4973-81cb-322e31e2c510
STATUS:CONFIRMED
LAST-MODIFIED:20230210T101258Z
DESCRIPTION:2. Liga O40 Gruppe 2\nBegegnungs-Nr: 0\nHeim: Affoltern A/A\nGast: Pinguin Zürich\n\nAdresse: Butzenstrasse 8\, 8910 Affoltern am Albis\n
LOCATION:Butzenstrasse 8\, 8910 Affoltern am Albis
CATEGORIES:Saison 2022/23
END:VEVENT
BEGIN:VEVENT
DTSTAMP:20260426T034020Z
DTSTART;TZID=Europe/Berlin:20230202T194500
DTEND;TZID=Europe/Berlin:20230202T224500
SUMMARY:O40 2. Liga Gr. 2 Affoltern A/A vs Rapperswil-Jona (0)
UID:12f292c6-2f13-4a10-99a8-c5b7a4db04c0
STATUS:CONFIRMED
LAST-MODIFIED:20230209T125535Z
DESCRIPTION:2. Liga O40 Gruppe 2\nBegegnungs-Nr: 0\nHeim: Affoltern A/A\nGast: Rapperswil-Jona\n\nAdresse: Butzenstrasse 8\, 8910 Affoltern am Albis\n
LOCATION:Butzenstrasse 8\, 8910 Affoltern am Albis
CATEGORIES:Saison 2022/23
END:VEVENT
BEGIN:VEVENT
DTSTAMP:20260426T034020Z
DTSTART;TZID=Europe/Berlin:20230323T194500
DTEND;TZID=Europe/Berlin:20230323T224500
SUMMARY:O40 2. Liga Gr. 2 Affoltern A/A vs Flums (0)
UID:51f16853-23b1-43d2-a780-d52615e8a6c8
STATUS:CONFIRMED
LAST-MODIFIED:20230328T102058Z
DESCRIPTION:2. Liga O40 Gruppe 2\nBegegnungs-Nr: 0\nHeim: Affoltern A/A\nGast: Flums\n\nAdresse: Butzenstrasse 8\, 8910 Affoltern am Albis\n
LOCATION:Butzenstrasse 8\, 8910 Affoltern am Albis
CATEGORIES:Saison 2022/23
END:VEVENT
BEGIN:VEVENT
DTSTAMP:20260426T034020Z
DTSTART;TZID=Europe/Berlin:20230413T194500
DTEND;TZID=Europe/Berlin:20230413T224500
SUMMARY:O40 2. Liga Gr. 2 Affoltern A/A vs Zürich-Affoltern II (0)
UID:dfdbb8d9-5439-42d6-a1a5-9bf022a7f4d0
STATUS:CONFIRMED
LAST-MODIFIED:20230420T091836Z
DESCRIPTION:2. Liga O40 Gruppe 2\nBegegnungs-Nr: 0\nHeim: Affoltern A/A\nGast: Zürich-Affoltern II\n\nAdresse: Butzenstrasse 8\, 8910 Affoltern am Albis\n
LOCATION:Butzenstrasse 8\, 8910 Affoltern am Albis
CATEGORIES:Saison 2022/23
END:VEVENT
BEGIN:VEVENT
DTSTAMP:20260426T034020Z
DTSTART;TZID=Europe/Berlin:20220826T193000
DTEND;TZID=Europe/Berlin:20220826T223000
SUMMARY:O40 2. Liga Gr. 2 Rapperswil-Jona vs Affoltern A/A (0)
UID:681fc22c-f58d-4d84-b31c-696eddaba2d6
STATUS:CONFIRMED
LAST-MODIFIED:20220829T054217Z
DESCRIPTION:2. Liga O40 Gruppe 2\nBegegnungs-Nr: 0\nHeim: Rapperswil-Jona\nGast: Affoltern A/A\n\nAdresse: Kreuzstrasse 43\, 8640 Rapperswil\n
LOCATION:Kreuzstrasse 43\, 8640 Rapperswil
CATEGORIES:Saison 2022/23
END:VEVENT
BEGIN:VEVENT
DTSTAMP:20260426T034020Z
DTSTART;TZID=Europe/Berlin:20221027T201500
DTEND;TZID=Europe/Berlin:20221027T231500
SUMMARY:O40 2. Liga Gr. 2 Flums vs Affoltern A/A (0)
UID:37a254c8-d214-489c-8848-ba9855fe2054
STATUS:CONFIRMED
LAST-MODIFIED:20221101T091808Z
DESCRIPTION:2. Liga O40 Gruppe 2\nBegegnungs-Nr: 0\nHeim: Flums\nGast: Affoltern A/A\n\nAdresse: Bergstrasse\, 8890 Flums\n
LOCATION:Bergstrasse\, 8890 Flums
CATEGORIES:Saison 2022/23
END:VEVENT
BEGIN:VEVENT
DTSTAMP:20260426T034020Z
DTSTART;TZID=Europe/Berlin:20230404T200000
DTEND;TZID=Europe/Berlin:20230404T230000
SUMMARY:O40 2. Liga Gr. 2 Embrachertal vs Affoltern A/A (0)
UID:d93c31f6-9fe6-4929-a3d5-b9cdec0c07a6
STATUS:CONFIRMED
LAST-MODIFIED:20230405T121351Z
DESCRIPTION:2. Liga O40 Gruppe 2\nBegegnungs-Nr: 0\nHeim: Embrachertal\nGast: Affoltern A/A\n\nAdresse: Hintermarchlenstrasse 31 + 33\, 8426 Lufingen\n
LOCATION:Hintermarchlenstrasse 31 + 33\, 8426 Lufingen
CATEGORIES:Saison 2022/23
END:VEVENT
BEGIN:VEVENT
DTSTAMP:20260426T034020Z
DTSTART;TZID=Europe/Berlin:20221207T193000
DTEND;TZID=Europe/Berlin:20221207T223000
SUMMARY:O40 2. Liga Gr. 2 Zürich-Affoltern II vs Affoltern A/A (0)
UID:7cf78fa9-a436-4784-879b-cf24506ca314
STATUS:CONFIRMED
LAST-MODIFIED:20221212T145032Z
DESCRIPTION:2. Liga O40 Gruppe 2\nBegegnungs-Nr: 0\nHeim: Zürich-Affoltern II\nGast: Affoltern A/A\n\nAdresse: Fronwaldstr.115\, 8046 Zürich\n
LOCATION:Fronwaldstr.115\, 8046 Zürich
CATEGORIES:Saison 2022/23
END:VEVENT
BEGIN:VEVENT
DTSTAMP:20260426T034020Z
DTSTART;TZID=Europe/Berlin:20221212T193000
DTEND;TZID=Europe/Berlin:20221212T223000
SUMMARY:O40 2. Liga Gr. 2 Pinguin Zürich vs Affoltern A/A (0)
UID:6afae323-28d9-4d48-8ca1-3a5598deed02
STATUS:CONFIRMED
LAST-MODIFIED:20221215T090011Z
DESCRIPTION:2. Liga O40 Gruppe 2\nBegegnungs-Nr: 0\nHeim: Pinguin Zürich\nGast: Affoltern A/A\n\nAdresse: Basteiplatz\, 8001 Zürich\n
LOCATION:Basteiplatz\, 8001 Zürich
CATEGORIES:Saison 2022/23
END:VEVENT
BEGIN:VEVENT
DTSTAMP:20260426T034020Z
DTSTART;TZID=Europe/Berlin:20230302T201500
DTEND;TZID=Europe/Berlin:20230302T231500
SUMMARY:O40 2. Liga Gr. 2 Bülach vs Affoltern A/A (0)
UID:5f11bc83-785b-4ec1-9c28-64890353d0e5
STATUS:CONFIRMED
LAST-MODIFIED:20230307T102411Z
DESCRIPTION:2. Liga O40 Gruppe 2\nBegegnungs-Nr: 0\nHeim: Bülach\nGast: Affoltern A/A\n\nAdresse: Unterweg 51\, 8180 Bülach\n
LOCATION:Unterweg 51\, 8180 Bülach
CATEGORIES:Saison 2022/23
END:VEVENT
END:VCALENDAR
