BEGIN:VCALENDAR
PRODID:-//nuDatenautomaten//framework iCal4j //DE
VERSION:2.0
CALSCALE:GREGORIAN
BEGIN:VTIMEZONE
TZID:Europe/Berlin
LAST-MODIFIED:20260306T231828Z
TZURL:https://www.tzurl.org/zoneinfo/Europe/Berlin
X-LIC-LOCATION:Europe/Berlin
X-PROLEPTIC-TZNAME:LMT
BEGIN:STANDARD
TZNAME:CET
TZOFFSETFROM:+005328
TZOFFSETTO:+0100
DTSTART:18930401T000000
END:STANDARD
BEGIN:DAYLIGHT
TZNAME:CEST
TZOFFSETFROM:+0100
TZOFFSETTO:+0200
DTSTART:19160430T230000
RDATE:19400401T020000
RDATE:19430329T020000
RDATE:19460414T020000
RDATE:19470406T030000
RDATE:19480418T020000
RDATE:19490410T020000
RDATE:19800406T020000
END:DAYLIGHT
BEGIN:STANDARD
TZNAME:CET
TZOFFSETFROM:+0200
TZOFFSETTO:+0100
DTSTART:19161001T010000
RDATE:19421102T030000
RDATE:19431004T030000
RDATE:19441002T030000
RDATE:19451118T030000
RDATE:19461007T030000
END:STANDARD
BEGIN:DAYLIGHT
TZNAME:CEST
TZOFFSETFROM:+0100
TZOFFSETTO:+0200
DTSTART:19170416T020000
RRULE:FREQ=YEARLY;UNTIL=19180415T010000Z;BYMONTH=4;BYDAY=3MO
END:DAYLIGHT
BEGIN:STANDARD
TZNAME:CET
TZOFFSETFROM:+0200
TZOFFSETTO:+0100
DTSTART:19170917T030000
RRULE:FREQ=YEARLY;UNTIL=19180916T010000Z;BYMONTH=9;BYDAY=3MO
END:STANDARD
BEGIN:DAYLIGHT
TZNAME:CEST
TZOFFSETFROM:+0100
TZOFFSETTO:+0200
DTSTART:19440403T020000
RRULE:FREQ=YEARLY;UNTIL=19450402T010000Z;BYMONTH=4;BYDAY=1MO
END:DAYLIGHT
BEGIN:DAYLIGHT
TZNAME:CEMT
TZOFFSETFROM:+0200
TZOFFSETTO:+0300
DTSTART:19450524T020000
RDATE:19470511T030000
END:DAYLIGHT
BEGIN:DAYLIGHT
TZNAME:CEST
TZOFFSETFROM:+0300
TZOFFSETTO:+0200
DTSTART:19450924T030000
RDATE:19470629T030000
END:DAYLIGHT
BEGIN:STANDARD
TZNAME:CET
TZOFFSETFROM:+0100
TZOFFSETTO:+0100
DTSTART:19460101T000000
RDATE:19800101T000000
END:STANDARD
BEGIN:STANDARD
TZNAME:CET
TZOFFSETFROM:+0200
TZOFFSETTO:+0100
DTSTART:19471005T030000
RRULE:FREQ=YEARLY;UNTIL=19491002T010000Z;BYMONTH=10;BYDAY=1SU
END:STANDARD
BEGIN:STANDARD
TZNAME:CET
TZOFFSETFROM:+0200
TZOFFSETTO:+0100
DTSTART:19800928T030000
RRULE:FREQ=YEARLY;UNTIL=19950924T010000Z;BYMONTH=9;BYDAY=-1SU
END:STANDARD
BEGIN:DAYLIGHT
TZNAME:CEST
TZOFFSETFROM:+0100
TZOFFSETTO:+0200
DTSTART:19810329T020000
RRULE:FREQ=YEARLY;BYMONTH=3;BYDAY=-1SU
END:DAYLIGHT
BEGIN:STANDARD
TZNAME:CET
TZOFFSETFROM:+0200
TZOFFSETTO:+0100
DTSTART:19961027T030000
RRULE:FREQ=YEARLY;BYMONTH=10;BYDAY=-1SU
END:STANDARD
END:VTIMEZONE
BEGIN:VEVENT
DTSTAMP:20260426T033155Z
DTSTART;TZID=Europe/Berlin:20221027T200000
DTEND;TZID=Europe/Berlin:20221027T230000
SUMMARY:O40 2. Liga Gr. 1 Gaiserwald II vs St. Gallen (0)
UID:8100c2b8-07f4-4f9c-84f1-08f22d225d2f
STATUS:CONFIRMED
LAST-MODIFIED:20221101T091728Z
DESCRIPTION:2. Liga O40 Gruppe 1\nBegegnungs-Nr: 0\nHeim: Gaiserwald II\nGast: St. Gallen\n\nAdresse: Sonnenbergstrasse 15\, 9030 Abtwil\n
LOCATION:Sonnenbergstrasse 15\, 9030 Abtwil
CATEGORIES:Saison 2022/23
END:VEVENT
BEGIN:VEVENT
DTSTAMP:20260426T033155Z
DTSTART;TZID=Europe/Berlin:20230119T200000
DTEND;TZID=Europe/Berlin:20230119T230000
SUMMARY:O40 2. Liga Gr. 1 Gaiserwald II vs Winterthur (0)
UID:59f4be6b-e3f3-48af-8f9a-c2e51eb0ec4e
STATUS:CONFIRMED
LAST-MODIFIED:20230127T163522Z
DESCRIPTION:2. Liga O40 Gruppe 1\nBegegnungs-Nr: 0\nHeim: Gaiserwald II\nGast: Winterthur\n\nAdresse: Sonnenbergstrasse 15\, 9030 Abtwil\n
LOCATION:Sonnenbergstrasse 15\, 9030 Abtwil
CATEGORIES:Saison 2022/23
END:VEVENT
BEGIN:VEVENT
DTSTAMP:20260426T033155Z
DTSTART;TZID=Europe/Berlin:20230309T200000
DTEND;TZID=Europe/Berlin:20230309T230000
SUMMARY:O40 2. Liga Gr. 1 Gaiserwald II vs Dübendorf-Volketswil (0)
UID:73e3627d-d608-47ae-bddf-b23aae545730
STATUS:CONFIRMED
LAST-MODIFIED:20230316T095826Z
DESCRIPTION:2. Liga O40 Gruppe 1\nBegegnungs-Nr: 0\nHeim: Gaiserwald II\nGast: Dübendorf-Volketswil\n\nAdresse: Sonnenbergstrasse 15\, 9030 Abtwil\n
LOCATION:Sonnenbergstrasse 15\, 9030 Abtwil
CATEGORIES:Saison 2022/23
END:VEVENT
BEGIN:VEVENT
DTSTAMP:20260426T033155Z
DTSTART;TZID=Europe/Berlin:20220825T200000
DTEND;TZID=Europe/Berlin:20220825T230000
SUMMARY:O40 2. Liga Gr. 1 Gaiserwald II vs Uster (0)
UID:19ee6543-9851-4fd7-b6c4-9e6a39cbbe0d
STATUS:CONFIRMED
LAST-MODIFIED:20220829T054106Z
DESCRIPTION:2. Liga O40 Gruppe 1\nBegegnungs-Nr: 0\nHeim: Gaiserwald II\nGast: Uster\n\nAdresse: Sonnenbergstrasse 15\, 9030 Abtwil\n
LOCATION:Sonnenbergstrasse 15\, 9030 Abtwil
CATEGORIES:Saison 2022/23
END:VEVENT
BEGIN:VEVENT
DTSTAMP:20260426T033155Z
DTSTART;TZID=Europe/Berlin:20230427T200000
DTEND;TZID=Europe/Berlin:20230427T230000
SUMMARY:O40 2. Liga Gr. 1 Gaiserwald II vs Buchs Zürich (0)
UID:4b976e6c-2885-4380-82ff-b73292e87f44
STATUS:CONFIRMED
LAST-MODIFIED:20230428T140854Z
DESCRIPTION:2. Liga O40 Gruppe 1\nBegegnungs-Nr: 0\nHeim: Gaiserwald II\nGast: Buchs Zürich\n\nAdresse: Sonnenbergstrasse 15\, 9030 Abtwil\n
LOCATION:Sonnenbergstrasse 15\, 9030 Abtwil
CATEGORIES:Saison 2022/23
END:VEVENT
BEGIN:VEVENT
DTSTAMP:20260426T033155Z
DTSTART;TZID=Europe/Berlin:20230502T200000
DTEND;TZID=Europe/Berlin:20230502T230000
SUMMARY:O40 2. Liga Gr. 1 Gaiserwald II vs Romanshorn II (0)
UID:bf0a6c63-dfc5-4254-941e-ba1573284925
STATUS:CONFIRMED
LAST-MODIFIED:20230510T122629Z
DESCRIPTION:2. Liga O40 Gruppe 1\nBegegnungs-Nr: 0\nHeim: Gaiserwald II\nGast: Romanshorn II\n\nAdresse: Sonnenbergstrasse 15\, 9030 Abtwil\n
LOCATION:Sonnenbergstrasse 15\, 9030 Abtwil
CATEGORIES:Saison 2022/23
END:VEVENT
BEGIN:VEVENT
DTSTAMP:20260426T033155Z
DTSTART;TZID=Europe/Berlin:20221205T201500
DTEND;TZID=Europe/Berlin:20221205T231500
SUMMARY:O40 2. Liga Gr. 1 Buchs Zürich vs Gaiserwald II (0)
UID:1cab2c4f-ea97-41ef-9a7e-ccb7da85436c
STATUS:CONFIRMED
LAST-MODIFIED:20221208T121703Z
DESCRIPTION:2. Liga O40 Gruppe 1\nBegegnungs-Nr: 0\nHeim: Buchs Zürich\nGast: Gaiserwald II\nHalle: Schulhaus Chrüzächer\nAdresse: Schulstrasse 73\, 8105 Regensdorf\n
LOCATION:Schulhaus Chrüzächer Schulstrasse 73\, 8105 Regensdorf
CATEGORIES:Saison 2022/23
END:VEVENT
BEGIN:VEVENT
DTSTAMP:20260426T033155Z
DTSTART;TZID=Europe/Berlin:20221215T201500
DTEND;TZID=Europe/Berlin:20221215T231500
SUMMARY:O40 2. Liga Gr. 1 Romanshorn II vs Gaiserwald II (0)
UID:27084d61-b197-4741-9437-9486090f80ce
STATUS:CONFIRMED
LAST-MODIFIED:20221216T153438Z
DESCRIPTION:2. Liga O40 Gruppe 1\nBegegnungs-Nr: 0\nHeim: Romanshorn II\nGast: Gaiserwald II\n\nAdresse: Florastrasse\, 8590 Romanshorn\n
LOCATION:Florastrasse\, 8590 Romanshorn
CATEGORIES:Saison 2022/23
END:VEVENT
BEGIN:VEVENT
DTSTAMP:20260426T033155Z
DTSTART;TZID=Europe/Berlin:20230202T201500
DTEND;TZID=Europe/Berlin:20230202T231500
SUMMARY:O40 2. Liga Gr. 1 Uster vs Gaiserwald II (0)
UID:b1c37586-d253-4244-89c1-7e29684f96a6
STATUS:CONFIRMED
LAST-MODIFIED:20230208T194916Z
DESCRIPTION:2. Liga O40 Gruppe 1\nBegegnungs-Nr: 0\nHeim: Uster\nGast: Gaiserwald II\n\nAdresse: Wilstrasse 30 / Zürcherstrasse\, 8610 Uster\n
LOCATION:Wilstrasse 30 / Zürcherstrasse\, 8610 Uster
CATEGORIES:Saison 2022/23
END:VEVENT
BEGIN:VEVENT
DTSTAMP:20260426T033155Z
DTSTART;TZID=Europe/Berlin:20220818T200000
DTEND;TZID=Europe/Berlin:20220818T230000
SUMMARY:O40 2. Liga Gr. 1 Winterthur vs Gaiserwald II (0)
UID:b8abf489-b125-455f-9b84-3713bbaa95ec
STATUS:CONFIRMED
LAST-MODIFIED:20220822T061323Z
DESCRIPTION:2. Liga O40 Gruppe 1\nBegegnungs-Nr: 0\nHeim: Winterthur\nGast: Gaiserwald II\n\nAdresse: Buchackerstrasse 54\, 8400 Winterthur\n
LOCATION:Buchackerstrasse 54\, 8400 Winterthur
CATEGORIES:Saison 2022/23
END:VEVENT
BEGIN:VEVENT
DTSTAMP:20260426T033155Z
DTSTART;TZID=Europe/Berlin:20220915T194500
DTEND;TZID=Europe/Berlin:20220915T224500
SUMMARY:O40 2. Liga Gr. 1 Dübendorf-Volketswil vs Gaiserwald II (0)
UID:b65833e5-d8b6-4fa7-a991-7b13a5748c17
STATUS:CONFIRMED
LAST-MODIFIED:20220923T145629Z
DESCRIPTION:2. Liga O40 Gruppe 1\nBegegnungs-Nr: 0\nHeim: Dübendorf-Volketswil\nGast: Gaiserwald II\n\nAdresse: Wasserfurrenstrasse 7\, 8600 Dübendorf\n
LOCATION:Wasserfurrenstrasse 7\, 8600 Dübendorf
CATEGORIES:Saison 2022/23
END:VEVENT
BEGIN:VEVENT
DTSTAMP:20260426T033155Z
DTSTART;TZID=Europe/Berlin:20230324T200000
DTEND;TZID=Europe/Berlin:20230324T230000
SUMMARY:O40 2. Liga Gr. 1 St. Gallen vs Gaiserwald II (0)
UID:59ce9946-4ef8-498b-af77-392ed56b9de9
STATUS:CONFIRMED
LAST-MODIFIED:20230328T102027Z
DESCRIPTION:2. Liga O40 Gruppe 1\nBegegnungs-Nr: 0\nHeim: St. Gallen\nGast: Gaiserwald II\n\nAdresse: Zilstrasse 61\, 9016 St.Gallen\n
LOCATION:Zilstrasse 61\, 9016 St.Gallen
CATEGORIES:Saison 2022/23
END:VEVENT
END:VCALENDAR
