BEGIN:VCALENDAR
PRODID:-//nuDatenautomaten//framework iCal4j //DE
VERSION:2.0
CALSCALE:GREGORIAN
BEGIN:VTIMEZONE
TZID:Europe/Berlin
LAST-MODIFIED:20260306T231828Z
TZURL:https://www.tzurl.org/zoneinfo/Europe/Berlin
X-LIC-LOCATION:Europe/Berlin
X-PROLEPTIC-TZNAME:LMT
BEGIN:STANDARD
TZNAME:CET
TZOFFSETFROM:+005328
TZOFFSETTO:+0100
DTSTART:18930401T000000
END:STANDARD
BEGIN:DAYLIGHT
TZNAME:CEST
TZOFFSETFROM:+0100
TZOFFSETTO:+0200
DTSTART:19160430T230000
RDATE:19400401T020000
RDATE:19430329T020000
RDATE:19460414T020000
RDATE:19470406T030000
RDATE:19480418T020000
RDATE:19490410T020000
RDATE:19800406T020000
END:DAYLIGHT
BEGIN:STANDARD
TZNAME:CET
TZOFFSETFROM:+0200
TZOFFSETTO:+0100
DTSTART:19161001T010000
RDATE:19421102T030000
RDATE:19431004T030000
RDATE:19441002T030000
RDATE:19451118T030000
RDATE:19461007T030000
END:STANDARD
BEGIN:DAYLIGHT
TZNAME:CEST
TZOFFSETFROM:+0100
TZOFFSETTO:+0200
DTSTART:19170416T020000
RRULE:FREQ=YEARLY;UNTIL=19180415T010000Z;BYMONTH=4;BYDAY=3MO
END:DAYLIGHT
BEGIN:STANDARD
TZNAME:CET
TZOFFSETFROM:+0200
TZOFFSETTO:+0100
DTSTART:19170917T030000
RRULE:FREQ=YEARLY;UNTIL=19180916T010000Z;BYMONTH=9;BYDAY=3MO
END:STANDARD
BEGIN:DAYLIGHT
TZNAME:CEST
TZOFFSETFROM:+0100
TZOFFSETTO:+0200
DTSTART:19440403T020000
RRULE:FREQ=YEARLY;UNTIL=19450402T010000Z;BYMONTH=4;BYDAY=1MO
END:DAYLIGHT
BEGIN:DAYLIGHT
TZNAME:CEMT
TZOFFSETFROM:+0200
TZOFFSETTO:+0300
DTSTART:19450524T020000
RDATE:19470511T030000
END:DAYLIGHT
BEGIN:DAYLIGHT
TZNAME:CEST
TZOFFSETFROM:+0300
TZOFFSETTO:+0200
DTSTART:19450924T030000
RDATE:19470629T030000
END:DAYLIGHT
BEGIN:STANDARD
TZNAME:CET
TZOFFSETFROM:+0100
TZOFFSETTO:+0100
DTSTART:19460101T000000
RDATE:19800101T000000
END:STANDARD
BEGIN:STANDARD
TZNAME:CET
TZOFFSETFROM:+0200
TZOFFSETTO:+0100
DTSTART:19471005T030000
RRULE:FREQ=YEARLY;UNTIL=19491002T010000Z;BYMONTH=10;BYDAY=1SU
END:STANDARD
BEGIN:STANDARD
TZNAME:CET
TZOFFSETFROM:+0200
TZOFFSETTO:+0100
DTSTART:19800928T030000
RRULE:FREQ=YEARLY;UNTIL=19950924T010000Z;BYMONTH=9;BYDAY=-1SU
END:STANDARD
BEGIN:DAYLIGHT
TZNAME:CEST
TZOFFSETFROM:+0100
TZOFFSETTO:+0200
DTSTART:19810329T020000
RRULE:FREQ=YEARLY;BYMONTH=3;BYDAY=-1SU
END:DAYLIGHT
BEGIN:STANDARD
TZNAME:CET
TZOFFSETFROM:+0200
TZOFFSETTO:+0100
DTSTART:19961027T030000
RRULE:FREQ=YEARLY;BYMONTH=10;BYDAY=-1SU
END:STANDARD
END:VTIMEZONE
BEGIN:VEVENT
DTSTAMP:20260426T033407Z
DTSTART;TZID=Europe/Berlin:20220907T201500
DTEND;TZID=Europe/Berlin:20220907T231500
SUMMARY:HE 4. Liga Gr. 7 Young Stars ZH VIII vs Meilen-Männedorf III (0)
UID:4da20734-532c-44b3-952a-445254a14aee
STATUS:CONFIRMED
LAST-MODIFIED:20220909T124936Z
DESCRIPTION:4. Liga Herren Gruppe 7\nBegegnungs-Nr: 0\nHeim: Young Stars ZH VIII\nGast: Meilen-Männedorf III\n\nAdresse: Seefeldstrasse 93\, 8008 Zürich\n
LOCATION:Seefeldstrasse 93\, 8008 Zürich
CATEGORIES:Saison 2022/23
END:VEVENT
BEGIN:VEVENT
DTSTAMP:20260426T033407Z
DTSTART;TZID=Europe/Berlin:20221207T201500
DTEND;TZID=Europe/Berlin:20221207T231500
SUMMARY:HE 4. Liga Gr. 7 Young Stars ZH VIII vs Uster III (0)
UID:8ee518a6-c913-482c-83b9-14cd9cdbb67d
STATUS:CONFIRMED
LAST-MODIFIED:20221208T114233Z
DESCRIPTION:4. Liga Herren Gruppe 7\nBegegnungs-Nr: 0\nHeim: Young Stars ZH VIII\nGast: Uster III\n\nAdresse: Seefeldstrasse 93\, 8008 Zürich\n
LOCATION:Seefeldstrasse 93\, 8008 Zürich
CATEGORIES:Saison 2022/23
END:VEVENT
BEGIN:VEVENT
DTSTAMP:20260426T033407Z
DTSTART;TZID=Europe/Berlin:20221102T201500
DTEND;TZID=Europe/Berlin:20221102T231500
SUMMARY:HE 4. Liga Gr. 7 Young Stars ZH VIII vs Dübendorf-Volketswil III (0)
UID:deb823e9-42c8-40d4-b28d-b5818a0f0c90
STATUS:CONFIRMED
LAST-MODIFIED:20221108T160453Z
DESCRIPTION:4. Liga Herren Gruppe 7\nBegegnungs-Nr: 0\nHeim: Young Stars ZH VIII\nGast: Dübendorf-Volketswil III\n\nAdresse: Seefeldstrasse 93\, 8008 Zürich\n
LOCATION:Seefeldstrasse 93\, 8008 Zürich
CATEGORIES:Saison 2022/23
END:VEVENT
BEGIN:VEVENT
DTSTAMP:20260426T033407Z
DTSTART;TZID=Europe/Berlin:20221123T201500
DTEND;TZID=Europe/Berlin:20221123T231500
SUMMARY:HE 4. Liga Gr. 7 Young Stars ZH VIII vs Gossau Zuerich (0)
UID:459a6863-a6d5-4633-ac0b-c4fef17caeb6
STATUS:CONFIRMED
LAST-MODIFIED:20221128T095630Z
DESCRIPTION:4. Liga Herren Gruppe 7\nBegegnungs-Nr: 0\nHeim: Young Stars ZH VIII\nGast: Gossau Zuerich\n\nAdresse: Seefeldstrasse 93\, 8008 Zürich\n
LOCATION:Seefeldstrasse 93\, 8008 Zürich
CATEGORIES:Saison 2022/23
END:VEVENT
BEGIN:VEVENT
DTSTAMP:20260426T033407Z
DTSTART;TZID=Europe/Berlin:20230412T201500
DTEND;TZID=Europe/Berlin:20230412T231500
SUMMARY:HE 4. Liga Gr. 7 Young Stars ZH VIII vs Wolfhausen II (0)
UID:a89135ec-50af-4523-9d3d-cf4e6112c3d7
STATUS:CONFIRMED
LAST-MODIFIED:20230418T064730Z
DESCRIPTION:4. Liga Herren Gruppe 7\nBegegnungs-Nr: 0\nHeim: Young Stars ZH VIII\nGast: Wolfhausen II\n\nAdresse: Seefeldstrasse 93\, 8008 Zürich\n
LOCATION:Seefeldstrasse 93\, 8008 Zürich
CATEGORIES:Saison 2022/23
END:VEVENT
BEGIN:VEVENT
DTSTAMP:20260426T033407Z
DTSTART;TZID=Europe/Berlin:20230111T201500
DTEND;TZID=Europe/Berlin:20230111T231500
SUMMARY:HE 4. Liga Gr. 7 Young Stars ZH VIII vs Flums IV (0)
UID:292267e2-3a8d-4edf-af8c-e9d6b4439500
STATUS:CONFIRMED
LAST-MODIFIED:20230117T082330Z
DESCRIPTION:4. Liga Herren Gruppe 7\nBegegnungs-Nr: 0\nHeim: Young Stars ZH VIII\nGast: Flums IV\n\nAdresse: Seefeldstrasse 93\, 8008 Zürich\n
LOCATION:Seefeldstrasse 93\, 8008 Zürich
CATEGORIES:Saison 2022/23
END:VEVENT
BEGIN:VEVENT
DTSTAMP:20260426T033407Z
DTSTART;TZID=Europe/Berlin:20230201T201500
DTEND;TZID=Europe/Berlin:20230201T231500
SUMMARY:HE 4. Liga Gr. 7 Young Stars ZH VIII vs Wetzikon VI (0)
UID:32896353-68bb-4340-8d18-b2da57f74773
STATUS:CONFIRMED
LAST-MODIFIED:20230202T142832Z
DESCRIPTION:4. Liga Herren Gruppe 7\nBegegnungs-Nr: 0\nHeim: Young Stars ZH VIII\nGast: Wetzikon VI\n\nAdresse: Seefeldstrasse 93\, 8008 Zürich\n
LOCATION:Seefeldstrasse 93\, 8008 Zürich
CATEGORIES:Saison 2022/23
END:VEVENT
BEGIN:VEVENT
DTSTAMP:20260426T033407Z
DTSTART;TZID=Europe/Berlin:20220829T201500
DTEND;TZID=Europe/Berlin:20220829T231500
SUMMARY:HE 4. Liga Gr. 7 Flums IV vs Young Stars ZH VIII (0)
UID:9d1b5de0-b17f-4cb2-bc70-3c7510a95893
STATUS:CONFIRMED
LAST-MODIFIED:20220831T123909Z
DESCRIPTION:4. Liga Herren Gruppe 7\nBegegnungs-Nr: 0\nHeim: Flums IV\nGast: Young Stars ZH VIII\n\nAdresse: Bergstrasse\, 8890 Flums\n
LOCATION:Bergstrasse\, 8890 Flums
CATEGORIES:Saison 2022/23
END:VEVENT
BEGIN:VEVENT
DTSTAMP:20260426T033407Z
DTSTART;TZID=Europe/Berlin:20220912T194500
DTEND;TZID=Europe/Berlin:20220912T224500
SUMMARY:HE 4. Liga Gr. 7 Wetzikon VI vs Young Stars ZH VIII (0)
UID:6ee07d65-06d1-4bd0-ad3b-5519bc871787
STATUS:CONFIRMED
LAST-MODIFIED:20220914T081033Z
DESCRIPTION:4. Liga Herren Gruppe 7\nBegegnungs-Nr: 0\nHeim: Wetzikon VI\nGast: Young Stars ZH VIII\n\nAdresse: Usterstrasse 37\, 8620 Wetzikon\n
LOCATION:Usterstrasse 37\, 8620 Wetzikon
CATEGORIES:Saison 2022/23
END:VEVENT
BEGIN:VEVENT
DTSTAMP:20260426T033407Z
DTSTART;TZID=Europe/Berlin:20221107T200000
DTEND;TZID=Europe/Berlin:20221107T230000
SUMMARY:HE 4. Liga Gr. 7 Wolfhausen II vs Young Stars ZH VIII (0)
UID:5ba3fa93-9c6d-4ddf-9b14-60c61a8c159a
STATUS:CONFIRMED
LAST-MODIFIED:20221108T160727Z
DESCRIPTION:4. Liga Herren Gruppe 7\nBegegnungs-Nr: 0\nHeim: Wolfhausen II\nGast: Young Stars ZH VIII\n\nAdresse: Schulstrasse 9\, 8633 Wolfhausen\n
LOCATION:Schulstrasse 9\, 8633 Wolfhausen
CATEGORIES:Saison 2022/23
END:VEVENT
BEGIN:VEVENT
DTSTAMP:20260426T033407Z
DTSTART;TZID=Europe/Berlin:20230331T200000
DTEND;TZID=Europe/Berlin:20230331T230000
SUMMARY:HE 4. Liga Gr. 7 Gossau Zuerich vs Young Stars ZH VIII (0)
UID:fe0f79be-d704-444e-991c-e89ae719545f
STATUS:CONFIRMED
LAST-MODIFIED:20230403T093716Z
DESCRIPTION:4. Liga Herren Gruppe 7\nBegegnungs-Nr: 0\nHeim: Gossau Zuerich\nGast: Young Stars ZH VIII\n\nAdresse: Schulstrasse\, 8624 Grüt-Gossau\n
LOCATION:Schulstrasse\, 8624 Grüt-Gossau
CATEGORIES:Saison 2022/23
END:VEVENT
BEGIN:VEVENT
DTSTAMP:20260426T033407Z
DTSTART;TZID=Europe/Berlin:20230209T201500
DTEND;TZID=Europe/Berlin:20230209T231500
SUMMARY:HE 4. Liga Gr. 7 Uster III vs Young Stars ZH VIII (0)
UID:ee0bfe5c-daba-4758-a0a0-6e7aea2bac54
STATUS:CONFIRMED
LAST-MODIFIED:20230210T100659Z
DESCRIPTION:4. Liga Herren Gruppe 7\nBegegnungs-Nr: 0\nHeim: Uster III\nGast: Young Stars ZH VIII\n\nAdresse: Wilstrasse 30 / Zürcherstrasse\, 8610 Uster\n
LOCATION:Wilstrasse 30 / Zürcherstrasse\, 8610 Uster
CATEGORIES:Saison 2022/23
END:VEVENT
BEGIN:VEVENT
DTSTAMP:20260426T033407Z
DTSTART;TZID=Europe/Berlin:20230126T194500
DTEND;TZID=Europe/Berlin:20230126T224500
SUMMARY:HE 4. Liga Gr. 7 Meilen-Männedorf III vs Young Stars ZH VIII (0)
UID:bdc87f38-f4a6-4cee-b45f-66ddb5817bf7
STATUS:CONFIRMED
LAST-MODIFIED:20230127T162134Z
DESCRIPTION:4. Liga Herren Gruppe 7\nBegegnungs-Nr: 0\nHeim: Meilen-Männedorf III\nGast: Young Stars ZH VIII\n\nAdresse: Schulhausstr. 27\, 8706 Meilen\n
LOCATION:Schulhausstr. 27\, 8706 Meilen
CATEGORIES:Saison 2022/23
END:VEVENT
BEGIN:VEVENT
DTSTAMP:20260426T033407Z
DTSTART;TZID=Europe/Berlin:20230306T200000
DTEND;TZID=Europe/Berlin:20230306T230000
SUMMARY:HE 4. Liga Gr. 7 Dübendorf-Volketswil III vs Young Stars ZH VIII (0)
UID:bf0984c5-2b4d-4ba8-9447-bc010b5cd4f2
STATUS:CONFIRMED
LAST-MODIFIED:20230307T092013Z
DESCRIPTION:4. Liga Herren Gruppe 7\nBegegnungs-Nr: 0\nHeim: Dübendorf-Volketswil III\nGast: Young Stars ZH VIII\n\nAdresse: Usterstrasse 35\, 8604 Volketswil\n
LOCATION:Usterstrasse 35\, 8604 Volketswil
CATEGORIES:Saison 2022/23
END:VEVENT
END:VCALENDAR
