BEGIN:VCALENDAR
PRODID:-//nuDatenautomaten//framework iCal4j //DE
VERSION:2.0
CALSCALE:GREGORIAN
BEGIN:VTIMEZONE
TZID:Europe/Berlin
LAST-MODIFIED:20260306T231828Z
TZURL:https://www.tzurl.org/zoneinfo/Europe/Berlin
X-LIC-LOCATION:Europe/Berlin
X-PROLEPTIC-TZNAME:LMT
BEGIN:STANDARD
TZNAME:CET
TZOFFSETFROM:+005328
TZOFFSETTO:+0100
DTSTART:18930401T000000
END:STANDARD
BEGIN:DAYLIGHT
TZNAME:CEST
TZOFFSETFROM:+0100
TZOFFSETTO:+0200
DTSTART:19160430T230000
RDATE:19400401T020000
RDATE:19430329T020000
RDATE:19460414T020000
RDATE:19470406T030000
RDATE:19480418T020000
RDATE:19490410T020000
RDATE:19800406T020000
END:DAYLIGHT
BEGIN:STANDARD
TZNAME:CET
TZOFFSETFROM:+0200
TZOFFSETTO:+0100
DTSTART:19161001T010000
RDATE:19421102T030000
RDATE:19431004T030000
RDATE:19441002T030000
RDATE:19451118T030000
RDATE:19461007T030000
END:STANDARD
BEGIN:DAYLIGHT
TZNAME:CEST
TZOFFSETFROM:+0100
TZOFFSETTO:+0200
DTSTART:19170416T020000
RRULE:FREQ=YEARLY;UNTIL=19180415T010000Z;BYMONTH=4;BYDAY=3MO
END:DAYLIGHT
BEGIN:STANDARD
TZNAME:CET
TZOFFSETFROM:+0200
TZOFFSETTO:+0100
DTSTART:19170917T030000
RRULE:FREQ=YEARLY;UNTIL=19180916T010000Z;BYMONTH=9;BYDAY=3MO
END:STANDARD
BEGIN:DAYLIGHT
TZNAME:CEST
TZOFFSETFROM:+0100
TZOFFSETTO:+0200
DTSTART:19440403T020000
RRULE:FREQ=YEARLY;UNTIL=19450402T010000Z;BYMONTH=4;BYDAY=1MO
END:DAYLIGHT
BEGIN:DAYLIGHT
TZNAME:CEMT
TZOFFSETFROM:+0200
TZOFFSETTO:+0300
DTSTART:19450524T020000
RDATE:19470511T030000
END:DAYLIGHT
BEGIN:DAYLIGHT
TZNAME:CEST
TZOFFSETFROM:+0300
TZOFFSETTO:+0200
DTSTART:19450924T030000
RDATE:19470629T030000
END:DAYLIGHT
BEGIN:STANDARD
TZNAME:CET
TZOFFSETFROM:+0100
TZOFFSETTO:+0100
DTSTART:19460101T000000
RDATE:19800101T000000
END:STANDARD
BEGIN:STANDARD
TZNAME:CET
TZOFFSETFROM:+0200
TZOFFSETTO:+0100
DTSTART:19471005T030000
RRULE:FREQ=YEARLY;UNTIL=19491002T010000Z;BYMONTH=10;BYDAY=1SU
END:STANDARD
BEGIN:STANDARD
TZNAME:CET
TZOFFSETFROM:+0200
TZOFFSETTO:+0100
DTSTART:19800928T030000
RRULE:FREQ=YEARLY;UNTIL=19950924T010000Z;BYMONTH=9;BYDAY=-1SU
END:STANDARD
BEGIN:DAYLIGHT
TZNAME:CEST
TZOFFSETFROM:+0100
TZOFFSETTO:+0200
DTSTART:19810329T020000
RRULE:FREQ=YEARLY;BYMONTH=3;BYDAY=-1SU
END:DAYLIGHT
BEGIN:STANDARD
TZNAME:CET
TZOFFSETFROM:+0200
TZOFFSETTO:+0100
DTSTART:19961027T030000
RRULE:FREQ=YEARLY;BYMONTH=10;BYDAY=-1SU
END:STANDARD
END:VTIMEZONE
BEGIN:VEVENT
DTSTAMP:20260419T214429Z
DTSTART;TZID=Europe/Berlin:20211212T140000
DTEND;TZID=Europe/Berlin:20211212T170000
SUMMARY:Achtelsfinal Rapperswil-Jona vs Toggenburg (0)
UID:c62c9b34-48c2-4e23-a07d-de8384308c66
STATUS:CONFIRMED
LAST-MODIFIED:20220218T101441Z
DESCRIPTION:Achtelsfinal\nBegegnungs-Nr: 0\nHeim: Rapperswil-Jona\nGast: Toggenburg\n\nAdresse: Kreuzstrasse 43\, 8640 Rapperswil\n
LOCATION:Kreuzstrasse 43\, 8640 Rapperswil
CATEGORIES:Saison Cup 2021/22
END:VEVENT
BEGIN:VEVENT
DTSTAMP:20260419T214429Z
DTSTART;TZID=Europe/Berlin:20220626T123000
DTEND;TZID=Europe/Berlin:20220626T153000
SUMMARY:Final Rapperswil-Jona vs Neuhausen (1)
UID:3e85b250-6964-4c9d-8eda-bd49b93f5967
STATUS:CONFIRMED
LAST-MODIFIED:20220628T115543Z
DESCRIPTION:Final\nBegegnungs-Nr: 1\nHeim: Rapperswil-Jona\nGast: Neuhausen\n
LOCATION:
CATEGORIES:Saison Cup 2021/22
END:VEVENT
BEGIN:VEVENT
DTSTAMP:20260419T214429Z
DTSTART;TZID=Europe/Berlin:20220626T100000
DTEND;TZID=Europe/Berlin:20220626T130000
SUMMARY:Halbfinal Rapperswil-Jona vs Romanshorn (1)
UID:3b6e435e-3770-4366-bad0-a2c2c80c843a
STATUS:CONFIRMED
LAST-MODIFIED:20220628T113459Z
DESCRIPTION:Halbfinal\nBegegnungs-Nr: 1\nHeim: Rapperswil-Jona\nGast: Romanshorn\n
LOCATION:
CATEGORIES:Saison Cup 2021/22
END:VEVENT
BEGIN:VEVENT
DTSTAMP:20260419T214429Z
DTSTART;TZID=Europe/Berlin:20220420T201500
DTEND;TZID=Europe/Berlin:20220420T231500
SUMMARY:Vietelsfinal Young Stars ZH II vs Rapperswil-Jona (0)
UID:49e5ccab-ce8f-4f39-b3d1-c7ec58366af1
STATUS:CONFIRMED
LAST-MODIFIED:20220502T143217Z
DESCRIPTION:Viertelsfinal\nBegegnungs-Nr: 0\nHeim: Young Stars ZH II\nGast: Rapperswil-Jona\n\nAdresse: Seefeldstrasse 93\, 8008 Zürich\n
LOCATION:Seefeldstrasse 93\, 8008 Zürich
CATEGORIES:Saison Cup 2021/22
END:VEVENT
END:VCALENDAR
