BEGIN:VCALENDAR
PRODID:-//nuDatenautomaten//framework iCal4j //DE
VERSION:2.0
CALSCALE:GREGORIAN
BEGIN:VTIMEZONE
TZID:Europe/Berlin
LAST-MODIFIED:20260306T231828Z
TZURL:https://www.tzurl.org/zoneinfo/Europe/Berlin
X-LIC-LOCATION:Europe/Berlin
X-PROLEPTIC-TZNAME:LMT
BEGIN:STANDARD
TZNAME:CET
TZOFFSETFROM:+005328
TZOFFSETTO:+0100
DTSTART:18930401T000000
END:STANDARD
BEGIN:DAYLIGHT
TZNAME:CEST
TZOFFSETFROM:+0100
TZOFFSETTO:+0200
DTSTART:19160430T230000
RDATE:19400401T020000
RDATE:19430329T020000
RDATE:19460414T020000
RDATE:19470406T030000
RDATE:19480418T020000
RDATE:19490410T020000
RDATE:19800406T020000
END:DAYLIGHT
BEGIN:STANDARD
TZNAME:CET
TZOFFSETFROM:+0200
TZOFFSETTO:+0100
DTSTART:19161001T010000
RDATE:19421102T030000
RDATE:19431004T030000
RDATE:19441002T030000
RDATE:19451118T030000
RDATE:19461007T030000
END:STANDARD
BEGIN:DAYLIGHT
TZNAME:CEST
TZOFFSETFROM:+0100
TZOFFSETTO:+0200
DTSTART:19170416T020000
RRULE:FREQ=YEARLY;UNTIL=19180415T010000Z;BYMONTH=4;BYDAY=3MO
END:DAYLIGHT
BEGIN:STANDARD
TZNAME:CET
TZOFFSETFROM:+0200
TZOFFSETTO:+0100
DTSTART:19170917T030000
RRULE:FREQ=YEARLY;UNTIL=19180916T010000Z;BYMONTH=9;BYDAY=3MO
END:STANDARD
BEGIN:DAYLIGHT
TZNAME:CEST
TZOFFSETFROM:+0100
TZOFFSETTO:+0200
DTSTART:19440403T020000
RRULE:FREQ=YEARLY;UNTIL=19450402T010000Z;BYMONTH=4;BYDAY=1MO
END:DAYLIGHT
BEGIN:DAYLIGHT
TZNAME:CEMT
TZOFFSETFROM:+0200
TZOFFSETTO:+0300
DTSTART:19450524T020000
RDATE:19470511T030000
END:DAYLIGHT
BEGIN:DAYLIGHT
TZNAME:CEST
TZOFFSETFROM:+0300
TZOFFSETTO:+0200
DTSTART:19450924T030000
RDATE:19470629T030000
END:DAYLIGHT
BEGIN:STANDARD
TZNAME:CET
TZOFFSETFROM:+0100
TZOFFSETTO:+0100
DTSTART:19460101T000000
RDATE:19800101T000000
END:STANDARD
BEGIN:STANDARD
TZNAME:CET
TZOFFSETFROM:+0200
TZOFFSETTO:+0100
DTSTART:19471005T030000
RRULE:FREQ=YEARLY;UNTIL=19491002T010000Z;BYMONTH=10;BYDAY=1SU
END:STANDARD
BEGIN:STANDARD
TZNAME:CET
TZOFFSETFROM:+0200
TZOFFSETTO:+0100
DTSTART:19800928T030000
RRULE:FREQ=YEARLY;UNTIL=19950924T010000Z;BYMONTH=9;BYDAY=-1SU
END:STANDARD
BEGIN:DAYLIGHT
TZNAME:CEST
TZOFFSETFROM:+0100
TZOFFSETTO:+0200
DTSTART:19810329T020000
RRULE:FREQ=YEARLY;BYMONTH=3;BYDAY=-1SU
END:DAYLIGHT
BEGIN:STANDARD
TZNAME:CET
TZOFFSETFROM:+0200
TZOFFSETTO:+0100
DTSTART:19961027T030000
RRULE:FREQ=YEARLY;BYMONTH=10;BYDAY=-1SU
END:STANDARD
END:VTIMEZONE
BEGIN:VEVENT
DTSTAMP:20260419T231508Z
DTSTART;TZID=Europe/Berlin:20211210T193000
DTEND;TZID=Europe/Berlin:20211210T223000
SUMMARY:O40 2.Liga Gr.2 Pinguin Zürich vs Wädenswil (0)
UID:d548bb45-aabc-4b92-adea-a209496a8103
STATUS:CONFIRMED
LAST-MODIFIED:20211214T133652Z
DESCRIPTION:2. Liga O40 Gruppe 2\nBegegnungs-Nr: 0\nHeim: Pinguin Zürich\nGast: Wädenswil\n\nAdresse: Basteiplatz\, 8001 Zürich\n
LOCATION:Basteiplatz\, 8001 Zürich
CATEGORIES:Saison 2021/22
END:VEVENT
BEGIN:VEVENT
DTSTAMP:20260419T231508Z
DTSTART;TZID=Europe/Berlin:20210917T193000
DTEND;TZID=Europe/Berlin:20210917T223000
SUMMARY:O40 2.Liga Gr.2 Pinguin Zürich vs Zürich-Affoltern II (0)
UID:f95bc1c5-59ac-40ef-8ca7-ab273d2e0603
STATUS:CONFIRMED
LAST-MODIFIED:20210920T054027Z
DESCRIPTION:2. Liga O40 Gruppe 2\nBegegnungs-Nr: 0\nHeim: Pinguin Zürich\nGast: Zürich-Affoltern II\n\nAdresse: Basteiplatz\, 8001 Zürich\n
LOCATION:Basteiplatz\, 8001 Zürich
CATEGORIES:Saison 2021/22
END:VEVENT
BEGIN:VEVENT
DTSTAMP:20260419T231508Z
DTSTART;TZID=Europe/Berlin:20211008T193000
DTEND;TZID=Europe/Berlin:20211008T223000
SUMMARY:O40 2.Liga Gr.2 Pinguin Zürich vs Affoltern A/A (0)
UID:ece9a0fb-a75e-4d0e-a0c6-0fa59101211e
STATUS:CONFIRMED
LAST-MODIFIED:20211018T074517Z
DESCRIPTION:2. Liga O40 Gruppe 2\nBegegnungs-Nr: 0\nHeim: Pinguin Zürich\nGast: Affoltern A/A\n\nAdresse: Basteiplatz\, 8001 Zürich\n
LOCATION:Basteiplatz\, 8001 Zürich
CATEGORIES:Saison 2021/22
END:VEVENT
BEGIN:VEVENT
DTSTAMP:20260419T231508Z
DTSTART;TZID=Europe/Berlin:20220325T193000
DTEND;TZID=Europe/Berlin:20220325T223000
SUMMARY:O40 2.Liga Gr.2 Pinguin Zürich vs Rapperswil-Jona (0)
UID:551a72d5-c7d6-424e-8610-e79072669ce1
STATUS:CONFIRMED
LAST-MODIFIED:20220328T143116Z
DESCRIPTION:2. Liga O40 Gruppe 2\nBegegnungs-Nr: 0\nHeim: Pinguin Zürich\nGast: Rapperswil-Jona\n\nAdresse: Basteiplatz\, 8001 Zürich\n
LOCATION:Basteiplatz\, 8001 Zürich
CATEGORIES:Saison 2021/22
END:VEVENT
BEGIN:VEVENT
DTSTAMP:20260419T231508Z
DTSTART;TZID=Europe/Berlin:20220211T193000
DTEND;TZID=Europe/Berlin:20220211T223000
SUMMARY:O40 2.Liga Gr.2 Pinguin Zürich vs Bassersdorf (0)
UID:4b5e8af3-7232-45a4-83ef-a6a2469411e8
STATUS:CONFIRMED
LAST-MODIFIED:20220214T164815Z
DESCRIPTION:2. Liga O40 Gruppe 2\nBegegnungs-Nr: 0\nHeim: Pinguin Zürich\nGast: Bassersdorf\n\nAdresse: Basteiplatz\, 8001 Zürich\n
LOCATION:Basteiplatz\, 8001 Zürich
CATEGORIES:Saison 2021/22
END:VEVENT
BEGIN:VEVENT
DTSTAMP:20260419T231508Z
DTSTART;TZID=Europe/Berlin:20220304T193000
DTEND;TZID=Europe/Berlin:20220304T223000
SUMMARY:O40 2.Liga Gr.2 Pinguin Zürich vs Flums (0)
UID:76707fec-a09a-40da-bfc3-9a60edb02e5c
STATUS:CONFIRMED
LAST-MODIFIED:20220311T144930Z
DESCRIPTION:2. Liga O40 Gruppe 2\nBegegnungs-Nr: 0\nHeim: Pinguin Zürich\nGast: Flums\n\nAdresse: Basteiplatz\, 8001 Zürich\n
LOCATION:Basteiplatz\, 8001 Zürich
CATEGORIES:Saison 2021/22
END:VEVENT
BEGIN:VEVENT
DTSTAMP:20260419T231508Z
DTSTART;TZID=Europe/Berlin:20211216T200000
DTEND;TZID=Europe/Berlin:20211216T230000
SUMMARY:O40 2.Liga Gr.2 Bassersdorf vs Pinguin Zürich (0)
UID:d4a2c0bd-d075-4508-8df3-44d13eb2d5c6
STATUS:CONFIRMED
LAST-MODIFIED:20211222T152523Z
DESCRIPTION:2. Liga O40 Gruppe 2\nBegegnungs-Nr: 0\nHeim: Bassersdorf\nGast: Pinguin Zürich\n\nAdresse: Grindelstrasse 20\, 8303 Bassersdorf\n
LOCATION:Grindelstrasse 20\, 8303 Bassersdorf
CATEGORIES:Saison 2021/22
END:VEVENT
BEGIN:VEVENT
DTSTAMP:20260419T231508Z
DTSTART;TZID=Europe/Berlin:20211126T194500
DTEND;TZID=Europe/Berlin:20211126T224500
SUMMARY:O40 2.Liga Gr.2 Rapperswil-Jona vs Pinguin Zürich (0)
UID:cae38ebf-3d46-47dc-b505-917d17e955dd
STATUS:CONFIRMED
LAST-MODIFIED:20211201T152234Z
DESCRIPTION:2. Liga O40 Gruppe 2\nBegegnungs-Nr: 0\nHeim: Rapperswil-Jona\nGast: Pinguin Zürich\n\nAdresse: Kreuzstrasse 43\, 8640 Rapperswil\n
LOCATION:Kreuzstrasse 43\, 8640 Rapperswil
CATEGORIES:Saison 2021/22
END:VEVENT
BEGIN:VEVENT
DTSTAMP:20260419T231508Z
DTSTART;TZID=Europe/Berlin:20210826T201500
DTEND;TZID=Europe/Berlin:20210826T231500
SUMMARY:O40 2.Liga Gr.2 Flums vs Pinguin Zürich (0)
UID:9910d412-453e-4024-9ef3-1854a309ae8f
STATUS:CONFIRMED
LAST-MODIFIED:20210831T083008Z
DESCRIPTION:2. Liga O40 Gruppe 2\nBegegnungs-Nr: 0\nHeim: Flums\nGast: Pinguin Zürich\n\nAdresse: Bergstrasse\, 8890 Flums\n
LOCATION:Bergstrasse\, 8890 Flums
CATEGORIES:Saison 2021/22
END:VEVENT
BEGIN:VEVENT
DTSTAMP:20260419T231508Z
DTSTART;TZID=Europe/Berlin:20220511T193000
DTEND;TZID=Europe/Berlin:20220511T223000
SUMMARY:O40 2.Liga Abstieg Bassersdorf II vs Pinguin Zürich (0)
UID:92c5b0e3-8700-47be-83e8-a7a22439d05d
STATUS:CONFIRMED
LAST-MODIFIED:20220421T075948Z
DESCRIPTION:2. Liga O40 Abstieg\nBegegnungs-Nr: 0\nHeim: Bassersdorf II\nGast: Pinguin Zürich\n
LOCATION:
CATEGORIES:Saison 2021/22
END:VEVENT
BEGIN:VEVENT
DTSTAMP:20260419T231508Z
DTSTART;TZID=Europe/Berlin:20220407T201500
DTEND;TZID=Europe/Berlin:20220407T231500
SUMMARY:O40 2.Liga Gr.2 Wädenswil vs Pinguin Zürich (0)
UID:0efd379b-c682-4009-a842-ba3b5fd2067f
STATUS:CONFIRMED
LAST-MODIFIED:20220411T052519Z
DESCRIPTION:2. Liga O40 Gruppe 2\nBegegnungs-Nr: 0\nHeim: Wädenswil\nGast: Pinguin Zürich\n\nAdresse: Speerstrasse 95\, 8820 Wädenswil\n
LOCATION:Speerstrasse 95\, 8820 Wädenswil
CATEGORIES:Saison 2021/22
END:VEVENT
BEGIN:VEVENT
DTSTAMP:20260419T231508Z
DTSTART;TZID=Europe/Berlin:20220401T193000
DTEND;TZID=Europe/Berlin:20220401T223000
SUMMARY:O40 2.Liga Gr.2 Zürich-Affoltern II vs Pinguin Zürich (0)
UID:72f0dd29-ff42-4081-be36-0823b9c6c046
STATUS:CONFIRMED
LAST-MODIFIED:20220404T102346Z
DESCRIPTION:2. Liga O40 Gruppe 2\nBegegnungs-Nr: 0\nHeim: Zürich-Affoltern II\nGast: Pinguin Zürich\n\nAdresse: Rümlangstr. 89\, 8052 Zürich\n
LOCATION:Rümlangstr. 89\, 8052 Zürich
CATEGORIES:Saison 2021/22
END:VEVENT
BEGIN:VEVENT
DTSTAMP:20260419T231508Z
DTSTART;TZID=Europe/Berlin:20220120T194500
DTEND;TZID=Europe/Berlin:20220120T224500
SUMMARY:O40 2.Liga Gr.2 Affoltern A/A vs Pinguin Zürich (0)
UID:00bf97c2-a545-4b02-9a21-e11bd25530de
STATUS:CONFIRMED
LAST-MODIFIED:20220121T125015Z
DESCRIPTION:2. Liga O40 Gruppe 2\nBegegnungs-Nr: 0\nHeim: Affoltern A/A\nGast: Pinguin Zürich\n\nAdresse: Butzenstr. 2\, 8910 Affoltern am Albis\n
LOCATION:Butzenstr. 2\, 8910 Affoltern am Albis
CATEGORIES:Saison 2021/22
END:VEVENT
END:VCALENDAR
