BEGIN:VCALENDAR
PRODID:-//nuDatenautomaten//framework iCal4j //DE
VERSION:2.0
CALSCALE:GREGORIAN
BEGIN:VTIMEZONE
TZID:Europe/Berlin
LAST-MODIFIED:20260306T231828Z
TZURL:https://www.tzurl.org/zoneinfo/Europe/Berlin
X-LIC-LOCATION:Europe/Berlin
X-PROLEPTIC-TZNAME:LMT
BEGIN:STANDARD
TZNAME:CET
TZOFFSETFROM:+005328
TZOFFSETTO:+0100
DTSTART:18930401T000000
END:STANDARD
BEGIN:DAYLIGHT
TZNAME:CEST
TZOFFSETFROM:+0100
TZOFFSETTO:+0200
DTSTART:19160430T230000
RDATE:19400401T020000
RDATE:19430329T020000
RDATE:19460414T020000
RDATE:19470406T030000
RDATE:19480418T020000
RDATE:19490410T020000
RDATE:19800406T020000
END:DAYLIGHT
BEGIN:STANDARD
TZNAME:CET
TZOFFSETFROM:+0200
TZOFFSETTO:+0100
DTSTART:19161001T010000
RDATE:19421102T030000
RDATE:19431004T030000
RDATE:19441002T030000
RDATE:19451118T030000
RDATE:19461007T030000
END:STANDARD
BEGIN:DAYLIGHT
TZNAME:CEST
TZOFFSETFROM:+0100
TZOFFSETTO:+0200
DTSTART:19170416T020000
RRULE:FREQ=YEARLY;UNTIL=19180415T010000Z;BYMONTH=4;BYDAY=3MO
END:DAYLIGHT
BEGIN:STANDARD
TZNAME:CET
TZOFFSETFROM:+0200
TZOFFSETTO:+0100
DTSTART:19170917T030000
RRULE:FREQ=YEARLY;UNTIL=19180916T010000Z;BYMONTH=9;BYDAY=3MO
END:STANDARD
BEGIN:DAYLIGHT
TZNAME:CEST
TZOFFSETFROM:+0100
TZOFFSETTO:+0200
DTSTART:19440403T020000
RRULE:FREQ=YEARLY;UNTIL=19450402T010000Z;BYMONTH=4;BYDAY=1MO
END:DAYLIGHT
BEGIN:DAYLIGHT
TZNAME:CEMT
TZOFFSETFROM:+0200
TZOFFSETTO:+0300
DTSTART:19450524T020000
RDATE:19470511T030000
END:DAYLIGHT
BEGIN:DAYLIGHT
TZNAME:CEST
TZOFFSETFROM:+0300
TZOFFSETTO:+0200
DTSTART:19450924T030000
RDATE:19470629T030000
END:DAYLIGHT
BEGIN:STANDARD
TZNAME:CET
TZOFFSETFROM:+0100
TZOFFSETTO:+0100
DTSTART:19460101T000000
RDATE:19800101T000000
END:STANDARD
BEGIN:STANDARD
TZNAME:CET
TZOFFSETFROM:+0200
TZOFFSETTO:+0100
DTSTART:19471005T030000
RRULE:FREQ=YEARLY;UNTIL=19491002T010000Z;BYMONTH=10;BYDAY=1SU
END:STANDARD
BEGIN:STANDARD
TZNAME:CET
TZOFFSETFROM:+0200
TZOFFSETTO:+0100
DTSTART:19800928T030000
RRULE:FREQ=YEARLY;UNTIL=19950924T010000Z;BYMONTH=9;BYDAY=-1SU
END:STANDARD
BEGIN:DAYLIGHT
TZNAME:CEST
TZOFFSETFROM:+0100
TZOFFSETTO:+0200
DTSTART:19810329T020000
RRULE:FREQ=YEARLY;BYMONTH=3;BYDAY=-1SU
END:DAYLIGHT
BEGIN:STANDARD
TZNAME:CET
TZOFFSETFROM:+0200
TZOFFSETTO:+0100
DTSTART:19961027T030000
RRULE:FREQ=YEARLY;BYMONTH=10;BYDAY=-1SU
END:STANDARD
END:VTIMEZONE
BEGIN:VEVENT
DTSTAMP:20260421T204835Z
DTSTART;TZID=Europe/Berlin:20210818T200000
DTEND;TZID=Europe/Berlin:20210818T230000
SUMMARY:HE 4. Liga Gr. 3 Stettlen vs Regio Moossee II (3)
UID:b72fc1d9-c7e5-4f2c-b441-c8156bb36a2a
STATUS:CONFIRMED
LAST-MODIFIED:20210820T191255Z
DESCRIPTION:4. Liga Herren Gruppe 3\nBegegnungs-Nr: 3\nHeim: Stettlen\nGast: Regio Moossee II\n\nAdresse: Bernstrasse 45\, 3066 Stettlen\n
LOCATION:Bernstrasse 45\, 3066 Stettlen
CATEGORIES:Saison 2021/22
END:VEVENT
BEGIN:VEVENT
DTSTAMP:20260421T204835Z
DTSTART;TZID=Europe/Berlin:20211020T200000
DTEND;TZID=Europe/Berlin:20211020T230000
SUMMARY:HE 4. Liga Gr. 3 Stettlen vs Burgdorf VII (11)
UID:4baaf764-b1f1-49e7-9bf0-dc9dc3741a42
STATUS:CONFIRMED
LAST-MODIFIED:20211022T141315Z
DESCRIPTION:4. Liga Herren Gruppe 3\nBegegnungs-Nr: 11\nHeim: Stettlen\nGast: Burgdorf VII\n\nAdresse: Bernstrasse 45\, 3066 Stettlen\n
LOCATION:Bernstrasse 45\, 3066 Stettlen
CATEGORIES:Saison 2021/22
END:VEVENT
BEGIN:VEVENT
DTSTAMP:20260421T204835Z
DTSTART;TZID=Europe/Berlin:20211124T200000
DTEND;TZID=Europe/Berlin:20211124T230000
SUMMARY:HE 4. Liga Gr. 3 Stettlen vs Kirchberg III (21)
UID:7fa8654e-c87e-4611-a3d8-99dcff67510c
STATUS:CONFIRMED
LAST-MODIFIED:20211125T110756Z
DESCRIPTION:4. Liga Herren Gruppe 3\nBegegnungs-Nr: 21\nHeim: Stettlen\nGast: Kirchberg III\n\nAdresse: Bernstrasse 45\, 3066 Stettlen\n
LOCATION:Bernstrasse 45\, 3066 Stettlen
CATEGORIES:Saison 2021/22
END:VEVENT
BEGIN:VEVENT
DTSTAMP:20260421T204835Z
DTSTART;TZID=Europe/Berlin:20210920T200000
DTEND;TZID=Europe/Berlin:20210920T230000
SUMMARY:HE 4. Liga Gr. 3 Stettlen vs Bern IV (7)
UID:6351c2b1-564a-41a8-8f14-26889a1f8543
STATUS:CONFIRMED
LAST-MODIFIED:20210923T122908Z
DESCRIPTION:4. Liga Herren Gruppe 3\nBegegnungs-Nr: 7\nHeim: Stettlen\nGast: Bern IV\n\nAdresse: Bernstrasse 45\, 3066 Stettlen\n
LOCATION:Bernstrasse 45\, 3066 Stettlen
CATEGORIES:Saison 2021/22
END:VEVENT
BEGIN:VEVENT
DTSTAMP:20260421T204835Z
DTSTART;TZID=Europe/Berlin:20220309T200000
DTEND;TZID=Europe/Berlin:20220309T230000
SUMMARY:HE 4. Liga Gr. 3 Stettlen vs Langnau II (18)
UID:53281c90-3ca1-448e-a693-1df1b2105a75
STATUS:CONFIRMED
DESCRIPTION:4. Liga Herren Gruppe 3\nBegegnungs-Nr: 18\nHeim: Stettlen\nGast: Langnau II\n\nAdresse: Bernstrasse 45\, 3066 Stettlen\n
LOCATION:Bernstrasse 45\, 3066 Stettlen
CATEGORIES:Saison 2021/22
END:VEVENT
BEGIN:VEVENT
DTSTAMP:20260421T204835Z
DTSTART;TZID=Europe/Berlin:20220223T200000
DTEND;TZID=Europe/Berlin:20220223T230000
SUMMARY:HE 4. Liga Gr. 3 Stettlen vs Ittigen (15)
UID:4166f9d6-e449-4791-aac9-3b5299584c6d
STATUS:CONFIRMED
DESCRIPTION:4. Liga Herren Gruppe 3\nBegegnungs-Nr: 15\nHeim: Stettlen\nGast: Ittigen\n\nAdresse: Bernstrasse 45\, 3066 Stettlen\n
LOCATION:Bernstrasse 45\, 3066 Stettlen
CATEGORIES:Saison 2021/22
END:VEVENT
BEGIN:VEVENT
DTSTAMP:20260421T204835Z
DTSTART;TZID=Europe/Berlin:20211208T200000
DTEND;TZID=Europe/Berlin:20211208T230000
SUMMARY:HE 4. Liga Gr. 3 Stettlen vs Köniz III (26)
UID:b17056df-86ce-403b-9a0b-0804e595e135
STATUS:CONFIRMED
LAST-MODIFIED:20211212T205941Z
DESCRIPTION:4. Liga Herren Gruppe 3\nBegegnungs-Nr: 26\nHeim: Stettlen\nGast: Köniz III\n\nAdresse: Bernstrasse 45\, 3066 Stettlen\n
LOCATION:Bernstrasse 45\, 3066 Stettlen
CATEGORIES:Saison 2021/22
END:VEVENT
BEGIN:VEVENT
DTSTAMP:20260421T204835Z
DTSTART;TZID=Europe/Berlin:20211025T194500
DTEND;TZID=Europe/Berlin:20211025T224500
SUMMARY:HE 4. Liga Gr. 3 Ittigen vs Stettlen (15)
UID:4cae4363-cc84-4a59-8df0-84437aff62a2
STATUS:CONFIRMED
LAST-MODIFIED:20211026T201600Z
DESCRIPTION:4. Liga Herren Gruppe 3\nBegegnungs-Nr: 15\nHeim: Ittigen\nGast: Stettlen\n\nAdresse: Fischrainweg 17\, 3048 Worblaufen\n
LOCATION:Fischrainweg 17\, 3048 Worblaufen
CATEGORIES:Saison 2021/22
END:VEVENT
BEGIN:VEVENT
DTSTAMP:20260421T204835Z
DTSTART;TZID=Europe/Berlin:20211103T200000
DTEND;TZID=Europe/Berlin:20211103T230000
SUMMARY:HE 4. Liga Gr. 3 Langnau II vs Stettlen (18)
UID:729c3a4d-1afb-4195-a1a1-bf7c6e0c8df6
STATUS:CONFIRMED
LAST-MODIFIED:20211104T223933Z
DESCRIPTION:4. Liga Herren Gruppe 3\nBegegnungs-Nr: 18\nHeim: Langnau II\nGast: Stettlen\n\nAdresse: Bleicheweg 11\, 3550 Langnau\n
LOCATION:Bleicheweg 11\, 3550 Langnau
CATEGORIES:Saison 2021/22
END:VEVENT
BEGIN:VEVENT
DTSTAMP:20260421T204835Z
DTSTART;TZID=Europe/Berlin:20220328T200000
DTEND;TZID=Europe/Berlin:20220328T230000
SUMMARY:HE 4. Liga Gr. 3 Köniz III vs Stettlen (26)
UID:3e90acdf-a465-4550-b972-e3897536f379
STATUS:CONFIRMED
DESCRIPTION:4. Liga Herren Gruppe 3\nBegegnungs-Nr: 26\nHeim: Köniz III\nGast: Stettlen\n\nAdresse: Kirchstrasse 72-76\, 3084 Wabern\n
LOCATION:Kirchstrasse 72-76\, 3084 Wabern
CATEGORIES:Saison 2021/22
END:VEVENT
BEGIN:VEVENT
DTSTAMP:20260421T204835Z
DTSTART;TZID=Europe/Berlin:20220325T200000
DTEND;TZID=Europe/Berlin:20220325T230000
SUMMARY:HE 4. Liga Gr. 3 Kirchberg III vs Stettlen (21)
UID:d34c71de-4368-4e8b-a6a1-93f40110098f
STATUS:CONFIRMED
DESCRIPTION:4. Liga Herren Gruppe 3\nBegegnungs-Nr: 21\nHeim: Kirchberg III\nGast: Stettlen\n\nAdresse: Reinhardweg\, 3422 Kirchberg\n
LOCATION:Reinhardweg\, 3422 Kirchberg
CATEGORIES:Saison 2021/22
END:VEVENT
BEGIN:VEVENT
DTSTAMP:20260421T204835Z
DTSTART;TZID=Europe/Berlin:20220204T193000
DTEND;TZID=Europe/Berlin:20220204T223000
SUMMARY:HE 4. Liga Gr. 3 Burgdorf VII vs Stettlen (11)
UID:6337767a-1f3a-40dd-890f-dcc14190f5e4
STATUS:CONFIRMED
LAST-MODIFIED:20210712T170907Z
DESCRIPTION:4. Liga Herren Gruppe 3\nBegegnungs-Nr: 11\nHeim: Burgdorf VII\nGast: Stettlen\n\nAdresse: Pestalozzistrasse 69\, 3400 Burgdorf\n
LOCATION:Pestalozzistrasse 69\, 3400 Burgdorf
CATEGORIES:Saison 2021/22
END:VEVENT
BEGIN:VEVENT
DTSTAMP:20260421T204835Z
DTSTART;TZID=Europe/Berlin:20211215T193000
DTEND;TZID=Europe/Berlin:20211215T223000
SUMMARY:HE 4. Liga Gr. 3 Bern IV vs Stettlen (7)
UID:24b7853b-17e0-4c07-8116-7bb42366ce5d
STATUS:CONFIRMED
LAST-MODIFIED:20211222T173611Z
DESCRIPTION:4. Liga Herren Gruppe 3\nBegegnungs-Nr: 7\nHeim: Bern IV\nGast: Stettlen\n\nAdresse: Papiermühlestrasse 81\, 3014 Bern\n
LOCATION:Papiermühlestrasse 81\, 3014 Bern
CATEGORIES:Saison 2021/22
END:VEVENT
BEGIN:VEVENT
DTSTAMP:20260421T204835Z
DTSTART;TZID=Europe/Berlin:20211214T194500
DTEND;TZID=Europe/Berlin:20211214T224500
SUMMARY:HE 4. Liga Gr. 3 Regio Moossee II vs Stettlen (3)
UID:6a7f7857-a07f-4347-a946-349e38ea73be
STATUS:CONFIRMED
LAST-MODIFIED:20211216T090715Z
DESCRIPTION:4. Liga Herren Gruppe 3\nBegegnungs-Nr: 3\nHeim: Regio Moossee II\nGast: Stettlen\n\nAdresse: Schulhausstrasse 23-25\, 3302 Moosseedorf\n
LOCATION:Schulhausstrasse 23-25\, 3302 Moosseedorf
CATEGORIES:Saison 2021/22
END:VEVENT
END:VCALENDAR
