BEGIN:VCALENDAR
PRODID:-//nuDatenautomaten//framework iCal4j //DE
VERSION:2.0
CALSCALE:GREGORIAN
BEGIN:VTIMEZONE
TZID:Europe/Berlin
LAST-MODIFIED:20260306T231828Z
TZURL:https://www.tzurl.org/zoneinfo/Europe/Berlin
X-LIC-LOCATION:Europe/Berlin
X-PROLEPTIC-TZNAME:LMT
BEGIN:STANDARD
TZNAME:CET
TZOFFSETFROM:+005328
TZOFFSETTO:+0100
DTSTART:18930401T000000
END:STANDARD
BEGIN:DAYLIGHT
TZNAME:CEST
TZOFFSETFROM:+0100
TZOFFSETTO:+0200
DTSTART:19160430T230000
RDATE:19400401T020000
RDATE:19430329T020000
RDATE:19460414T020000
RDATE:19470406T030000
RDATE:19480418T020000
RDATE:19490410T020000
RDATE:19800406T020000
END:DAYLIGHT
BEGIN:STANDARD
TZNAME:CET
TZOFFSETFROM:+0200
TZOFFSETTO:+0100
DTSTART:19161001T010000
RDATE:19421102T030000
RDATE:19431004T030000
RDATE:19441002T030000
RDATE:19451118T030000
RDATE:19461007T030000
END:STANDARD
BEGIN:DAYLIGHT
TZNAME:CEST
TZOFFSETFROM:+0100
TZOFFSETTO:+0200
DTSTART:19170416T020000
RRULE:FREQ=YEARLY;UNTIL=19180415T010000Z;BYMONTH=4;BYDAY=3MO
END:DAYLIGHT
BEGIN:STANDARD
TZNAME:CET
TZOFFSETFROM:+0200
TZOFFSETTO:+0100
DTSTART:19170917T030000
RRULE:FREQ=YEARLY;UNTIL=19180916T010000Z;BYMONTH=9;BYDAY=3MO
END:STANDARD
BEGIN:DAYLIGHT
TZNAME:CEST
TZOFFSETFROM:+0100
TZOFFSETTO:+0200
DTSTART:19440403T020000
RRULE:FREQ=YEARLY;UNTIL=19450402T010000Z;BYMONTH=4;BYDAY=1MO
END:DAYLIGHT
BEGIN:DAYLIGHT
TZNAME:CEMT
TZOFFSETFROM:+0200
TZOFFSETTO:+0300
DTSTART:19450524T020000
RDATE:19470511T030000
END:DAYLIGHT
BEGIN:DAYLIGHT
TZNAME:CEST
TZOFFSETFROM:+0300
TZOFFSETTO:+0200
DTSTART:19450924T030000
RDATE:19470629T030000
END:DAYLIGHT
BEGIN:STANDARD
TZNAME:CET
TZOFFSETFROM:+0100
TZOFFSETTO:+0100
DTSTART:19460101T000000
RDATE:19800101T000000
END:STANDARD
BEGIN:STANDARD
TZNAME:CET
TZOFFSETFROM:+0200
TZOFFSETTO:+0100
DTSTART:19471005T030000
RRULE:FREQ=YEARLY;UNTIL=19491002T010000Z;BYMONTH=10;BYDAY=1SU
END:STANDARD
BEGIN:STANDARD
TZNAME:CET
TZOFFSETFROM:+0200
TZOFFSETTO:+0100
DTSTART:19800928T030000
RRULE:FREQ=YEARLY;UNTIL=19950924T010000Z;BYMONTH=9;BYDAY=-1SU
END:STANDARD
BEGIN:DAYLIGHT
TZNAME:CEST
TZOFFSETFROM:+0100
TZOFFSETTO:+0200
DTSTART:19810329T020000
RRULE:FREQ=YEARLY;BYMONTH=3;BYDAY=-1SU
END:DAYLIGHT
BEGIN:STANDARD
TZNAME:CET
TZOFFSETFROM:+0200
TZOFFSETTO:+0100
DTSTART:19961027T030000
RRULE:FREQ=YEARLY;BYMONTH=10;BYDAY=-1SU
END:STANDARD
END:VTIMEZONE
BEGIN:VEVENT
DTSTAMP:20260419T231508Z
DTSTART;TZID=Europe/Berlin:20211217T200000
DTEND;TZID=Europe/Berlin:20211217T230000
SUMMARY:O40 3.Liga Gr.1 Rorschach vs Ettenhausen (0)
UID:006d04e3-c58d-4d97-868d-3bd2f2d7953a
STATUS:CONFIRMED
LAST-MODIFIED:20211222T153941Z
DESCRIPTION:3. Liga O40 Gruppe 1\nBegegnungs-Nr: 0\nHeim: Rorschach\nGast: Ettenhausen\n\nAdresse: Mariabergstrasse 33\, 9400 Rorschach\n
LOCATION:Mariabergstrasse 33\, 9400 Rorschach
CATEGORIES:Saison 2021/22
END:VEVENT
BEGIN:VEVENT
DTSTAMP:20260419T231508Z
DTSTART;TZID=Europe/Berlin:20211210T200000
DTEND;TZID=Europe/Berlin:20211210T230000
SUMMARY:O40 3.Liga Gr.1 Rorschach vs St. Gallen II (0)
UID:2ef439f8-1827-4487-9868-452fcdf7d125
STATUS:CONFIRMED
LAST-MODIFIED:20211214T133725Z
DESCRIPTION:3. Liga O40 Gruppe 1\nBegegnungs-Nr: 0\nHeim: Rorschach\nGast: St. Gallen II\n\nAdresse: Mariabergstrasse 33\, 9400 Rorschach\n
LOCATION:Mariabergstrasse 33\, 9400 Rorschach
CATEGORIES:Saison 2021/22
END:VEVENT
BEGIN:VEVENT
DTSTAMP:20260419T231508Z
DTSTART;TZID=Europe/Berlin:20210820T200000
DTEND;TZID=Europe/Berlin:20210820T230000
SUMMARY:O40 3.Liga Gr.1 Rorschach vs Wuppenau (0)
UID:f5ac8b48-c805-4c99-9c4a-4ca9a94396be
STATUS:CONFIRMED
LAST-MODIFIED:20210824T071909Z
DESCRIPTION:3. Liga O40 Gruppe 1\nBegegnungs-Nr: 0\nHeim: Rorschach\nGast: Wuppenau\n\nAdresse: Mariabergstrasse 33\, 9400 Rorschach\n
LOCATION:Mariabergstrasse 33\, 9400 Rorschach
CATEGORIES:Saison 2021/22
END:VEVENT
BEGIN:VEVENT
DTSTAMP:20260419T231508Z
DTSTART;TZID=Europe/Berlin:20220304T200000
DTEND;TZID=Europe/Berlin:20220304T230000
SUMMARY:O40 3.Liga Gr.1 Rorschach vs Gaiserwald II (0)
UID:67a151f9-92ae-4bad-8664-c929b3199394
STATUS:CONFIRMED
LAST-MODIFIED:20220311T145051Z
DESCRIPTION:3. Liga O40 Gruppe 1\nBegegnungs-Nr: 0\nHeim: Rorschach\nGast: Gaiserwald II\n\nAdresse: Mariabergstrasse 33\, 9400 Rorschach\n
LOCATION:Mariabergstrasse 33\, 9400 Rorschach
CATEGORIES:Saison 2021/22
END:VEVENT
BEGIN:VEVENT
DTSTAMP:20260419T231508Z
DTSTART;TZID=Europe/Berlin:20220211T200000
DTEND;TZID=Europe/Berlin:20220211T230000
SUMMARY:O40 3.Liga Gr.1 Rorschach vs Gossau St.Gallen (0)
UID:413ef8ac-853a-48bb-8add-e8ae67c6baf2
STATUS:CONFIRMED
LAST-MODIFIED:20220214T164921Z
DESCRIPTION:3. Liga O40 Gruppe 1\nBegegnungs-Nr: 0\nHeim: Rorschach\nGast: Gossau St.Gallen\n\nAdresse: Mariabergstrasse 33\, 9400 Rorschach\n
LOCATION:Mariabergstrasse 33\, 9400 Rorschach
CATEGORIES:Saison 2021/22
END:VEVENT
BEGIN:VEVENT
DTSTAMP:20260419T231508Z
DTSTART;TZID=Europe/Berlin:20220325T200000
DTEND;TZID=Europe/Berlin:20220325T230000
SUMMARY:O40 3.Liga Gr.1 Rorschach vs Wallenwil (0)
UID:5cd43c7f-c1fe-4cc4-831a-c065b8012b4c
STATUS:CONFIRMED
LAST-MODIFIED:20220328T143131Z
DESCRIPTION:3. Liga O40 Gruppe 1\nBegegnungs-Nr: 0\nHeim: Rorschach\nGast: Wallenwil\n\nAdresse: Mariabergstrasse 33\, 9400 Rorschach\n
LOCATION:Mariabergstrasse 33\, 9400 Rorschach
CATEGORIES:Saison 2021/22
END:VEVENT
BEGIN:VEVENT
DTSTAMP:20260419T231508Z
DTSTART;TZID=Europe/Berlin:20211125T201500
DTEND;TZID=Europe/Berlin:20211125T231500
SUMMARY:O40 3.Liga Gr.1 Wallenwil vs Rorschach (0)
UID:8487146c-4ffd-4850-a354-5b5fa59b0f1d
STATUS:CONFIRMED
LAST-MODIFIED:20211201T152319Z
DESCRIPTION:3. Liga O40 Gruppe 1\nBegegnungs-Nr: 0\nHeim: Wallenwil\nGast: Rorschach\n\nAdresse: Stationsstrasse 29\, 8360 Wallenwil\n
LOCATION:Stationsstrasse 29\, 8360 Wallenwil
CATEGORIES:Saison 2021/22
END:VEVENT
BEGIN:VEVENT
DTSTAMP:20260419T231508Z
DTSTART;TZID=Europe/Berlin:20211028T200000
DTEND;TZID=Europe/Berlin:20211028T230000
SUMMARY:O40 3.Liga Gr.1 Gaiserwald II vs Rorschach (0)
UID:81f20ae9-3c54-4265-a8ab-7bcd2f9d21b7
STATUS:CONFIRMED
LAST-MODIFIED:20211101T060110Z
DESCRIPTION:3. Liga O40 Gruppe 1\nBegegnungs-Nr: 0\nHeim: Gaiserwald II\nGast: Rorschach\n\nAdresse: Sonnenbergstrasse 15\, 9030 Abtwil\n
LOCATION:Sonnenbergstrasse 15\, 9030 Abtwil
CATEGORIES:Saison 2021/22
END:VEVENT
BEGIN:VEVENT
DTSTAMP:20260419T231508Z
DTSTART;TZID=Europe/Berlin:20210824T200000
DTEND;TZID=Europe/Berlin:20210824T230000
SUMMARY:O40 3.Liga Gr.1 Gossau St.Gallen vs Rorschach (0)
UID:3e073129-58b1-4717-9225-dede0daa5b4c
STATUS:CONFIRMED
LAST-MODIFIED:20210831T083030Z
DESCRIPTION:3. Liga O40 Gruppe 1\nBegegnungs-Nr: 0\nHeim: Gossau St.Gallen\nGast: Rorschach\n\nAdresse: Falkenstrasse 21\, 9200 Gossau\n
LOCATION:Falkenstrasse 21\, 9200 Gossau
CATEGORIES:Saison 2021/22
END:VEVENT
BEGIN:VEVENT
DTSTAMP:20260419T231508Z
DTSTART;TZID=Europe/Berlin:20220423T140000
DTEND;TZID=Europe/Berlin:20220423T170000
SUMMARY:O40 3.Liga Gr.1 Ettenhausen vs Rorschach (0)
UID:120c6fa5-256f-4bdf-812a-ff92e387f5d0
STATUS:CONFIRMED
LAST-MODIFIED:20220426T115500Z
DESCRIPTION:3. Liga O40 Gruppe 1\nBegegnungs-Nr: 0\nHeim: Ettenhausen\nGast: Rorschach\n\nAdresse: Weidlistrasse 12\, 8356 Ettenhausen\n
LOCATION:Weidlistrasse 12\, 8356 Ettenhausen
CATEGORIES:Saison 2021/22
END:VEVENT
BEGIN:VEVENT
DTSTAMP:20260419T231508Z
DTSTART;TZID=Europe/Berlin:20220405T200000
DTEND;TZID=Europe/Berlin:20220405T230000
SUMMARY:O40 3.Liga Gr.1 St. Gallen II vs Rorschach (0)
UID:d139cd9c-393f-4589-b48e-36f48190aefa
STATUS:CONFIRMED
LAST-MODIFIED:20220411T052550Z
DESCRIPTION:3. Liga O40 Gruppe 1\nBegegnungs-Nr: 0\nHeim: St. Gallen II\nGast: Rorschach\n\nAdresse: Zilstrasse 61\, 9016 St.Gallen\n
LOCATION:Zilstrasse 61\, 9016 St.Gallen
CATEGORIES:Saison 2021/22
END:VEVENT
BEGIN:VEVENT
DTSTAMP:20260419T231508Z
DTSTART;TZID=Europe/Berlin:20220228T201500
DTEND;TZID=Europe/Berlin:20220228T231500
SUMMARY:O40 3.Liga Gr.1 Wuppenau vs Rorschach (0)
UID:c88a0b7c-0589-4794-a812-a49c54a802fd
STATUS:CONFIRMED
LAST-MODIFIED:20220301T080936Z
DESCRIPTION:3. Liga O40 Gruppe 1\nBegegnungs-Nr: 0\nHeim: Wuppenau\nGast: Rorschach\n\nAdresse: Nollenstrasse\, 9514 Wuppenau\n
LOCATION:Nollenstrasse\, 9514 Wuppenau
CATEGORIES:Saison 2021/22
END:VEVENT
END:VCALENDAR
