BEGIN:VCALENDAR
PRODID:-//nuDatenautomaten//framework iCal4j //DE
VERSION:2.0
CALSCALE:GREGORIAN
BEGIN:VTIMEZONE
TZID:Europe/Berlin
LAST-MODIFIED:20260306T231828Z
TZURL:https://www.tzurl.org/zoneinfo/Europe/Berlin
X-LIC-LOCATION:Europe/Berlin
X-PROLEPTIC-TZNAME:LMT
BEGIN:STANDARD
TZNAME:CET
TZOFFSETFROM:+005328
TZOFFSETTO:+0100
DTSTART:18930401T000000
END:STANDARD
BEGIN:DAYLIGHT
TZNAME:CEST
TZOFFSETFROM:+0100
TZOFFSETTO:+0200
DTSTART:19160430T230000
RDATE:19400401T020000
RDATE:19430329T020000
RDATE:19460414T020000
RDATE:19470406T030000
RDATE:19480418T020000
RDATE:19490410T020000
RDATE:19800406T020000
END:DAYLIGHT
BEGIN:STANDARD
TZNAME:CET
TZOFFSETFROM:+0200
TZOFFSETTO:+0100
DTSTART:19161001T010000
RDATE:19421102T030000
RDATE:19431004T030000
RDATE:19441002T030000
RDATE:19451118T030000
RDATE:19461007T030000
END:STANDARD
BEGIN:DAYLIGHT
TZNAME:CEST
TZOFFSETFROM:+0100
TZOFFSETTO:+0200
DTSTART:19170416T020000
RRULE:FREQ=YEARLY;UNTIL=19180415T010000Z;BYMONTH=4;BYDAY=3MO
END:DAYLIGHT
BEGIN:STANDARD
TZNAME:CET
TZOFFSETFROM:+0200
TZOFFSETTO:+0100
DTSTART:19170917T030000
RRULE:FREQ=YEARLY;UNTIL=19180916T010000Z;BYMONTH=9;BYDAY=3MO
END:STANDARD
BEGIN:DAYLIGHT
TZNAME:CEST
TZOFFSETFROM:+0100
TZOFFSETTO:+0200
DTSTART:19440403T020000
RRULE:FREQ=YEARLY;UNTIL=19450402T010000Z;BYMONTH=4;BYDAY=1MO
END:DAYLIGHT
BEGIN:DAYLIGHT
TZNAME:CEMT
TZOFFSETFROM:+0200
TZOFFSETTO:+0300
DTSTART:19450524T020000
RDATE:19470511T030000
END:DAYLIGHT
BEGIN:DAYLIGHT
TZNAME:CEST
TZOFFSETFROM:+0300
TZOFFSETTO:+0200
DTSTART:19450924T030000
RDATE:19470629T030000
END:DAYLIGHT
BEGIN:STANDARD
TZNAME:CET
TZOFFSETFROM:+0100
TZOFFSETTO:+0100
DTSTART:19460101T000000
RDATE:19800101T000000
END:STANDARD
BEGIN:STANDARD
TZNAME:CET
TZOFFSETFROM:+0200
TZOFFSETTO:+0100
DTSTART:19471005T030000
RRULE:FREQ=YEARLY;UNTIL=19491002T010000Z;BYMONTH=10;BYDAY=1SU
END:STANDARD
BEGIN:STANDARD
TZNAME:CET
TZOFFSETFROM:+0200
TZOFFSETTO:+0100
DTSTART:19800928T030000
RRULE:FREQ=YEARLY;UNTIL=19950924T010000Z;BYMONTH=9;BYDAY=-1SU
END:STANDARD
BEGIN:DAYLIGHT
TZNAME:CEST
TZOFFSETFROM:+0100
TZOFFSETTO:+0200
DTSTART:19810329T020000
RRULE:FREQ=YEARLY;BYMONTH=3;BYDAY=-1SU
END:DAYLIGHT
BEGIN:STANDARD
TZNAME:CET
TZOFFSETFROM:+0200
TZOFFSETTO:+0100
DTSTART:19961027T030000
RRULE:FREQ=YEARLY;BYMONTH=10;BYDAY=-1SU
END:STANDARD
END:VTIMEZONE
BEGIN:VEVENT
DTSTAMP:20260419T231518Z
DTSTART;TZID=Europe/Berlin:20211216T200000
DTEND;TZID=Europe/Berlin:20211216T230000
SUMMARY:O40 2.Liga Gr.2 Bassersdorf vs Pinguin Zürich (0)
UID:d4a2c0bd-d075-4508-8df3-44d13eb2d5c6
STATUS:CONFIRMED
LAST-MODIFIED:20211222T152523Z
DESCRIPTION:2. Liga O40 Gruppe 2\nBegegnungs-Nr: 0\nHeim: Bassersdorf\nGast: Pinguin Zürich\n\nAdresse: Grindelstrasse 20\, 8303 Bassersdorf\n
LOCATION:Grindelstrasse 20\, 8303 Bassersdorf
CATEGORIES:Saison 2021/22
END:VEVENT
BEGIN:VEVENT
DTSTAMP:20260419T231518Z
DTSTART;TZID=Europe/Berlin:20211209T200000
DTEND;TZID=Europe/Berlin:20211209T230000
SUMMARY:O40 2.Liga Gr.2 Bassersdorf vs Rapperswil-Jona (0)
UID:3ab09fd6-f0b3-4c76-853b-9bd4a6a772e5
STATUS:CONFIRMED
LAST-MODIFIED:20211214T133636Z
DESCRIPTION:2. Liga O40 Gruppe 2\nBegegnungs-Nr: 0\nHeim: Bassersdorf\nGast: Rapperswil-Jona\n\nAdresse: Grindelstrasse 20\, 8303 Bassersdorf\n
LOCATION:Grindelstrasse 20\, 8303 Bassersdorf
CATEGORIES:Saison 2021/22
END:VEVENT
BEGIN:VEVENT
DTSTAMP:20260419T231518Z
DTSTART;TZID=Europe/Berlin:20210819T200000
DTEND;TZID=Europe/Berlin:20210819T230000
SUMMARY:O40 2.Liga Gr.2 Bassersdorf vs Flums (0)
UID:f273d950-4eaf-46b9-9e4a-bb4044b73838
STATUS:CONFIRMED
LAST-MODIFIED:20210824T071853Z
DESCRIPTION:2. Liga O40 Gruppe 2\nBegegnungs-Nr: 0\nHeim: Bassersdorf\nGast: Flums\n\nAdresse: Grindelstrasse 20\, 8303 Bassersdorf\n
LOCATION:Grindelstrasse 20\, 8303 Bassersdorf
CATEGORIES:Saison 2021/22
END:VEVENT
BEGIN:VEVENT
DTSTAMP:20260419T231518Z
DTSTART;TZID=Europe/Berlin:20220324T200000
DTEND;TZID=Europe/Berlin:20220324T230000
SUMMARY:O40 2.Liga Gr.2 Bassersdorf vs Wädenswil (0)
UID:f4a4a7f6-72f1-428a-ae8a-0b0acecba283
STATUS:CONFIRMED
LAST-MODIFIED:20220325T142523Z
DESCRIPTION:2. Liga O40 Gruppe 2\nBegegnungs-Nr: 0\nHeim: Bassersdorf\nGast: Wädenswil\n\nAdresse: Grindelstrasse 20\, 8303 Bassersdorf\n
LOCATION:Grindelstrasse 20\, 8303 Bassersdorf
CATEGORIES:Saison 2021/22
END:VEVENT
BEGIN:VEVENT
DTSTAMP:20260419T231518Z
DTSTART;TZID=Europe/Berlin:20220303T200000
DTEND;TZID=Europe/Berlin:20220303T230000
SUMMARY:O40 2.Liga Gr.2 Bassersdorf vs Affoltern A/A (0)
UID:663b259b-1fcd-4bb4-a4e6-76c2f4bd116a
STATUS:CONFIRMED
LAST-MODIFIED:20220311T144918Z
DESCRIPTION:2. Liga O40 Gruppe 2\nBegegnungs-Nr: 0\nHeim: Bassersdorf\nGast: Affoltern A/A\n\nAdresse: Grindelstrasse 20\, 8303 Bassersdorf\n
LOCATION:Grindelstrasse 20\, 8303 Bassersdorf
CATEGORIES:Saison 2021/22
END:VEVENT
BEGIN:VEVENT
DTSTAMP:20260419T231518Z
DTSTART;TZID=Europe/Berlin:20220203T200000
DTEND;TZID=Europe/Berlin:20220203T230000
SUMMARY:O40 2.Liga Gr.2 Bassersdorf vs Zürich-Affoltern II (0)
UID:71a1b109-1fee-4f96-9bdb-016145a2b211
STATUS:CONFIRMED
LAST-MODIFIED:20220214T164729Z
DESCRIPTION:2. Liga O40 Gruppe 2\nBegegnungs-Nr: 0\nHeim: Bassersdorf\nGast: Zürich-Affoltern II\n\nAdresse: Grindelstrasse 20\, 8303 Bassersdorf\n
LOCATION:Grindelstrasse 20\, 8303 Bassersdorf
CATEGORIES:Saison 2021/22
END:VEVENT
BEGIN:VEVENT
DTSTAMP:20260419T231518Z
DTSTART;TZID=Europe/Berlin:20211028T193000
DTEND;TZID=Europe/Berlin:20211028T223000
SUMMARY:O40 2.Liga Gr.2 Affoltern A/A vs Bassersdorf (0)
UID:7420e86c-bb65-4095-ae3a-5dc27ccc6f3a
STATUS:CONFIRMED
LAST-MODIFIED:20211101T091702Z
DESCRIPTION:2. Liga O40 Gruppe 2\nBegegnungs-Nr: 0\nHeim: Affoltern A/A\nGast: Bassersdorf\n
LOCATION:
CATEGORIES:Saison 2021/22
END:VEVENT
BEGIN:VEVENT
DTSTAMP:20260419T231518Z
DTSTART;TZID=Europe/Berlin:20210909T193000
DTEND;TZID=Europe/Berlin:20210909T223000
SUMMARY:O40 2.Liga Gr.2 Zürich-Affoltern II vs Bassersdorf (0)
UID:6c039883-94c8-4a1d-a47e-fcb0860d15cd
STATUS:CONFIRMED
LAST-MODIFIED:20210916T102339Z
DESCRIPTION:2. Liga O40 Gruppe 2\nBegegnungs-Nr: 0\nHeim: Zürich-Affoltern II\nGast: Bassersdorf\n\nAdresse: Fronwaldstr.115\, 8046 Zürich\n
LOCATION:Fronwaldstr.115\, 8046 Zürich
CATEGORIES:Saison 2021/22
END:VEVENT
BEGIN:VEVENT
DTSTAMP:20260419T231518Z
DTSTART;TZID=Europe/Berlin:20211125T201500
DTEND;TZID=Europe/Berlin:20211125T231500
SUMMARY:O40 2.Liga Gr.2 Wädenswil vs Bassersdorf (0)
UID:0811d853-b6b4-4002-a35c-a4223aa55503
STATUS:CONFIRMED
LAST-MODIFIED:20211201T152034Z
DESCRIPTION:2. Liga O40 Gruppe 2\nBegegnungs-Nr: 0\nHeim: Wädenswil\nGast: Bassersdorf\n\nAdresse: Speerstrasse 95\, 8820 Wädenswil\n
LOCATION:Speerstrasse 95\, 8820 Wädenswil
CATEGORIES:Saison 2021/22
END:VEVENT
BEGIN:VEVENT
DTSTAMP:20260419T231518Z
DTSTART;TZID=Europe/Berlin:20220408T194500
DTEND;TZID=Europe/Berlin:20220408T224500
SUMMARY:O40 2.Liga Gr.2 Rapperswil-Jona vs Bassersdorf (0)
UID:a2003d27-3b93-449e-a602-2d4ec1ed3378
STATUS:CONFIRMED
LAST-MODIFIED:20220411T052538Z
DESCRIPTION:2. Liga O40 Gruppe 2\nBegegnungs-Nr: 0\nHeim: Rapperswil-Jona\nGast: Bassersdorf\n\nAdresse: Kreuzstrasse 43\, 8640 Rapperswil\n
LOCATION:Kreuzstrasse 43\, 8640 Rapperswil
CATEGORIES:Saison 2021/22
END:VEVENT
BEGIN:VEVENT
DTSTAMP:20260419T231518Z
DTSTART;TZID=Europe/Berlin:20220211T193000
DTEND;TZID=Europe/Berlin:20220211T223000
SUMMARY:O40 2.Liga Gr.2 Pinguin Zürich vs Bassersdorf (0)
UID:4b5e8af3-7232-45a4-83ef-a6a2469411e8
STATUS:CONFIRMED
LAST-MODIFIED:20220214T164815Z
DESCRIPTION:2. Liga O40 Gruppe 2\nBegegnungs-Nr: 0\nHeim: Pinguin Zürich\nGast: Bassersdorf\n\nAdresse: Basteiplatz\, 8001 Zürich\n
LOCATION:Basteiplatz\, 8001 Zürich
CATEGORIES:Saison 2021/22
END:VEVENT
BEGIN:VEVENT
DTSTAMP:20260419T231518Z
DTSTART;TZID=Europe/Berlin:20220120T201500
DTEND;TZID=Europe/Berlin:20220120T231500
SUMMARY:O40 2.Liga Gr.2 Flums vs Bassersdorf (0)
UID:10add5a0-da18-4b0e-a9b1-19c5cf57946b
STATUS:CONFIRMED
LAST-MODIFIED:20220121T125025Z
DESCRIPTION:2. Liga O40 Gruppe 2\nBegegnungs-Nr: 0\nHeim: Flums\nGast: Bassersdorf\n\nAdresse: Bergstrasse\, 8890 Flums\n
LOCATION:Bergstrasse\, 8890 Flums
CATEGORIES:Saison 2021/22
END:VEVENT
END:VCALENDAR
