BEGIN:VCALENDAR
PRODID:-//nuDatenautomaten//framework iCal4j //DE
VERSION:2.0
CALSCALE:GREGORIAN
BEGIN:VTIMEZONE
TZID:Europe/Berlin
LAST-MODIFIED:20260306T231828Z
TZURL:https://www.tzurl.org/zoneinfo/Europe/Berlin
X-LIC-LOCATION:Europe/Berlin
X-PROLEPTIC-TZNAME:LMT
BEGIN:STANDARD
TZNAME:CET
TZOFFSETFROM:+005328
TZOFFSETTO:+0100
DTSTART:18930401T000000
END:STANDARD
BEGIN:DAYLIGHT
TZNAME:CEST
TZOFFSETFROM:+0100
TZOFFSETTO:+0200
DTSTART:19160430T230000
RDATE:19400401T020000
RDATE:19430329T020000
RDATE:19460414T020000
RDATE:19470406T030000
RDATE:19480418T020000
RDATE:19490410T020000
RDATE:19800406T020000
END:DAYLIGHT
BEGIN:STANDARD
TZNAME:CET
TZOFFSETFROM:+0200
TZOFFSETTO:+0100
DTSTART:19161001T010000
RDATE:19421102T030000
RDATE:19431004T030000
RDATE:19441002T030000
RDATE:19451118T030000
RDATE:19461007T030000
END:STANDARD
BEGIN:DAYLIGHT
TZNAME:CEST
TZOFFSETFROM:+0100
TZOFFSETTO:+0200
DTSTART:19170416T020000
RRULE:FREQ=YEARLY;UNTIL=19180415T010000Z;BYMONTH=4;BYDAY=3MO
END:DAYLIGHT
BEGIN:STANDARD
TZNAME:CET
TZOFFSETFROM:+0200
TZOFFSETTO:+0100
DTSTART:19170917T030000
RRULE:FREQ=YEARLY;UNTIL=19180916T010000Z;BYMONTH=9;BYDAY=3MO
END:STANDARD
BEGIN:DAYLIGHT
TZNAME:CEST
TZOFFSETFROM:+0100
TZOFFSETTO:+0200
DTSTART:19440403T020000
RRULE:FREQ=YEARLY;UNTIL=19450402T010000Z;BYMONTH=4;BYDAY=1MO
END:DAYLIGHT
BEGIN:DAYLIGHT
TZNAME:CEMT
TZOFFSETFROM:+0200
TZOFFSETTO:+0300
DTSTART:19450524T020000
RDATE:19470511T030000
END:DAYLIGHT
BEGIN:DAYLIGHT
TZNAME:CEST
TZOFFSETFROM:+0300
TZOFFSETTO:+0200
DTSTART:19450924T030000
RDATE:19470629T030000
END:DAYLIGHT
BEGIN:STANDARD
TZNAME:CET
TZOFFSETFROM:+0100
TZOFFSETTO:+0100
DTSTART:19460101T000000
RDATE:19800101T000000
END:STANDARD
BEGIN:STANDARD
TZNAME:CET
TZOFFSETFROM:+0200
TZOFFSETTO:+0100
DTSTART:19471005T030000
RRULE:FREQ=YEARLY;UNTIL=19491002T010000Z;BYMONTH=10;BYDAY=1SU
END:STANDARD
BEGIN:STANDARD
TZNAME:CET
TZOFFSETFROM:+0200
TZOFFSETTO:+0100
DTSTART:19800928T030000
RRULE:FREQ=YEARLY;UNTIL=19950924T010000Z;BYMONTH=9;BYDAY=-1SU
END:STANDARD
BEGIN:DAYLIGHT
TZNAME:CEST
TZOFFSETFROM:+0100
TZOFFSETTO:+0200
DTSTART:19810329T020000
RRULE:FREQ=YEARLY;BYMONTH=3;BYDAY=-1SU
END:DAYLIGHT
BEGIN:STANDARD
TZNAME:CET
TZOFFSETFROM:+0200
TZOFFSETTO:+0100
DTSTART:19961027T030000
RRULE:FREQ=YEARLY;BYMONTH=10;BYDAY=-1SU
END:STANDARD
END:VTIMEZONE
BEGIN:VEVENT
DTSTAMP:20260421T202803Z
DTSTART;TZID=Europe/Berlin:20211122T200000
DTEND;TZID=Europe/Berlin:20211122T230000
SUMMARY:HE 4. Liga Gr. 3 Köniz III vs Burgdorf VII (16)
UID:9d9e8ed0-45a5-4b05-9324-a42d573560fa
STATUS:CONFIRMED
LAST-MODIFIED:20211124T161022Z
DESCRIPTION:4. Liga Herren Gruppe 3\nBegegnungs-Nr: 16\nHeim: Köniz III\nGast: Burgdorf VII\n\nAdresse: Kirchstrasse 72-76\, 3084 Wabern\n
LOCATION:Kirchstrasse 72-76\, 3084 Wabern
CATEGORIES:Saison 2021/22
END:VEVENT
BEGIN:VEVENT
DTSTAMP:20260421T202803Z
DTSTART;TZID=Europe/Berlin:20211115T200000
DTEND;TZID=Europe/Berlin:20211115T230000
SUMMARY:HE 4. Liga Gr. 3 Köniz III vs Langnau II (22)
UID:52d1656b-4e79-4e8b-9b27-0d74afd3c949
STATUS:CONFIRMED
LAST-MODIFIED:20211118T004239Z
DESCRIPTION:4. Liga Herren Gruppe 3\nBegegnungs-Nr: 22\nHeim: Köniz III\nGast: Langnau II\n\nAdresse: Kirchstrasse 72-76\, 3084 Wabern\n
LOCATION:Kirchstrasse 72-76\, 3084 Wabern
CATEGORIES:Saison 2021/22
END:VEVENT
BEGIN:VEVENT
DTSTAMP:20260421T202803Z
DTSTART;TZID=Europe/Berlin:20220328T200000
DTEND;TZID=Europe/Berlin:20220328T230000
SUMMARY:HE 4. Liga Gr. 3 Köniz III vs Stettlen (26)
UID:3e90acdf-a465-4550-b972-e3897536f379
STATUS:CONFIRMED
DESCRIPTION:4. Liga Herren Gruppe 3\nBegegnungs-Nr: 26\nHeim: Köniz III\nGast: Stettlen\n\nAdresse: Kirchstrasse 72-76\, 3084 Wabern\n
LOCATION:Kirchstrasse 72-76\, 3084 Wabern
CATEGORIES:Saison 2021/22
END:VEVENT
BEGIN:VEVENT
DTSTAMP:20260421T202803Z
DTSTART;TZID=Europe/Berlin:20220307T200000
DTEND;TZID=Europe/Berlin:20220307T230000
SUMMARY:HE 4. Liga Gr. 3 Köniz III vs Kirchberg III (17)
UID:25b35d0a-39d0-4a77-a5b1-cbbf2c48e250
STATUS:CONFIRMED
DESCRIPTION:4. Liga Herren Gruppe 3\nBegegnungs-Nr: 17\nHeim: Köniz III\nGast: Kirchberg III\n\nAdresse: Kirchstrasse 72-76\, 3084 Wabern\n
LOCATION:Kirchstrasse 72-76\, 3084 Wabern
CATEGORIES:Saison 2021/22
END:VEVENT
BEGIN:VEVENT
DTSTAMP:20260421T202803Z
DTSTART;TZID=Europe/Berlin:20220207T200000
DTEND;TZID=Europe/Berlin:20220207T230000
SUMMARY:HE 4. Liga Gr. 3 Köniz III vs Bern IV (12)
UID:32d53c24-f2fd-4032-99a7-c877341f6cac
STATUS:CONFIRMED
LAST-MODIFIED:20210618T151808Z
DESCRIPTION:4. Liga Herren Gruppe 3\nBegegnungs-Nr: 12\nHeim: Köniz III\nGast: Bern IV\n\nAdresse: Kirchstrasse 72-76\, 3084 Wabern\n
LOCATION:Kirchstrasse 72-76\, 3084 Wabern
CATEGORIES:Saison 2021/22
END:VEVENT
BEGIN:VEVENT
DTSTAMP:20260421T202803Z
DTSTART;TZID=Europe/Berlin:20211213T200000
DTEND;TZID=Europe/Berlin:20211213T230000
SUMMARY:HE 4. Liga Gr. 3 Köniz III vs Ittigen (4)
UID:7137004c-1ab1-4c50-a8cb-99670d45411f
STATUS:CONFIRMED
LAST-MODIFIED:20211216T090700Z
DESCRIPTION:4. Liga Herren Gruppe 3\nBegegnungs-Nr: 4\nHeim: Köniz III\nGast: Ittigen\n\nAdresse: Kirchstrasse 72-76\, 3084 Wabern\n
LOCATION:Kirchstrasse 72-76\, 3084 Wabern
CATEGORIES:Saison 2021/22
END:VEVENT
BEGIN:VEVENT
DTSTAMP:20260421T202803Z
DTSTART;TZID=Europe/Berlin:20211102T200000
DTEND;TZID=Europe/Berlin:20211102T230000
SUMMARY:HE 4. Liga Gr. 3 Kirchberg III vs Köniz III (17)
UID:6b89722b-00f4-4f90-83a3-3f66e86d5b4b
STATUS:CONFIRMED
LAST-MODIFIED:20211104T223922Z
DESCRIPTION:4. Liga Herren Gruppe 3\nBegegnungs-Nr: 17\nHeim: Kirchberg III\nGast: Köniz III\n\nAdresse: Reinhardweg\, 3422 Kirchberg\n
LOCATION:Reinhardweg\, 3422 Kirchberg
CATEGORIES:Saison 2021/22
END:VEVENT
BEGIN:VEVENT
DTSTAMP:20260421T202803Z
DTSTART;TZID=Europe/Berlin:20210924T193000
DTEND;TZID=Europe/Berlin:20210924T223000
SUMMARY:HE 4. Liga Gr. 3 Bern IV vs Köniz III (12)
UID:0a43f4d1-29b7-4c71-a6c7-7f2de39e2a83
STATUS:CONFIRMED
LAST-MODIFIED:20210926T093133Z
DESCRIPTION:4. Liga Herren Gruppe 3\nBegegnungs-Nr: 12\nHeim: Bern IV\nGast: Köniz III\n\nAdresse: Papiermühlestrasse 81\, 3014 Bern\n
LOCATION:Papiermühlestrasse 81\, 3014 Bern
CATEGORIES:Saison 2021/22
END:VEVENT
BEGIN:VEVENT
DTSTAMP:20260421T202803Z
DTSTART;TZID=Europe/Berlin:20210914T194500
DTEND;TZID=Europe/Berlin:20210914T224500
SUMMARY:HE 4. Liga Gr. 3 Regio Moossee II vs Köniz III (8)
UID:079a0f95-db6c-4ef1-9dae-8997b23d4bd2
STATUS:CONFIRMED
LAST-MODIFIED:20210915T160030Z
DESCRIPTION:4. Liga Herren Gruppe 3\nBegegnungs-Nr: 8\nHeim: Regio Moossee II\nGast: Köniz III\n\nAdresse: Schulhausstrasse 23-25\, 3302 Moosseedorf\n
LOCATION:Schulhausstrasse 23-25\, 3302 Moosseedorf
CATEGORIES:Saison 2021/22
END:VEVENT
BEGIN:VEVENT
DTSTAMP:20260421T202803Z
DTSTART;TZID=Europe/Berlin:20210827T194500
DTEND;TZID=Europe/Berlin:20210827T224500
SUMMARY:HE 4. Liga Gr. 3 Ittigen vs Köniz III (4)
UID:2d4d98ff-7704-4d3a-8939-7463cde82b91
STATUS:CONFIRMED
LAST-MODIFIED:20210829T142411Z
DESCRIPTION:4. Liga Herren Gruppe 3\nBegegnungs-Nr: 4\nHeim: Ittigen\nGast: Köniz III\n\nAdresse: Fischrainweg 17\, 3048 Worblaufen\n
LOCATION:Fischrainweg 17\, 3048 Worblaufen
CATEGORIES:Saison 2021/22
END:VEVENT
BEGIN:VEVENT
DTSTAMP:20260421T202803Z
DTSTART;TZID=Europe/Berlin:20220316T200000
DTEND;TZID=Europe/Berlin:20220316T230000
SUMMARY:HE 4. Liga Gr. 3 Langnau II vs Köniz III (22)
UID:32185412-2ee5-4d16-8815-9a3725fd421c
STATUS:CONFIRMED
DESCRIPTION:4. Liga Herren Gruppe 3\nBegegnungs-Nr: 22\nHeim: Langnau II\nGast: Köniz III\n\nAdresse: Bleicheweg 11\, 3550 Langnau\n
LOCATION:Bleicheweg 11\, 3550 Langnau
CATEGORIES:Saison 2021/22
END:VEVENT
BEGIN:VEVENT
DTSTAMP:20260421T202803Z
DTSTART;TZID=Europe/Berlin:20220128T193000
DTEND;TZID=Europe/Berlin:20220128T223000
SUMMARY:HE 4. Liga Gr. 3 Burgdorf VII vs Köniz III (16)
UID:0b8daf7a-e06e-4625-8b8c-8fc25e764b98
STATUS:CONFIRMED
LAST-MODIFIED:20211018T115315Z
DESCRIPTION:4. Liga Herren Gruppe 3\nBegegnungs-Nr: 16\nHeim: Burgdorf VII\nGast: Köniz III\n\nAdresse: Pestalozzistrasse 69\, 3400 Burgdorf\n
LOCATION:Pestalozzistrasse 69\, 3400 Burgdorf
CATEGORIES:Saison 2021/22
END:VEVENT
BEGIN:VEVENT
DTSTAMP:20260421T202803Z
DTSTART;TZID=Europe/Berlin:20211208T200000
DTEND;TZID=Europe/Berlin:20211208T230000
SUMMARY:HE 4. Liga Gr. 3 Stettlen vs Köniz III (26)
UID:b17056df-86ce-403b-9a0b-0804e595e135
STATUS:CONFIRMED
LAST-MODIFIED:20211212T205941Z
DESCRIPTION:4. Liga Herren Gruppe 3\nBegegnungs-Nr: 26\nHeim: Stettlen\nGast: Köniz III\n\nAdresse: Bernstrasse 45\, 3066 Stettlen\n
LOCATION:Bernstrasse 45\, 3066 Stettlen
CATEGORIES:Saison 2021/22
END:VEVENT
END:VCALENDAR
