BEGIN:VCALENDAR
PRODID:-//nuDatenautomaten//framework iCal4j //DE
VERSION:2.0
CALSCALE:GREGORIAN
BEGIN:VTIMEZONE
TZID:Europe/Berlin
LAST-MODIFIED:20260306T231828Z
TZURL:https://www.tzurl.org/zoneinfo/Europe/Berlin
X-LIC-LOCATION:Europe/Berlin
X-PROLEPTIC-TZNAME:LMT
BEGIN:STANDARD
TZNAME:CET
TZOFFSETFROM:+005328
TZOFFSETTO:+0100
DTSTART:18930401T000000
END:STANDARD
BEGIN:DAYLIGHT
TZNAME:CEST
TZOFFSETFROM:+0100
TZOFFSETTO:+0200
DTSTART:19160430T230000
RDATE:19400401T020000
RDATE:19430329T020000
RDATE:19460414T020000
RDATE:19470406T030000
RDATE:19480418T020000
RDATE:19490410T020000
RDATE:19800406T020000
END:DAYLIGHT
BEGIN:STANDARD
TZNAME:CET
TZOFFSETFROM:+0200
TZOFFSETTO:+0100
DTSTART:19161001T010000
RDATE:19421102T030000
RDATE:19431004T030000
RDATE:19441002T030000
RDATE:19451118T030000
RDATE:19461007T030000
END:STANDARD
BEGIN:DAYLIGHT
TZNAME:CEST
TZOFFSETFROM:+0100
TZOFFSETTO:+0200
DTSTART:19170416T020000
RRULE:FREQ=YEARLY;UNTIL=19180415T010000Z;BYMONTH=4;BYDAY=3MO
END:DAYLIGHT
BEGIN:STANDARD
TZNAME:CET
TZOFFSETFROM:+0200
TZOFFSETTO:+0100
DTSTART:19170917T030000
RRULE:FREQ=YEARLY;UNTIL=19180916T010000Z;BYMONTH=9;BYDAY=3MO
END:STANDARD
BEGIN:DAYLIGHT
TZNAME:CEST
TZOFFSETFROM:+0100
TZOFFSETTO:+0200
DTSTART:19440403T020000
RRULE:FREQ=YEARLY;UNTIL=19450402T010000Z;BYMONTH=4;BYDAY=1MO
END:DAYLIGHT
BEGIN:DAYLIGHT
TZNAME:CEMT
TZOFFSETFROM:+0200
TZOFFSETTO:+0300
DTSTART:19450524T020000
RDATE:19470511T030000
END:DAYLIGHT
BEGIN:DAYLIGHT
TZNAME:CEST
TZOFFSETFROM:+0300
TZOFFSETTO:+0200
DTSTART:19450924T030000
RDATE:19470629T030000
END:DAYLIGHT
BEGIN:STANDARD
TZNAME:CET
TZOFFSETFROM:+0100
TZOFFSETTO:+0100
DTSTART:19460101T000000
RDATE:19800101T000000
END:STANDARD
BEGIN:STANDARD
TZNAME:CET
TZOFFSETFROM:+0200
TZOFFSETTO:+0100
DTSTART:19471005T030000
RRULE:FREQ=YEARLY;UNTIL=19491002T010000Z;BYMONTH=10;BYDAY=1SU
END:STANDARD
BEGIN:STANDARD
TZNAME:CET
TZOFFSETFROM:+0200
TZOFFSETTO:+0100
DTSTART:19800928T030000
RRULE:FREQ=YEARLY;UNTIL=19950924T010000Z;BYMONTH=9;BYDAY=-1SU
END:STANDARD
BEGIN:DAYLIGHT
TZNAME:CEST
TZOFFSETFROM:+0100
TZOFFSETTO:+0200
DTSTART:19810329T020000
RRULE:FREQ=YEARLY;BYMONTH=3;BYDAY=-1SU
END:DAYLIGHT
BEGIN:STANDARD
TZNAME:CET
TZOFFSETFROM:+0200
TZOFFSETTO:+0100
DTSTART:19961027T030000
RRULE:FREQ=YEARLY;BYMONTH=10;BYDAY=-1SU
END:STANDARD
END:VTIMEZONE
BEGIN:VEVENT
DTSTAMP:20260419T231509Z
DTSTART;TZID=Europe/Berlin:20210927T200000
DTEND;TZID=Europe/Berlin:20210927T230000
SUMMARY:HE 5.Liga Gr.3 Imperial Winterthur II vs Kreuzlingen II (0)
UID:b32affd2-b55c-4b8d-b3ba-cc670029e1de
STATUS:CONFIRMED
LAST-MODIFIED:20210927T082425Z
DESCRIPTION:5. Liga Herren Gruppe 3\nBegegnungs-Nr: 0\nHeim: Imperial Winterthur II\nGast: Kreuzlingen II\n\nAdresse: Büelhofstrasse 25a\, 8405 Winterthur\n
LOCATION:Büelhofstrasse 25a\, 8405 Winterthur
CATEGORIES:Saison 2021/22
END:VEVENT
BEGIN:VEVENT
DTSTAMP:20260419T231509Z
DTSTART;TZID=Europe/Berlin:20210906T200000
DTEND;TZID=Europe/Berlin:20210906T230000
SUMMARY:HE 5.Liga Gr.3 Imperial Winterthur II vs Embrach III (0)
UID:2ea5adff-ba3e-4035-96cf-09cb9659f34c
STATUS:CONFIRMED
LAST-MODIFIED:20210907T143810Z
DESCRIPTION:5. Liga Herren Gruppe 3\nBegegnungs-Nr: 0\nHeim: Imperial Winterthur II\nGast: Embrach III\n\nAdresse: Büelhofstrasse 25a\, 8405 Winterthur\n
LOCATION:Büelhofstrasse 25a\, 8405 Winterthur
CATEGORIES:Saison 2021/22
END:VEVENT
BEGIN:VEVENT
DTSTAMP:20260419T231509Z
DTSTART;TZID=Europe/Berlin:20211108T200000
DTEND;TZID=Europe/Berlin:20211108T230000
SUMMARY:HE 5.Liga Gr.3 Imperial Winterthur II vs Schaffhausen (0)
UID:5cc601c9-484f-411e-b761-04f6cf3bf27c
STATUS:CONFIRMED
LAST-MODIFIED:20211111T092152Z
DESCRIPTION:5. Liga Herren Gruppe 3\nBegegnungs-Nr: 0\nHeim: Imperial Winterthur II\nGast: Schaffhausen\n\nAdresse: Büelhofstrasse 25a\, 8405 Winterthur\n
LOCATION:Büelhofstrasse 25a\, 8405 Winterthur
CATEGORIES:Saison 2021/22
END:VEVENT
BEGIN:VEVENT
DTSTAMP:20260419T231509Z
DTSTART;TZID=Europe/Berlin:20220124T200000
DTEND;TZID=Europe/Berlin:20220124T230000
SUMMARY:HE 5.Liga Gr.3 Imperial Winterthur II vs Weinfelden II (0)
UID:148f420f-6dc8-46d0-875e-05ed25d4c50c
STATUS:CONFIRMED
LAST-MODIFIED:20220126T155809Z
DESCRIPTION:5. Liga Herren Gruppe 3\nBegegnungs-Nr: 0\nHeim: Imperial Winterthur II\nGast: Weinfelden II\n\nAdresse: Büelhofstrasse 25a\, 8405 Winterthur\n
LOCATION:Büelhofstrasse 25a\, 8405 Winterthur
CATEGORIES:Saison 2021/22
END:VEVENT
BEGIN:VEVENT
DTSTAMP:20260419T231509Z
DTSTART;TZID=Europe/Berlin:20220221T200000
DTEND;TZID=Europe/Berlin:20220221T230000
SUMMARY:HE 5.Liga Gr.3 Imperial Winterthur II vs Winterthur V (0)
UID:89fba48d-2f4f-4523-9131-510fc09844a4
STATUS:CONFIRMED
LAST-MODIFIED:20220225T094500Z
DESCRIPTION:5. Liga Herren Gruppe 3\nBegegnungs-Nr: 0\nHeim: Imperial Winterthur II\nGast: Winterthur V\n\nAdresse: Büelhofstrasse 25a\, 8405 Winterthur\n
LOCATION:Büelhofstrasse 25a\, 8405 Winterthur
CATEGORIES:Saison 2021/22
END:VEVENT
BEGIN:VEVENT
DTSTAMP:20260419T231509Z
DTSTART;TZID=Europe/Berlin:20220328T200000
DTEND;TZID=Europe/Berlin:20220328T230000
SUMMARY:HE 5.Liga Gr.3 Imperial Winterthur II vs Frauenfeld II (0)
UID:427e57ef-56f1-4002-886f-88a3f66866ff
STATUS:CONFIRMED
LAST-MODIFIED:20220330T084551Z
DESCRIPTION:5. Liga Herren Gruppe 3\nBegegnungs-Nr: 0\nHeim: Imperial Winterthur II\nGast: Frauenfeld II\n\nAdresse: Büelhofstrasse 25a\, 8405 Winterthur\n
LOCATION:Büelhofstrasse 25a\, 8405 Winterthur
CATEGORIES:Saison 2021/22
END:VEVENT
BEGIN:VEVENT
DTSTAMP:20260419T231509Z
DTSTART;TZID=Europe/Berlin:20220321T200000
DTEND;TZID=Europe/Berlin:20220321T230000
SUMMARY:HE 5.Liga Gr.3 Imperial Winterthur II vs Steckborn-Homburg III (0)
UID:deb0abeb-b823-43df-9f33-4fab2f466640
STATUS:CONFIRMED
LAST-MODIFIED:20220322T110911Z
DESCRIPTION:5. Liga Herren Gruppe 3\nBegegnungs-Nr: 0\nHeim: Imperial Winterthur II\nGast: Steckborn-Homburg III\n\nAdresse: Büelhofstrasse 25a\, 8405 Winterthur\n
LOCATION:Büelhofstrasse 25a\, 8405 Winterthur
CATEGORIES:Saison 2021/22
END:VEVENT
BEGIN:VEVENT
DTSTAMP:20260419T231509Z
DTSTART;TZID=Europe/Berlin:20211202T200000
DTEND;TZID=Europe/Berlin:20211202T230000
SUMMARY:HE 5.Liga Gr.3 Frauenfeld II vs Imperial Winterthur II (0)
UID:d877ce6b-ef82-4d7e-a2d8-09fb5b6f2c8b
STATUS:CONFIRMED
LAST-MODIFIED:20211214T092610Z
DESCRIPTION:5. Liga Herren Gruppe 3\nBegegnungs-Nr: 0\nHeim: Frauenfeld II\nGast: Imperial Winterthur II\n\nAdresse: Scheuchenstrasse\, 8500 Frauenfeld\n
LOCATION:Scheuchenstrasse\, 8500 Frauenfeld
CATEGORIES:Saison 2021/22
END:VEVENT
BEGIN:VEVENT
DTSTAMP:20260419T231509Z
DTSTART;TZID=Europe/Berlin:20210921T201500
DTEND;TZID=Europe/Berlin:20210921T231500
SUMMARY:HE 5.Liga Gr.3 Weinfelden II vs Imperial Winterthur II (0)
UID:f6aa2003-d5ac-4fac-8dfc-9b930dcc0585
STATUS:CONFIRMED
LAST-MODIFIED:20210923T092116Z
DESCRIPTION:5. Liga Herren Gruppe 3\nBegegnungs-Nr: 0\nHeim: Weinfelden II\nGast: Imperial Winterthur II\n\nAdresse: Bleichestrasse 3 (neben Hallenbad)\, 8570 Weinfelden\n
LOCATION:Bleichestrasse 3 (neben Hallenbad)\, 8570 Weinfelden
CATEGORIES:Saison 2021/22
END:VEVENT
BEGIN:VEVENT
DTSTAMP:20260419T231509Z
DTSTART;TZID=Europe/Berlin:20210917T200000
DTEND;TZID=Europe/Berlin:20210917T230000
SUMMARY:HE 5.Liga Gr.3 Winterthur V vs Imperial Winterthur II (0)
UID:bb55dea7-b59b-4ec0-96cc-97d79a1c3630
STATUS:CONFIRMED
LAST-MODIFIED:20210920T053834Z
DESCRIPTION:5. Liga Herren Gruppe 3\nBegegnungs-Nr: 0\nHeim: Winterthur V\nGast: Imperial Winterthur II\n\nAdresse: Buchackerstrasse 54\, 8400 Winterthur\n
LOCATION:Buchackerstrasse 54\, 8400 Winterthur
CATEGORIES:Saison 2021/22
END:VEVENT
BEGIN:VEVENT
DTSTAMP:20260419T231509Z
DTSTART;TZID=Europe/Berlin:20211103T201500
DTEND;TZID=Europe/Berlin:20211103T231500
SUMMARY:HE 5.Liga Gr.3 Steckborn-Homburg III vs Imperial Winterthur II (0)
UID:d27da9af-3541-42f9-a0dd-f9d8347f1440
STATUS:CONFIRMED
LAST-MODIFIED:20211108T095303Z
DESCRIPTION:5. Liga Herren Gruppe 3\nBegegnungs-Nr: 0\nHeim: Steckborn-Homburg III\nGast: Imperial Winterthur II\n\nAdresse: Schulstrasse 4\, 8508 Unterhörstetten\n
LOCATION:Schulstrasse 4\, 8508 Unterhörstetten
CATEGORIES:Saison 2021/22
END:VEVENT
BEGIN:VEVENT
DTSTAMP:20260419T231509Z
DTSTART;TZID=Europe/Berlin:20220223T194500
DTEND;TZID=Europe/Berlin:20220223T224500
SUMMARY:HE 5.Liga Gr.3 Kreuzlingen II vs Imperial Winterthur II (0)
UID:f70a2361-9bfe-4967-b815-ac7ff806ed17
STATUS:CONFIRMED
LAST-MODIFIED:20220110T123138Z
DESCRIPTION:5. Liga Herren Gruppe 3\nBegegnungs-Nr: 0\nHeim: Kreuzlingen II\nGast: Imperial Winterthur II\n\nAdresse: Rothausstrasse 14\, 8280 Kreuzlingen\n
LOCATION:Rothausstrasse 14\, 8280 Kreuzlingen
CATEGORIES:Saison 2021/22
END:VEVENT
BEGIN:VEVENT
DTSTAMP:20260419T231509Z
DTSTART;TZID=Europe/Berlin:20220113T200000
DTEND;TZID=Europe/Berlin:20220113T230000
SUMMARY:HE 5.Liga Gr.3 Embrach III vs Imperial Winterthur II (0)
UID:367cc037-3e13-4b44-9529-8a12c206b506
STATUS:CONFIRMED
LAST-MODIFIED:20220118T111622Z
DESCRIPTION:5. Liga Herren Gruppe 3\nBegegnungs-Nr: 0\nHeim: Embrach III\nGast: Imperial Winterthur II\n\nAdresse: Schützenhausstrasse 20\, 8424 Embrach\n
LOCATION:Schützenhausstrasse 20\, 8424 Embrach
CATEGORIES:Saison 2021/22
END:VEVENT
BEGIN:VEVENT
DTSTAMP:20260419T231509Z
DTSTART;TZID=Europe/Berlin:20220314T193000
DTEND;TZID=Europe/Berlin:20220314T223000
SUMMARY:HE 5.Liga Gr.3 Schaffhausen vs Imperial Winterthur II (0)
UID:1daf91ec-1108-42a6-86e6-56de33bc82fa
STATUS:CONFIRMED
LAST-MODIFIED:20220322T110833Z
DESCRIPTION:5. Liga Herren Gruppe 3\nBegegnungs-Nr: 0\nHeim: Schaffhausen\nGast: Imperial Winterthur II\n\nAdresse: Grünaustieg 30\, 8200 Schaffhausen\n
LOCATION:Grünaustieg 30\, 8200 Schaffhausen
CATEGORIES:Saison 2021/22
END:VEVENT
END:VCALENDAR
