BEGIN:VCALENDAR
PRODID:-//nuDatenautomaten//framework iCal4j //DE
VERSION:2.0
CALSCALE:GREGORIAN
BEGIN:VTIMEZONE
TZID:Europe/Berlin
LAST-MODIFIED:20260306T231828Z
TZURL:https://www.tzurl.org/zoneinfo/Europe/Berlin
X-LIC-LOCATION:Europe/Berlin
X-PROLEPTIC-TZNAME:LMT
BEGIN:STANDARD
TZNAME:CET
TZOFFSETFROM:+005328
TZOFFSETTO:+0100
DTSTART:18930401T000000
END:STANDARD
BEGIN:DAYLIGHT
TZNAME:CEST
TZOFFSETFROM:+0100
TZOFFSETTO:+0200
DTSTART:19160430T230000
RDATE:19400401T020000
RDATE:19430329T020000
RDATE:19460414T020000
RDATE:19470406T030000
RDATE:19480418T020000
RDATE:19490410T020000
RDATE:19800406T020000
END:DAYLIGHT
BEGIN:STANDARD
TZNAME:CET
TZOFFSETFROM:+0200
TZOFFSETTO:+0100
DTSTART:19161001T010000
RDATE:19421102T030000
RDATE:19431004T030000
RDATE:19441002T030000
RDATE:19451118T030000
RDATE:19461007T030000
END:STANDARD
BEGIN:DAYLIGHT
TZNAME:CEST
TZOFFSETFROM:+0100
TZOFFSETTO:+0200
DTSTART:19170416T020000
RRULE:FREQ=YEARLY;UNTIL=19180415T010000Z;BYMONTH=4;BYDAY=3MO
END:DAYLIGHT
BEGIN:STANDARD
TZNAME:CET
TZOFFSETFROM:+0200
TZOFFSETTO:+0100
DTSTART:19170917T030000
RRULE:FREQ=YEARLY;UNTIL=19180916T010000Z;BYMONTH=9;BYDAY=3MO
END:STANDARD
BEGIN:DAYLIGHT
TZNAME:CEST
TZOFFSETFROM:+0100
TZOFFSETTO:+0200
DTSTART:19440403T020000
RRULE:FREQ=YEARLY;UNTIL=19450402T010000Z;BYMONTH=4;BYDAY=1MO
END:DAYLIGHT
BEGIN:DAYLIGHT
TZNAME:CEMT
TZOFFSETFROM:+0200
TZOFFSETTO:+0300
DTSTART:19450524T020000
RDATE:19470511T030000
END:DAYLIGHT
BEGIN:DAYLIGHT
TZNAME:CEST
TZOFFSETFROM:+0300
TZOFFSETTO:+0200
DTSTART:19450924T030000
RDATE:19470629T030000
END:DAYLIGHT
BEGIN:STANDARD
TZNAME:CET
TZOFFSETFROM:+0100
TZOFFSETTO:+0100
DTSTART:19460101T000000
RDATE:19800101T000000
END:STANDARD
BEGIN:STANDARD
TZNAME:CET
TZOFFSETFROM:+0200
TZOFFSETTO:+0100
DTSTART:19471005T030000
RRULE:FREQ=YEARLY;UNTIL=19491002T010000Z;BYMONTH=10;BYDAY=1SU
END:STANDARD
BEGIN:STANDARD
TZNAME:CET
TZOFFSETFROM:+0200
TZOFFSETTO:+0100
DTSTART:19800928T030000
RRULE:FREQ=YEARLY;UNTIL=19950924T010000Z;BYMONTH=9;BYDAY=-1SU
END:STANDARD
BEGIN:DAYLIGHT
TZNAME:CEST
TZOFFSETFROM:+0100
TZOFFSETTO:+0200
DTSTART:19810329T020000
RRULE:FREQ=YEARLY;BYMONTH=3;BYDAY=-1SU
END:DAYLIGHT
BEGIN:STANDARD
TZNAME:CET
TZOFFSETFROM:+0200
TZOFFSETTO:+0100
DTSTART:19961027T030000
RRULE:FREQ=YEARLY;BYMONTH=10;BYDAY=-1SU
END:STANDARD
END:VTIMEZONE
BEGIN:VEVENT
DTSTAMP:20260419T231509Z
DTSTART;TZID=Europe/Berlin:20210928T193000
DTEND;TZID=Europe/Berlin:20210928T223000
SUMMARY:HE 5.Liga Gr.4 Niederhasli V vs Urdorf III (0)
UID:b10c665b-f599-4174-bbd6-6d839173a84c
STATUS:CONFIRMED
LAST-MODIFIED:20211004T120541Z
DESCRIPTION:5. Liga Herren Gruppe 4\nBegegnungs-Nr: 0\nHeim: Niederhasli V\nGast: Urdorf III\n\nAdresse: Dorfstrasse 22\, 8155 Niederhasli\n
LOCATION:Dorfstrasse 22\, 8155 Niederhasli
CATEGORIES:Saison 2021/22
END:VEVENT
BEGIN:VEVENT
DTSTAMP:20260419T231509Z
DTSTART;TZID=Europe/Berlin:20211102T193000
DTEND;TZID=Europe/Berlin:20211102T223000
SUMMARY:HE 5.Liga Gr.4 Niederhasli V vs BW-Wollishofen V (0)
UID:651fd1df-f82b-400f-b90a-6fcfe2427939
STATUS:CONFIRMED
LAST-MODIFIED:20211108T095357Z
DESCRIPTION:5. Liga Herren Gruppe 4\nBegegnungs-Nr: 0\nHeim: Niederhasli V\nGast: BW-Wollishofen V\n\nAdresse: Dorfstrasse 22\, 8155 Niederhasli\n
LOCATION:Dorfstrasse 22\, 8155 Niederhasli
CATEGORIES:Saison 2021/22
END:VEVENT
BEGIN:VEVENT
DTSTAMP:20260419T231509Z
DTSTART;TZID=Europe/Berlin:20210907T193000
DTEND;TZID=Europe/Berlin:20210907T223000
SUMMARY:HE 5.Liga Gr.4 Niederhasli V vs Zürich-Affoltern VII (0)
UID:43079005-0bc2-4bc7-b8ab-9d8bad3d3e40
STATUS:CONFIRMED
LAST-MODIFIED:20210909T122840Z
DESCRIPTION:5. Liga Herren Gruppe 4\nBegegnungs-Nr: 0\nHeim: Niederhasli V\nGast: Zürich-Affoltern VII\n\nAdresse: Dorfstrasse 22\, 8155 Niederhasli\n
LOCATION:Dorfstrasse 22\, 8155 Niederhasli
CATEGORIES:Saison 2021/22
END:VEVENT
BEGIN:VEVENT
DTSTAMP:20260419T231509Z
DTSTART;TZID=Europe/Berlin:20220318T193000
DTEND;TZID=Europe/Berlin:20220318T223000
SUMMARY:HE 5.Liga Gr.4 Niederhasli V vs Buchs Zürich II (0)
UID:037901ef-cdea-4fad-ab4b-717ed123169b
STATUS:CONFIRMED
LAST-MODIFIED:20220320T201414Z
DESCRIPTION:5. Liga Herren Gruppe 4\nBegegnungs-Nr: 0\nHeim: Niederhasli V\nGast: Buchs Zürich II\n\nAdresse: Dorfstrasse 22\, 8155 Niederhasli\n
LOCATION:Dorfstrasse 22\, 8155 Niederhasli
CATEGORIES:Saison 2021/22
END:VEVENT
BEGIN:VEVENT
DTSTAMP:20260419T231509Z
DTSTART;TZID=Europe/Berlin:20220202T193000
DTEND;TZID=Europe/Berlin:20220202T223000
SUMMARY:HE 5.Liga Gr.4 Niederhasli V vs Bülach III (0)
UID:03f45365-b63d-4849-8cc1-8382c960434f
STATUS:CONFIRMED
LAST-MODIFIED:20220203T141925Z
DESCRIPTION:5. Liga Herren Gruppe 4\nBegegnungs-Nr: 0\nHeim: Niederhasli V\nGast: Bülach III\n\nAdresse: Dorfstrasse 22\, 8155 Niederhasli\n
LOCATION:Dorfstrasse 22\, 8155 Niederhasli
CATEGORIES:Saison 2021/22
END:VEVENT
BEGIN:VEVENT
DTSTAMP:20260419T231509Z
DTSTART;TZID=Europe/Berlin:20220125T193000
DTEND;TZID=Europe/Berlin:20220125T223000
SUMMARY:HE 5.Liga Gr.4 Niederhasli V vs Höngg III (0)
UID:292d715c-3206-421b-ac7f-e13afd81ebc2
STATUS:CONFIRMED
LAST-MODIFIED:20220126T155818Z
DESCRIPTION:5. Liga Herren Gruppe 4\nBegegnungs-Nr: 0\nHeim: Niederhasli V\nGast: Höngg III\n\nAdresse: Dorfstrasse 22\, 8155 Niederhasli\n
LOCATION:Dorfstrasse 22\, 8155 Niederhasli
CATEGORIES:Saison 2021/22
END:VEVENT
BEGIN:VEVENT
DTSTAMP:20260419T231509Z
DTSTART;TZID=Europe/Berlin:20220204T193000
DTEND;TZID=Europe/Berlin:20220204T223000
SUMMARY:HE 5.Liga Gr.4 Niederhasli V vs Dietikon-Weiningen II (0)
UID:0cc2cdab-023f-4cdd-bae3-f21c89254384
STATUS:CONFIRMED
LAST-MODIFIED:20220214T163053Z
DESCRIPTION:5. Liga Herren Gruppe 4\nBegegnungs-Nr: 0\nHeim: Niederhasli V\nGast: Dietikon-Weiningen II\n\nAdresse: Dorfstrasse 22\, 8155 Niederhasli\n
LOCATION:Dorfstrasse 22\, 8155 Niederhasli
CATEGORIES:Saison 2021/22
END:VEVENT
BEGIN:VEVENT
DTSTAMP:20260419T231509Z
DTSTART;TZID=Europe/Berlin:20211202T201500
DTEND;TZID=Europe/Berlin:20211202T231500
SUMMARY:HE 5.Liga Gr.4 Bülach III vs Niederhasli V (0)
UID:ec1bd0b2-96c0-49c9-baa1-6325b508306c
STATUS:CONFIRMED
LAST-MODIFIED:20211214T110351Z
DESCRIPTION:5. Liga Herren Gruppe 4\nBegegnungs-Nr: 0\nHeim: Bülach III\nGast: Niederhasli V\n\nAdresse: Unterweg 51\, 8180 Bülach\n
LOCATION:Unterweg 51\, 8180 Bülach
CATEGORIES:Saison 2021/22
END:VEVENT
BEGIN:VEVENT
DTSTAMP:20260419T231509Z
DTSTART;TZID=Europe/Berlin:20210920T200000
DTEND;TZID=Europe/Berlin:20210920T230000
SUMMARY:HE 5.Liga Gr.4 Höngg III vs Niederhasli V (0)
UID:df5f75c3-6c29-47b9-9fd1-e2c70529bd4f
STATUS:CONFIRMED
LAST-MODIFIED:20210923T092202Z
DESCRIPTION:5. Liga Herren Gruppe 4\nBegegnungs-Nr: 0\nHeim: Höngg III\nGast: Niederhasli V\n\nAdresse: Bläsistrasse 2\, 8049 Zürich\n
LOCATION:Bläsistrasse 2\, 8049 Zürich
CATEGORIES:Saison 2021/22
END:VEVENT
BEGIN:VEVENT
DTSTAMP:20260419T231509Z
DTSTART;TZID=Europe/Berlin:20210831T200000
DTEND;TZID=Europe/Berlin:20210831T230000
SUMMARY:HE 5.Liga Gr.4 Dietikon-Weiningen II vs Niederhasli V (0)
UID:d102d832-9719-46aa-aa2f-e28aa53f5e40
STATUS:CONFIRMED
LAST-MODIFIED:20210909T124317Z
DESCRIPTION:5. Liga Herren Gruppe 4\nBegegnungs-Nr: 0\nHeim: Dietikon-Weiningen II\nGast: Niederhasli V\n\nAdresse: Bohnackerstrasse 5\, 8953 Dietikon\n
LOCATION:Bohnackerstrasse 5\, 8953 Dietikon
CATEGORIES:Saison 2021/22
END:VEVENT
BEGIN:VEVENT
DTSTAMP:20260419T231509Z
DTSTART;TZID=Europe/Berlin:20211201T201500
DTEND;TZID=Europe/Berlin:20211201T231500
SUMMARY:HE 5.Liga Gr.4 Buchs Zürich II vs Niederhasli V (0)
UID:08f76aa5-21ca-4b4d-be43-3fe6993faf65
STATUS:CONFIRMED
LAST-MODIFIED:20211214T102535Z
DESCRIPTION:5. Liga Herren Gruppe 4\nBegegnungs-Nr: 0\nHeim: Buchs Zürich II\nGast: Niederhasli V\n\nAdresse: Drisglerstrasse 3\, 8107 Buchs ZH\n
LOCATION:Drisglerstrasse 3\, 8107 Buchs ZH
CATEGORIES:Saison 2021/22
END:VEVENT
BEGIN:VEVENT
DTSTAMP:20260419T231509Z
DTSTART;TZID=Europe/Berlin:20220323T200000
DTEND;TZID=Europe/Berlin:20220323T230000
SUMMARY:HE 5.Liga Gr.4 Urdorf III vs Niederhasli V (0)
UID:88d436f2-5240-43c3-ae87-31fe35c8f6f6
STATUS:CONFIRMED
LAST-MODIFIED:20220325T142428Z
DESCRIPTION:5. Liga Herren Gruppe 4\nBegegnungs-Nr: 0\nHeim: Urdorf III\nGast: Niederhasli V\n\nAdresse: Weihermattstrasse 50\, 8902 Urdorf\n
LOCATION:Weihermattstrasse 50\, 8902 Urdorf
CATEGORIES:Saison 2021/22
END:VEVENT
BEGIN:VEVENT
DTSTAMP:20260419T231509Z
DTSTART;TZID=Europe/Berlin:20220311T200000
DTEND;TZID=Europe/Berlin:20220311T230000
SUMMARY:HE 5.Liga Gr.4 BW-Wollishofen V vs Niederhasli V (0)
UID:8f849aeb-3c2d-4f7b-9410-72d74071698d
STATUS:CONFIRMED
LAST-MODIFIED:20220314T081737Z
DESCRIPTION:5. Liga Herren Gruppe 4\nBegegnungs-Nr: 0\nHeim: BW-Wollishofen V\nGast: Niederhasli V\n\nAdresse: Kilchbergstr. 28\, 8038 Zürich\n
LOCATION:Kilchbergstr. 28\, 8038 Zürich
CATEGORIES:Saison 2021/22
END:VEVENT
BEGIN:VEVENT
DTSTAMP:20260419T231509Z
DTSTART;TZID=Europe/Berlin:20220126T193000
DTEND;TZID=Europe/Berlin:20220126T223000
SUMMARY:HE 5.Liga Gr.4 Zürich-Affoltern VII vs Niederhasli V (0)
UID:ce6f0c85-2349-4eec-b1a8-e18fa0ebb10b
STATUS:CONFIRMED
LAST-MODIFIED:20220206T203702Z
DESCRIPTION:5. Liga Herren Gruppe 4\nBegegnungs-Nr: 0\nHeim: Zürich-Affoltern VII\nGast: Niederhasli V\n\nAdresse: Fronwaldstr.115\, 8046 Zürich\n
LOCATION:Fronwaldstr.115\, 8046 Zürich
CATEGORIES:Saison 2021/22
END:VEVENT
END:VCALENDAR
