BEGIN:VCALENDAR
PRODID:-//nuDatenautomaten//framework iCal4j //DE
VERSION:2.0
CALSCALE:GREGORIAN
BEGIN:VTIMEZONE
TZID:Europe/Berlin
LAST-MODIFIED:20260306T231828Z
TZURL:https://www.tzurl.org/zoneinfo/Europe/Berlin
X-LIC-LOCATION:Europe/Berlin
X-PROLEPTIC-TZNAME:LMT
BEGIN:STANDARD
TZNAME:CET
TZOFFSETFROM:+005328
TZOFFSETTO:+0100
DTSTART:18930401T000000
END:STANDARD
BEGIN:DAYLIGHT
TZNAME:CEST
TZOFFSETFROM:+0100
TZOFFSETTO:+0200
DTSTART:19160430T230000
RDATE:19400401T020000
RDATE:19430329T020000
RDATE:19460414T020000
RDATE:19470406T030000
RDATE:19480418T020000
RDATE:19490410T020000
RDATE:19800406T020000
END:DAYLIGHT
BEGIN:STANDARD
TZNAME:CET
TZOFFSETFROM:+0200
TZOFFSETTO:+0100
DTSTART:19161001T010000
RDATE:19421102T030000
RDATE:19431004T030000
RDATE:19441002T030000
RDATE:19451118T030000
RDATE:19461007T030000
END:STANDARD
BEGIN:DAYLIGHT
TZNAME:CEST
TZOFFSETFROM:+0100
TZOFFSETTO:+0200
DTSTART:19170416T020000
RRULE:FREQ=YEARLY;UNTIL=19180415T010000Z;BYMONTH=4;BYDAY=3MO
END:DAYLIGHT
BEGIN:STANDARD
TZNAME:CET
TZOFFSETFROM:+0200
TZOFFSETTO:+0100
DTSTART:19170917T030000
RRULE:FREQ=YEARLY;UNTIL=19180916T010000Z;BYMONTH=9;BYDAY=3MO
END:STANDARD
BEGIN:DAYLIGHT
TZNAME:CEST
TZOFFSETFROM:+0100
TZOFFSETTO:+0200
DTSTART:19440403T020000
RRULE:FREQ=YEARLY;UNTIL=19450402T010000Z;BYMONTH=4;BYDAY=1MO
END:DAYLIGHT
BEGIN:DAYLIGHT
TZNAME:CEMT
TZOFFSETFROM:+0200
TZOFFSETTO:+0300
DTSTART:19450524T020000
RDATE:19470511T030000
END:DAYLIGHT
BEGIN:DAYLIGHT
TZNAME:CEST
TZOFFSETFROM:+0300
TZOFFSETTO:+0200
DTSTART:19450924T030000
RDATE:19470629T030000
END:DAYLIGHT
BEGIN:STANDARD
TZNAME:CET
TZOFFSETFROM:+0100
TZOFFSETTO:+0100
DTSTART:19460101T000000
RDATE:19800101T000000
END:STANDARD
BEGIN:STANDARD
TZNAME:CET
TZOFFSETFROM:+0200
TZOFFSETTO:+0100
DTSTART:19471005T030000
RRULE:FREQ=YEARLY;UNTIL=19491002T010000Z;BYMONTH=10;BYDAY=1SU
END:STANDARD
BEGIN:STANDARD
TZNAME:CET
TZOFFSETFROM:+0200
TZOFFSETTO:+0100
DTSTART:19800928T030000
RRULE:FREQ=YEARLY;UNTIL=19950924T010000Z;BYMONTH=9;BYDAY=-1SU
END:STANDARD
BEGIN:DAYLIGHT
TZNAME:CEST
TZOFFSETFROM:+0100
TZOFFSETTO:+0200
DTSTART:19810329T020000
RRULE:FREQ=YEARLY;BYMONTH=3;BYDAY=-1SU
END:DAYLIGHT
BEGIN:STANDARD
TZNAME:CET
TZOFFSETFROM:+0200
TZOFFSETTO:+0100
DTSTART:19961027T030000
RRULE:FREQ=YEARLY;BYMONTH=10;BYDAY=-1SU
END:STANDARD
END:VTIMEZONE
BEGIN:VEVENT
DTSTAMP:20260420T001209Z
DTSTART;TZID=Europe/Berlin:20211202T201500
DTEND;TZID=Europe/Berlin:20211202T231500
SUMMARY:HE 5.Liga Gr.4 Bülach III vs Niederhasli V (0)
UID:ec1bd0b2-96c0-49c9-baa1-6325b508306c
STATUS:CONFIRMED
LAST-MODIFIED:20211214T110351Z
DESCRIPTION:5. Liga Herren Gruppe 4\nBegegnungs-Nr: 0\nHeim: Bülach III\nGast: Niederhasli V\n\nAdresse: Unterweg 51\, 8180 Bülach\n
LOCATION:Unterweg 51\, 8180 Bülach
CATEGORIES:Saison 2021/22
END:VEVENT
BEGIN:VEVENT
DTSTAMP:20260420T001209Z
DTSTART;TZID=Europe/Berlin:20210909T201500
DTEND;TZID=Europe/Berlin:20210909T231500
SUMMARY:HE 5.Liga Gr.4 Bülach III vs Dietikon-Weiningen II (0)
UID:edefcb84-6731-4a03-a714-f5456806454d
STATUS:CONFIRMED
LAST-MODIFIED:20210916T100216Z
DESCRIPTION:5. Liga Herren Gruppe 4\nBegegnungs-Nr: 0\nHeim: Bülach III\nGast: Dietikon-Weiningen II\n\nAdresse: Unterweg 51\, 8180 Bülach\n
LOCATION:Unterweg 51\, 8180 Bülach
CATEGORIES:Saison 2021/22
END:VEVENT
BEGIN:VEVENT
DTSTAMP:20260420T001209Z
DTSTART;TZID=Europe/Berlin:20211118T201500
DTEND;TZID=Europe/Berlin:20211118T231500
SUMMARY:HE 5.Liga Gr.4 Bülach III vs Höngg III (0)
UID:1796101c-5609-4e56-b0e1-4cd412b7e312
STATUS:CONFIRMED
LAST-MODIFIED:20211122T160535Z
DESCRIPTION:5. Liga Herren Gruppe 4\nBegegnungs-Nr: 0\nHeim: Bülach III\nGast: Höngg III\n\nAdresse: Unterweg 51\, 8180 Bülach\n
LOCATION:Unterweg 51\, 8180 Bülach
CATEGORIES:Saison 2021/22
END:VEVENT
BEGIN:VEVENT
DTSTAMP:20260420T001209Z
DTSTART;TZID=Europe/Berlin:20211104T201500
DTEND;TZID=Europe/Berlin:20211104T231500
SUMMARY:HE 5.Liga Gr.4 Bülach III vs Buchs Zürich II (0)
UID:2edd8c4d-f6da-4b05-ad9b-d2fd7c502d12
STATUS:CONFIRMED
LAST-MODIFIED:20211108T095415Z
DESCRIPTION:5. Liga Herren Gruppe 4\nBegegnungs-Nr: 0\nHeim: Bülach III\nGast: Buchs Zürich II\n\nAdresse: Unterweg 51\, 8180 Bülach\n
LOCATION:Unterweg 51\, 8180 Bülach
CATEGORIES:Saison 2021/22
END:VEVENT
BEGIN:VEVENT
DTSTAMP:20260420T001209Z
DTSTART;TZID=Europe/Berlin:20220317T201500
DTEND;TZID=Europe/Berlin:20220317T231500
SUMMARY:HE 5.Liga Gr.4 Bülach III vs BW-Wollishofen V (0)
UID:77f71568-3c24-4241-9063-ae4e49698058
STATUS:CONFIRMED
LAST-MODIFIED:20220322T111056Z
DESCRIPTION:5. Liga Herren Gruppe 4\nBegegnungs-Nr: 0\nHeim: Bülach III\nGast: BW-Wollishofen V\n\nAdresse: Unterweg 51\, 8180 Bülach\n
LOCATION:Unterweg 51\, 8180 Bülach
CATEGORIES:Saison 2021/22
END:VEVENT
BEGIN:VEVENT
DTSTAMP:20260420T001209Z
DTSTART;TZID=Europe/Berlin:20220127T201500
DTEND;TZID=Europe/Berlin:20220127T231500
SUMMARY:HE 5.Liga Gr.4 Bülach III vs Zürich-Affoltern VII (0)
UID:3eb8f8af-1eb6-4a00-98f5-b0d65059c724
STATUS:CONFIRMED
LAST-MODIFIED:20220131T065727Z
DESCRIPTION:5. Liga Herren Gruppe 4\nBegegnungs-Nr: 0\nHeim: Bülach III\nGast: Zürich-Affoltern VII\n\nAdresse: Unterweg 51\, 8180 Bülach\n
LOCATION:Unterweg 51\, 8180 Bülach
CATEGORIES:Saison 2021/22
END:VEVENT
BEGIN:VEVENT
DTSTAMP:20260420T001209Z
DTSTART;TZID=Europe/Berlin:20220325T201500
DTEND;TZID=Europe/Berlin:20220325T231500
SUMMARY:HE 5.Liga Gr.4 Bülach III vs Urdorf III (0)
UID:85b8913e-e80b-4bf8-96a4-79c7a9bccbaa
STATUS:CONFIRMED
LAST-MODIFIED:20220330T084710Z
DESCRIPTION:5. Liga Herren Gruppe 4\nBegegnungs-Nr: 0\nHeim: Bülach III\nGast: Urdorf III\n\nAdresse: Unterweg 51\, 8180 Bülach\n
LOCATION:Unterweg 51\, 8180 Bülach
CATEGORIES:Saison 2021/22
END:VEVENT
BEGIN:VEVENT
DTSTAMP:20260420T001209Z
DTSTART;TZID=Europe/Berlin:20210922T193000
DTEND;TZID=Europe/Berlin:20210922T223000
SUMMARY:HE 5.Liga Gr.4 Zürich-Affoltern VII vs Bülach III (0)
UID:fa4a236b-3306-4406-a44b-c68978e70753
STATUS:CONFIRMED
LAST-MODIFIED:20210923T134939Z
DESCRIPTION:5. Liga Herren Gruppe 4\nBegegnungs-Nr: 0\nHeim: Zürich-Affoltern VII\nGast: Bülach III\n\nAdresse: Fronwaldstr.115\, 8046 Zürich\n
LOCATION:Fronwaldstr.115\, 8046 Zürich
CATEGORIES:Saison 2021/22
END:VEVENT
BEGIN:VEVENT
DTSTAMP:20260420T001209Z
DTSTART;TZID=Europe/Berlin:20210901T200000
DTEND;TZID=Europe/Berlin:20210901T230000
SUMMARY:HE 5.Liga Gr.4 Urdorf III vs Bülach III (0)
UID:28b5e365-9d51-4b4b-b533-597225837db6
STATUS:CONFIRMED
LAST-MODIFIED:20210907T143904Z
DESCRIPTION:5. Liga Herren Gruppe 4\nBegegnungs-Nr: 0\nHeim: Urdorf III\nGast: Bülach III\n\nAdresse: Weihermattstrasse 50\, 8902 Urdorf\n
LOCATION:Weihermattstrasse 50\, 8902 Urdorf
CATEGORIES:Saison 2021/22
END:VEVENT
BEGIN:VEVENT
DTSTAMP:20260420T001209Z
DTSTART;TZID=Europe/Berlin:20211112T200000
DTEND;TZID=Europe/Berlin:20211112T230000
SUMMARY:HE 5.Liga Gr.4 BW-Wollishofen V vs Bülach III (0)
UID:a7c03027-1f4b-48d7-8796-9bf05fc2c481
STATUS:CONFIRMED
LAST-MODIFIED:20211117T125224Z
DESCRIPTION:5. Liga Herren Gruppe 4\nBegegnungs-Nr: 0\nHeim: BW-Wollishofen V\nGast: Bülach III\n\nAdresse: Kilchbergstr. 28\, 8038 Zürich\n
LOCATION:Kilchbergstr. 28\, 8038 Zürich
CATEGORIES:Saison 2021/22
END:VEVENT
BEGIN:VEVENT
DTSTAMP:20260420T001209Z
DTSTART;TZID=Europe/Berlin:20220211T201500
DTEND;TZID=Europe/Berlin:20220211T231500
SUMMARY:HE 5.Liga Gr.4 Buchs Zürich II vs Bülach III (0)
UID:e252523e-c6f9-4402-917d-4470992ba173
STATUS:CONFIRMED
LAST-MODIFIED:20220217T065723Z
DESCRIPTION:5. Liga Herren Gruppe 4\nBegegnungs-Nr: 0\nHeim: Buchs Zürich II\nGast: Bülach III\n\nAdresse: Drisglerstrasse 3\, 8107 Buchs ZH\n
LOCATION:Drisglerstrasse 3\, 8107 Buchs ZH
CATEGORIES:Saison 2021/22
END:VEVENT
BEGIN:VEVENT
DTSTAMP:20260420T001209Z
DTSTART;TZID=Europe/Berlin:20220202T193000
DTEND;TZID=Europe/Berlin:20220202T223000
SUMMARY:HE 5.Liga Gr.4 Niederhasli V vs Bülach III (0)
UID:03f45365-b63d-4849-8cc1-8382c960434f
STATUS:CONFIRMED
LAST-MODIFIED:20220203T141925Z
DESCRIPTION:5. Liga Herren Gruppe 4\nBegegnungs-Nr: 0\nHeim: Niederhasli V\nGast: Bülach III\n\nAdresse: Dorfstrasse 22\, 8155 Niederhasli\n
LOCATION:Dorfstrasse 22\, 8155 Niederhasli
CATEGORIES:Saison 2021/22
END:VEVENT
BEGIN:VEVENT
DTSTAMP:20260420T001209Z
DTSTART;TZID=Europe/Berlin:20220207T200000
DTEND;TZID=Europe/Berlin:20220207T230000
SUMMARY:HE 5.Liga Gr.4 Höngg III vs Bülach III (0)
UID:403a4f80-d514-4a1b-8565-48e563ca92cb
STATUS:CONFIRMED
LAST-MODIFIED:20220214T163102Z
DESCRIPTION:5. Liga Herren Gruppe 4\nBegegnungs-Nr: 0\nHeim: Höngg III\nGast: Bülach III\n\nAdresse: Bläsistrasse 2\, 8049 Zürich\n
LOCATION:Bläsistrasse 2\, 8049 Zürich
CATEGORIES:Saison 2021/22
END:VEVENT
BEGIN:VEVENT
DTSTAMP:20260420T001209Z
DTSTART;TZID=Europe/Berlin:20220311T200000
DTEND;TZID=Europe/Berlin:20220311T230000
SUMMARY:HE 5.Liga Gr.4 Dietikon-Weiningen II vs Bülach III (0)
UID:1350738a-71ef-4173-834e-262b54a3b46a
STATUS:CONFIRMED
LAST-MODIFIED:20220314T081748Z
DESCRIPTION:5. Liga Herren Gruppe 4\nBegegnungs-Nr: 0\nHeim: Dietikon-Weiningen II\nGast: Bülach III\n\nAdresse: Bohnackerstrasse 5\, 8953 Dietikon\n
LOCATION:Bohnackerstrasse 5\, 8953 Dietikon
CATEGORIES:Saison 2021/22
END:VEVENT
END:VCALENDAR
