BEGIN:VCALENDAR
PRODID:-//nuDatenautomaten//framework iCal4j //DE
VERSION:2.0
CALSCALE:GREGORIAN
BEGIN:VTIMEZONE
TZID:Europe/Berlin
LAST-MODIFIED:20260306T231828Z
TZURL:https://www.tzurl.org/zoneinfo/Europe/Berlin
X-LIC-LOCATION:Europe/Berlin
X-PROLEPTIC-TZNAME:LMT
BEGIN:STANDARD
TZNAME:CET
TZOFFSETFROM:+005328
TZOFFSETTO:+0100
DTSTART:18930401T000000
END:STANDARD
BEGIN:DAYLIGHT
TZNAME:CEST
TZOFFSETFROM:+0100
TZOFFSETTO:+0200
DTSTART:19160430T230000
RDATE:19400401T020000
RDATE:19430329T020000
RDATE:19460414T020000
RDATE:19470406T030000
RDATE:19480418T020000
RDATE:19490410T020000
RDATE:19800406T020000
END:DAYLIGHT
BEGIN:STANDARD
TZNAME:CET
TZOFFSETFROM:+0200
TZOFFSETTO:+0100
DTSTART:19161001T010000
RDATE:19421102T030000
RDATE:19431004T030000
RDATE:19441002T030000
RDATE:19451118T030000
RDATE:19461007T030000
END:STANDARD
BEGIN:DAYLIGHT
TZNAME:CEST
TZOFFSETFROM:+0100
TZOFFSETTO:+0200
DTSTART:19170416T020000
RRULE:FREQ=YEARLY;UNTIL=19180415T010000Z;BYMONTH=4;BYDAY=3MO
END:DAYLIGHT
BEGIN:STANDARD
TZNAME:CET
TZOFFSETFROM:+0200
TZOFFSETTO:+0100
DTSTART:19170917T030000
RRULE:FREQ=YEARLY;UNTIL=19180916T010000Z;BYMONTH=9;BYDAY=3MO
END:STANDARD
BEGIN:DAYLIGHT
TZNAME:CEST
TZOFFSETFROM:+0100
TZOFFSETTO:+0200
DTSTART:19440403T020000
RRULE:FREQ=YEARLY;UNTIL=19450402T010000Z;BYMONTH=4;BYDAY=1MO
END:DAYLIGHT
BEGIN:DAYLIGHT
TZNAME:CEMT
TZOFFSETFROM:+0200
TZOFFSETTO:+0300
DTSTART:19450524T020000
RDATE:19470511T030000
END:DAYLIGHT
BEGIN:DAYLIGHT
TZNAME:CEST
TZOFFSETFROM:+0300
TZOFFSETTO:+0200
DTSTART:19450924T030000
RDATE:19470629T030000
END:DAYLIGHT
BEGIN:STANDARD
TZNAME:CET
TZOFFSETFROM:+0100
TZOFFSETTO:+0100
DTSTART:19460101T000000
RDATE:19800101T000000
END:STANDARD
BEGIN:STANDARD
TZNAME:CET
TZOFFSETFROM:+0200
TZOFFSETTO:+0100
DTSTART:19471005T030000
RRULE:FREQ=YEARLY;UNTIL=19491002T010000Z;BYMONTH=10;BYDAY=1SU
END:STANDARD
BEGIN:STANDARD
TZNAME:CET
TZOFFSETFROM:+0200
TZOFFSETTO:+0100
DTSTART:19800928T030000
RRULE:FREQ=YEARLY;UNTIL=19950924T010000Z;BYMONTH=9;BYDAY=-1SU
END:STANDARD
BEGIN:DAYLIGHT
TZNAME:CEST
TZOFFSETFROM:+0100
TZOFFSETTO:+0200
DTSTART:19810329T020000
RRULE:FREQ=YEARLY;BYMONTH=3;BYDAY=-1SU
END:DAYLIGHT
BEGIN:STANDARD
TZNAME:CET
TZOFFSETFROM:+0200
TZOFFSETTO:+0100
DTSTART:19961027T030000
RRULE:FREQ=YEARLY;BYMONTH=10;BYDAY=-1SU
END:STANDARD
END:VTIMEZONE
BEGIN:VEVENT
DTSTAMP:20260421T215316Z
DTSTART;TZID=Europe/Berlin:20211119T194500
DTEND;TZID=Europe/Berlin:20211119T224500
SUMMARY:O40 2. Liga Münchenbuchsee vs Ostermundigen (18)
UID:1b668579-5865-473b-98d6-68d57d17eb55
STATUS:CONFIRMED
LAST-MODIFIED:20211122T101542Z
DESCRIPTION:2. Liga O40\nBegegnungs-Nr: 18\nHeim: Münchenbuchsee\nGast: Ostermundigen\n\nAdresse: Laubbergweg 41\, 3053 Münchenbuchsee\n
LOCATION:Laubbergweg 41\, 3053 Münchenbuchsee
CATEGORIES:Saison 2021/22
END:VEVENT
BEGIN:VEVENT
DTSTAMP:20260421T215316Z
DTSTART;TZID=Europe/Berlin:20210910T194500
DTEND;TZID=Europe/Berlin:20210910T224500
SUMMARY:O40 2. Liga Münchenbuchsee vs Port II (4)
UID:04e99da8-a048-4f3d-94e7-922cb27be34e
STATUS:CONFIRMED
LAST-MODIFIED:20210913T221549Z
DESCRIPTION:2. Liga O40\nBegegnungs-Nr: 4\nHeim: Münchenbuchsee\nGast: Port II\n\nAdresse: Laubbergweg 41\, 3053 Münchenbuchsee\n
LOCATION:Laubbergweg 41\, 3053 Münchenbuchsee
CATEGORIES:Saison 2021/22
END:VEVENT
BEGIN:VEVENT
DTSTAMP:20260421T215316Z
DTSTART;TZID=Europe/Berlin:20211020T200000
DTEND;TZID=Europe/Berlin:20211020T230000
SUMMARY:O40 2. Liga Münchenbuchsee vs Langenthal (12)
UID:69cb485d-6328-45f6-968e-11a44cf11ed1
STATUS:CONFIRMED
LAST-MODIFIED:20211021T083141Z
DESCRIPTION:2. Liga O40\nBegegnungs-Nr: 12\nHeim: Münchenbuchsee\nGast: Langenthal\n\nAdresse: Laubbergweg 41\, 3053 Münchenbuchsee\n
LOCATION:Laubbergweg 41\, 3053 Münchenbuchsee
CATEGORIES:Saison 2021/22
END:VEVENT
BEGIN:VEVENT
DTSTAMP:20260421T215316Z
DTSTART;TZID=Europe/Berlin:20220204T194500
DTEND;TZID=Europe/Berlin:20220204T224500
SUMMARY:O40 2. Liga Münchenbuchsee vs Royal Bern (8)
UID:dfa1ba40-01f1-4c8f-a88f-5f87e66305bc
STATUS:CONFIRMED
DESCRIPTION:2. Liga O40\nBegegnungs-Nr: 8\nHeim: Münchenbuchsee\nGast: Royal Bern\n\nAdresse: Laubbergweg 41\, 3053 Münchenbuchsee\n
LOCATION:Laubbergweg 41\, 3053 Münchenbuchsee
CATEGORIES:Saison 2021/22
END:VEVENT
BEGIN:VEVENT
DTSTAMP:20260421T215316Z
DTSTART;TZID=Europe/Berlin:20220309T200000
DTEND;TZID=Europe/Berlin:20220309T230000
SUMMARY:O40 2. Liga Münchenbuchsee vs Langnau (15)
UID:d0c90db7-d5e7-4771-bd46-bc8be87a3a3e
STATUS:CONFIRMED
DESCRIPTION:2. Liga O40\nBegegnungs-Nr: 15\nHeim: Münchenbuchsee\nGast: Langnau\n\nAdresse: Laubbergweg 41\, 3053 Münchenbuchsee\n
LOCATION:Laubbergweg 41\, 3053 Münchenbuchsee
CATEGORIES:Saison 2021/22
END:VEVENT
BEGIN:VEVENT
DTSTAMP:20260421T215316Z
DTSTART;TZID=Europe/Berlin:20211215T200000
DTEND;TZID=Europe/Berlin:20211215T230000
SUMMARY:O40 2. Liga Münchenbuchsee vs Worb (1)
UID:9711f886-599f-427c-ba08-1202cf21e59b
STATUS:CONFIRMED
LAST-MODIFIED:20211216T091110Z
DESCRIPTION:2. Liga O40\nBegegnungs-Nr: 1\nHeim: Münchenbuchsee\nGast: Worb\n\nAdresse: Laubbergweg 41\, 3053 Münchenbuchsee\n
LOCATION:Laubbergweg 41\, 3053 Münchenbuchsee
CATEGORIES:Saison 2021/22
END:VEVENT
BEGIN:VEVENT
DTSTAMP:20260421T215316Z
DTSTART;TZID=Europe/Berlin:20210903T200000
DTEND;TZID=Europe/Berlin:20210903T230000
SUMMARY:O40 2. Liga Worb vs Münchenbuchsee (1)
UID:46b937a2-97d2-4f03-8668-ecb1f45573de
STATUS:CONFIRMED
LAST-MODIFIED:20210907T093539Z
DESCRIPTION:2. Liga O40\nBegegnungs-Nr: 1\nHeim: Worb\nGast: Münchenbuchsee\n\nAdresse: Rosenweg 9\, 3075 Rüfenacht BE\n
LOCATION:Rosenweg 9\, 3075 Rüfenacht BE
CATEGORIES:Saison 2021/22
END:VEVENT
BEGIN:VEVENT
DTSTAMP:20260421T215316Z
DTSTART;TZID=Europe/Berlin:20211008T194500
DTEND;TZID=Europe/Berlin:20211008T224500
SUMMARY:O40 2. Liga Royal Bern vs Münchenbuchsee (8)
UID:8c8e4f63-fbe9-401a-bff1-12946aa9ab21
STATUS:CONFIRMED
LAST-MODIFIED:20211011T110024Z
DESCRIPTION:2. Liga O40\nBegegnungs-Nr: 8\nHeim: Royal Bern\nGast: Münchenbuchsee\n\nAdresse: Dändlikerweg 60\, 3014 Bern\n
LOCATION:Dändlikerweg 60\, 3014 Bern
CATEGORIES:Saison 2021/22
END:VEVENT
BEGIN:VEVENT
DTSTAMP:20260421T215316Z
DTSTART;TZID=Europe/Berlin:20211110T200000
DTEND;TZID=Europe/Berlin:20211110T230000
SUMMARY:O40 2. Liga Langnau vs Münchenbuchsee (15)
UID:35530b86-8eb4-4580-b823-7836bef7fd70
STATUS:CONFIRMED
LAST-MODIFIED:20211111T080558Z
DESCRIPTION:2. Liga O40\nBegegnungs-Nr: 15\nHeim: Langnau\nGast: Münchenbuchsee\n\nAdresse: Bleicheweg 11\, 3550 Langnau\n
LOCATION:Bleicheweg 11\, 3550 Langnau
CATEGORIES:Saison 2021/22
END:VEVENT
BEGIN:VEVENT
DTSTAMP:20260421T215316Z
DTSTART;TZID=Europe/Berlin:20220128T194500
DTEND;TZID=Europe/Berlin:20220128T224500
SUMMARY:O40 2. Liga Port II vs Münchenbuchsee (4)
UID:f0b13400-ff32-46c7-8c0c-94cdeca5798d
STATUS:CONFIRMED
DESCRIPTION:2. Liga O40\nBegegnungs-Nr: 4\nHeim: Port II\nGast: Münchenbuchsee\n\nAdresse: Allmendstrasse 23\, 2562 Port\n
LOCATION:Allmendstrasse 23\, 2562 Port
CATEGORIES:Saison 2021/22
END:VEVENT
BEGIN:VEVENT
DTSTAMP:20260421T215316Z
DTSTART;TZID=Europe/Berlin:20220214T200000
DTEND;TZID=Europe/Berlin:20220214T230000
SUMMARY:O40 2. Liga Langenthal vs Münchenbuchsee (12)
UID:43c3a0a4-14b8-4c08-8742-55e5877a1ef5
STATUS:CONFIRMED
DESCRIPTION:2. Liga O40\nBegegnungs-Nr: 12\nHeim: Langenthal\nGast: Münchenbuchsee\n\nAdresse: Weststrasse 29\, 4900 Langenthal\n
LOCATION:Weststrasse 29\, 4900 Langenthal
CATEGORIES:Saison 2021/22
END:VEVENT
BEGIN:VEVENT
DTSTAMP:20260421T215316Z
DTSTART;TZID=Europe/Berlin:20220318T193000
DTEND;TZID=Europe/Berlin:20220318T223000
SUMMARY:O40 2. Liga Ostermundigen vs Münchenbuchsee (18)
UID:e939313c-981e-4adf-b3ee-0344cfd70633
STATUS:CONFIRMED
DESCRIPTION:2. Liga O40\nBegegnungs-Nr: 18\nHeim: Ostermundigen\nGast: Münchenbuchsee\n\nAdresse: Dennigkofenweg 169\, 3072 Ostermundigen\n
LOCATION:Dennigkofenweg 169\, 3072 Ostermundigen
CATEGORIES:Saison 2021/22
END:VEVENT
END:VCALENDAR
