BEGIN:VCALENDAR
PRODID:-//nuDatenautomaten//framework iCal4j //DE
VERSION:2.0
CALSCALE:GREGORIAN
BEGIN:VTIMEZONE
TZID:Europe/Berlin
LAST-MODIFIED:20260306T231828Z
TZURL:https://www.tzurl.org/zoneinfo/Europe/Berlin
X-LIC-LOCATION:Europe/Berlin
X-PROLEPTIC-TZNAME:LMT
BEGIN:STANDARD
TZNAME:CET
TZOFFSETFROM:+005328
TZOFFSETTO:+0100
DTSTART:18930401T000000
END:STANDARD
BEGIN:DAYLIGHT
TZNAME:CEST
TZOFFSETFROM:+0100
TZOFFSETTO:+0200
DTSTART:19160430T230000
RDATE:19400401T020000
RDATE:19430329T020000
RDATE:19460414T020000
RDATE:19470406T030000
RDATE:19480418T020000
RDATE:19490410T020000
RDATE:19800406T020000
END:DAYLIGHT
BEGIN:STANDARD
TZNAME:CET
TZOFFSETFROM:+0200
TZOFFSETTO:+0100
DTSTART:19161001T010000
RDATE:19421102T030000
RDATE:19431004T030000
RDATE:19441002T030000
RDATE:19451118T030000
RDATE:19461007T030000
END:STANDARD
BEGIN:DAYLIGHT
TZNAME:CEST
TZOFFSETFROM:+0100
TZOFFSETTO:+0200
DTSTART:19170416T020000
RRULE:FREQ=YEARLY;UNTIL=19180415T010000Z;BYMONTH=4;BYDAY=3MO
END:DAYLIGHT
BEGIN:STANDARD
TZNAME:CET
TZOFFSETFROM:+0200
TZOFFSETTO:+0100
DTSTART:19170917T030000
RRULE:FREQ=YEARLY;UNTIL=19180916T010000Z;BYMONTH=9;BYDAY=3MO
END:STANDARD
BEGIN:DAYLIGHT
TZNAME:CEST
TZOFFSETFROM:+0100
TZOFFSETTO:+0200
DTSTART:19440403T020000
RRULE:FREQ=YEARLY;UNTIL=19450402T010000Z;BYMONTH=4;BYDAY=1MO
END:DAYLIGHT
BEGIN:DAYLIGHT
TZNAME:CEMT
TZOFFSETFROM:+0200
TZOFFSETTO:+0300
DTSTART:19450524T020000
RDATE:19470511T030000
END:DAYLIGHT
BEGIN:DAYLIGHT
TZNAME:CEST
TZOFFSETFROM:+0300
TZOFFSETTO:+0200
DTSTART:19450924T030000
RDATE:19470629T030000
END:DAYLIGHT
BEGIN:STANDARD
TZNAME:CET
TZOFFSETFROM:+0100
TZOFFSETTO:+0100
DTSTART:19460101T000000
RDATE:19800101T000000
END:STANDARD
BEGIN:STANDARD
TZNAME:CET
TZOFFSETFROM:+0200
TZOFFSETTO:+0100
DTSTART:19471005T030000
RRULE:FREQ=YEARLY;UNTIL=19491002T010000Z;BYMONTH=10;BYDAY=1SU
END:STANDARD
BEGIN:STANDARD
TZNAME:CET
TZOFFSETFROM:+0200
TZOFFSETTO:+0100
DTSTART:19800928T030000
RRULE:FREQ=YEARLY;UNTIL=19950924T010000Z;BYMONTH=9;BYDAY=-1SU
END:STANDARD
BEGIN:DAYLIGHT
TZNAME:CEST
TZOFFSETFROM:+0100
TZOFFSETTO:+0200
DTSTART:19810329T020000
RRULE:FREQ=YEARLY;BYMONTH=3;BYDAY=-1SU
END:DAYLIGHT
BEGIN:STANDARD
TZNAME:CET
TZOFFSETFROM:+0200
TZOFFSETTO:+0100
DTSTART:19961027T030000
RRULE:FREQ=YEARLY;BYMONTH=10;BYDAY=-1SU
END:STANDARD
END:VTIMEZONE
BEGIN:VEVENT
DTSTAMP:20260419T231428Z
DTSTART;TZID=Europe/Berlin:20211130T201500
DTEND;TZID=Europe/Berlin:20211130T231500
SUMMARY:HE 5.Liga Gr.3 Weinfelden II vs Kreuzlingen II (0)
UID:0b0efb3b-ed5a-43d9-967f-ce410298619e
STATUS:CONFIRMED
LAST-MODIFIED:20211201T140826Z
DESCRIPTION:5. Liga Herren Gruppe 3\nBegegnungs-Nr: 0\nHeim: Weinfelden II\nGast: Kreuzlingen II\n\nAdresse: Bleichestrasse 3 (neben Hallenbad)\, 8570 Weinfelden\n
LOCATION:Bleichestrasse 3 (neben Hallenbad)\, 8570 Weinfelden
CATEGORIES:Saison 2021/22
END:VEVENT
BEGIN:VEVENT
DTSTAMP:20260419T231428Z
DTSTART;TZID=Europe/Berlin:20211109T201500
DTEND;TZID=Europe/Berlin:20211109T231500
SUMMARY:HE 5.Liga Gr.3 Weinfelden II vs Winterthur V (0)
UID:905eb4c9-a7e1-4261-ae42-c4ffa723fd50
STATUS:CONFIRMED
LAST-MODIFIED:20211111T092204Z
DESCRIPTION:5. Liga Herren Gruppe 3\nBegegnungs-Nr: 0\nHeim: Weinfelden II\nGast: Winterthur V\n\nAdresse: Bleichestrasse 3 (neben Hallenbad)\, 8570 Weinfelden\n
LOCATION:Bleichestrasse 3 (neben Hallenbad)\, 8570 Weinfelden
CATEGORIES:Saison 2021/22
END:VEVENT
BEGIN:VEVENT
DTSTAMP:20260419T231428Z
DTSTART;TZID=Europe/Berlin:20210921T201500
DTEND;TZID=Europe/Berlin:20210921T231500
SUMMARY:HE 5.Liga Gr.3 Weinfelden II vs Imperial Winterthur II (0)
UID:f6aa2003-d5ac-4fac-8dfc-9b930dcc0585
STATUS:CONFIRMED
LAST-MODIFIED:20210923T092116Z
DESCRIPTION:5. Liga Herren Gruppe 3\nBegegnungs-Nr: 0\nHeim: Weinfelden II\nGast: Imperial Winterthur II\n\nAdresse: Bleichestrasse 3 (neben Hallenbad)\, 8570 Weinfelden\n
LOCATION:Bleichestrasse 3 (neben Hallenbad)\, 8570 Weinfelden
CATEGORIES:Saison 2021/22
END:VEVENT
BEGIN:VEVENT
DTSTAMP:20260419T231428Z
DTSTART;TZID=Europe/Berlin:20210831T201500
DTEND;TZID=Europe/Berlin:20210831T231500
SUMMARY:HE 5.Liga Gr.3 Weinfelden II vs Steckborn-Homburg III (0)
UID:ece412be-698e-40f0-b40d-5754892b930b
STATUS:CONFIRMED
LAST-MODIFIED:20210909T123322Z
DESCRIPTION:5. Liga Herren Gruppe 3\nBegegnungs-Nr: 0\nHeim: Weinfelden II\nGast: Steckborn-Homburg III\n\nAdresse: Bleichestrasse 3 (neben Hallenbad)\, 8570 Weinfelden\n
LOCATION:Bleichestrasse 3 (neben Hallenbad)\, 8570 Weinfelden
CATEGORIES:Saison 2021/22
END:VEVENT
BEGIN:VEVENT
DTSTAMP:20260419T231428Z
DTSTART;TZID=Europe/Berlin:20220222T201500
DTEND;TZID=Europe/Berlin:20220222T231500
SUMMARY:HE 5.Liga Gr.3 Weinfelden II vs Frauenfeld II (0)
UID:f9ce8afb-1fe6-4ba9-8b37-43cfa01c7ad8
STATUS:CONFIRMED
LAST-MODIFIED:20220224T090827Z
DESCRIPTION:5. Liga Herren Gruppe 3\nBegegnungs-Nr: 0\nHeim: Weinfelden II\nGast: Frauenfeld II\n\nAdresse: Bleichestrasse 3 (neben Hallenbad)\, 8570 Weinfelden\n
LOCATION:Bleichestrasse 3 (neben Hallenbad)\, 8570 Weinfelden
CATEGORIES:Saison 2021/22
END:VEVENT
BEGIN:VEVENT
DTSTAMP:20260419T231428Z
DTSTART;TZID=Europe/Berlin:20220111T201500
DTEND;TZID=Europe/Berlin:20220111T231500
SUMMARY:HE 5.Liga Gr.3 Weinfelden II vs Schaffhausen (0)
UID:dc26b9c8-e9dd-49b7-9978-30d1de5e26c9
STATUS:CONFIRMED
LAST-MODIFIED:20220118T111612Z
DESCRIPTION:5. Liga Herren Gruppe 3\nBegegnungs-Nr: 0\nHeim: Weinfelden II\nGast: Schaffhausen\n\nAdresse: Bleichestrasse 3 (neben Hallenbad)\, 8570 Weinfelden\n
LOCATION:Bleichestrasse 3 (neben Hallenbad)\, 8570 Weinfelden
CATEGORIES:Saison 2021/22
END:VEVENT
BEGIN:VEVENT
DTSTAMP:20260419T231428Z
DTSTART;TZID=Europe/Berlin:20220308T201500
DTEND;TZID=Europe/Berlin:20220308T231500
SUMMARY:HE 5.Liga Gr.3 Weinfelden II vs Embrach III (0)
UID:c344ae4b-9528-4468-8bce-6724a7e64462
STATUS:CONFIRMED
LAST-MODIFIED:20220311T083128Z
DESCRIPTION:5. Liga Herren Gruppe 3\nBegegnungs-Nr: 0\nHeim: Weinfelden II\nGast: Embrach III\n\nAdresse: Bleichestrasse 3 (neben Hallenbad)\, 8570 Weinfelden\n
LOCATION:Bleichestrasse 3 (neben Hallenbad)\, 8570 Weinfelden
CATEGORIES:Saison 2021/22
END:VEVENT
BEGIN:VEVENT
DTSTAMP:20260419T231428Z
DTSTART;TZID=Europe/Berlin:20211104T200000
DTEND;TZID=Europe/Berlin:20211104T230000
SUMMARY:HE 5.Liga Gr.3 Embrach III vs Weinfelden II (0)
UID:5ca9efa5-9b98-4c7f-a7e6-e2d77d197d40
STATUS:CONFIRMED
LAST-MODIFIED:20211108T095318Z
DESCRIPTION:5. Liga Herren Gruppe 3\nBegegnungs-Nr: 0\nHeim: Embrach III\nGast: Weinfelden II\n\nAdresse: Schützenhausstrasse 20\, 8424 Embrach\n
LOCATION:Schützenhausstrasse 20\, 8424 Embrach
CATEGORIES:Saison 2021/22
END:VEVENT
BEGIN:VEVENT
DTSTAMP:20260419T231428Z
DTSTART;TZID=Europe/Berlin:20211007T200000
DTEND;TZID=Europe/Berlin:20211007T230000
SUMMARY:HE 5.Liga Gr.3 Frauenfeld II vs Weinfelden II (0)
UID:a06f5d01-a8f0-4aa4-8d9c-27261b9a1f67
STATUS:CONFIRMED
LAST-MODIFIED:20211018T060637Z
DESCRIPTION:5. Liga Herren Gruppe 3\nBegegnungs-Nr: 0\nHeim: Frauenfeld II\nGast: Weinfelden II\n\nAdresse: Scheuchenstrasse\, 8500 Frauenfeld\n
LOCATION:Scheuchenstrasse\, 8500 Frauenfeld
CATEGORIES:Saison 2021/22
END:VEVENT
BEGIN:VEVENT
DTSTAMP:20260419T231428Z
DTSTART;TZID=Europe/Berlin:20210906T193000
DTEND;TZID=Europe/Berlin:20210906T223000
SUMMARY:HE 5.Liga Gr.3 Schaffhausen vs Weinfelden II (0)
UID:f1b874a4-e4e4-499f-ace7-03b88ee04fae
STATUS:CONFIRMED
LAST-MODIFIED:20210907T143740Z
DESCRIPTION:5. Liga Herren Gruppe 3\nBegegnungs-Nr: 0\nHeim: Schaffhausen\nGast: Weinfelden II\n\nAdresse: Grünaustieg 30\, 8200 Schaffhausen\n
LOCATION:Grünaustieg 30\, 8200 Schaffhausen
CATEGORIES:Saison 2021/22
END:VEVENT
BEGIN:VEVENT
DTSTAMP:20260419T231428Z
DTSTART;TZID=Europe/Berlin:20220318T200000
DTEND;TZID=Europe/Berlin:20220318T230000
SUMMARY:HE 5.Liga Gr.3 Winterthur V vs Weinfelden II (0)
UID:5ea43ac5-de80-4c4c-bec6-65daa1b8b998
STATUS:CONFIRMED
LAST-MODIFIED:20220322T110902Z
DESCRIPTION:5. Liga Herren Gruppe 3\nBegegnungs-Nr: 0\nHeim: Winterthur V\nGast: Weinfelden II\n\nAdresse: Buchackerstrasse 54\, 8400 Winterthur\n
LOCATION:Buchackerstrasse 54\, 8400 Winterthur
CATEGORIES:Saison 2021/22
END:VEVENT
BEGIN:VEVENT
DTSTAMP:20260419T231428Z
DTSTART;TZID=Europe/Berlin:20220124T200000
DTEND;TZID=Europe/Berlin:20220124T230000
SUMMARY:HE 5.Liga Gr.3 Imperial Winterthur II vs Weinfelden II (0)
UID:148f420f-6dc8-46d0-875e-05ed25d4c50c
STATUS:CONFIRMED
LAST-MODIFIED:20220126T155809Z
DESCRIPTION:5. Liga Herren Gruppe 3\nBegegnungs-Nr: 0\nHeim: Imperial Winterthur II\nGast: Weinfelden II\n\nAdresse: Büelhofstrasse 25a\, 8405 Winterthur\n
LOCATION:Büelhofstrasse 25a\, 8405 Winterthur
CATEGORIES:Saison 2021/22
END:VEVENT
BEGIN:VEVENT
DTSTAMP:20260419T231428Z
DTSTART;TZID=Europe/Berlin:20220329T201500
DTEND;TZID=Europe/Berlin:20220329T231500
SUMMARY:HE 5.Liga Gr.3 Steckborn-Homburg III vs Weinfelden II (0)
UID:79460209-5bc3-447c-86d3-2256e4a02e0e
STATUS:CONFIRMED
LAST-MODIFIED:20220330T084559Z
DESCRIPTION:5. Liga Herren Gruppe 3\nBegegnungs-Nr: 0\nHeim: Steckborn-Homburg III\nGast: Weinfelden II\n\nAdresse: Schulstrasse 4\, 8508 Unterhörstetten\n
LOCATION:Schulstrasse 4\, 8508 Unterhörstetten
CATEGORIES:Saison 2021/22
END:VEVENT
BEGIN:VEVENT
DTSTAMP:20260419T231428Z
DTSTART;TZID=Europe/Berlin:20220330T194500
DTEND;TZID=Europe/Berlin:20220330T224500
SUMMARY:HE 5.Liga Gr.3 Kreuzlingen II vs Weinfelden II (0)
UID:f1045163-b002-47c5-9f4f-31b786235bef
STATUS:CONFIRMED
LAST-MODIFIED:20220110T123401Z
DESCRIPTION:5. Liga Herren Gruppe 3\nBegegnungs-Nr: 0\nHeim: Kreuzlingen II\nGast: Weinfelden II\n\nAdresse: Rothausstrasse 14\, 8280 Kreuzlingen\n
LOCATION:Rothausstrasse 14\, 8280 Kreuzlingen
CATEGORIES:Saison 2021/22
END:VEVENT
END:VCALENDAR
