BEGIN:VCALENDAR
PRODID:-//nuDatenautomaten//framework iCal4j //DE
VERSION:2.0
CALSCALE:GREGORIAN
BEGIN:VTIMEZONE
TZID:Europe/Berlin
LAST-MODIFIED:20260306T231828Z
TZURL:https://www.tzurl.org/zoneinfo/Europe/Berlin
X-LIC-LOCATION:Europe/Berlin
X-PROLEPTIC-TZNAME:LMT
BEGIN:STANDARD
TZNAME:CET
TZOFFSETFROM:+005328
TZOFFSETTO:+0100
DTSTART:18930401T000000
END:STANDARD
BEGIN:DAYLIGHT
TZNAME:CEST
TZOFFSETFROM:+0100
TZOFFSETTO:+0200
DTSTART:19160430T230000
RDATE:19400401T020000
RDATE:19430329T020000
RDATE:19460414T020000
RDATE:19470406T030000
RDATE:19480418T020000
RDATE:19490410T020000
RDATE:19800406T020000
END:DAYLIGHT
BEGIN:STANDARD
TZNAME:CET
TZOFFSETFROM:+0200
TZOFFSETTO:+0100
DTSTART:19161001T010000
RDATE:19421102T030000
RDATE:19431004T030000
RDATE:19441002T030000
RDATE:19451118T030000
RDATE:19461007T030000
END:STANDARD
BEGIN:DAYLIGHT
TZNAME:CEST
TZOFFSETFROM:+0100
TZOFFSETTO:+0200
DTSTART:19170416T020000
RRULE:FREQ=YEARLY;UNTIL=19180415T010000Z;BYMONTH=4;BYDAY=3MO
END:DAYLIGHT
BEGIN:STANDARD
TZNAME:CET
TZOFFSETFROM:+0200
TZOFFSETTO:+0100
DTSTART:19170917T030000
RRULE:FREQ=YEARLY;UNTIL=19180916T010000Z;BYMONTH=9;BYDAY=3MO
END:STANDARD
BEGIN:DAYLIGHT
TZNAME:CEST
TZOFFSETFROM:+0100
TZOFFSETTO:+0200
DTSTART:19440403T020000
RRULE:FREQ=YEARLY;UNTIL=19450402T010000Z;BYMONTH=4;BYDAY=1MO
END:DAYLIGHT
BEGIN:DAYLIGHT
TZNAME:CEMT
TZOFFSETFROM:+0200
TZOFFSETTO:+0300
DTSTART:19450524T020000
RDATE:19470511T030000
END:DAYLIGHT
BEGIN:DAYLIGHT
TZNAME:CEST
TZOFFSETFROM:+0300
TZOFFSETTO:+0200
DTSTART:19450924T030000
RDATE:19470629T030000
END:DAYLIGHT
BEGIN:STANDARD
TZNAME:CET
TZOFFSETFROM:+0100
TZOFFSETTO:+0100
DTSTART:19460101T000000
RDATE:19800101T000000
END:STANDARD
BEGIN:STANDARD
TZNAME:CET
TZOFFSETFROM:+0200
TZOFFSETTO:+0100
DTSTART:19471005T030000
RRULE:FREQ=YEARLY;UNTIL=19491002T010000Z;BYMONTH=10;BYDAY=1SU
END:STANDARD
BEGIN:STANDARD
TZNAME:CET
TZOFFSETFROM:+0200
TZOFFSETTO:+0100
DTSTART:19800928T030000
RRULE:FREQ=YEARLY;UNTIL=19950924T010000Z;BYMONTH=9;BYDAY=-1SU
END:STANDARD
BEGIN:DAYLIGHT
TZNAME:CEST
TZOFFSETFROM:+0100
TZOFFSETTO:+0200
DTSTART:19810329T020000
RRULE:FREQ=YEARLY;BYMONTH=3;BYDAY=-1SU
END:DAYLIGHT
BEGIN:STANDARD
TZNAME:CET
TZOFFSETFROM:+0200
TZOFFSETTO:+0100
DTSTART:19961027T030000
RRULE:FREQ=YEARLY;BYMONTH=10;BYDAY=-1SU
END:STANDARD
END:VTIMEZONE
BEGIN:VEVENT
DTSTAMP:20260420T001006Z
DTSTART;TZID=Europe/Berlin:20211028T201500
DTEND;TZID=Europe/Berlin:20211028T231500
SUMMARY:O40 2.Liga Gr.2 Flums vs Wädenswil (0)
UID:1fc4dad0-4ece-42a1-9dbe-77b6302a2f97
STATUS:CONFIRMED
LAST-MODIFIED:20211101T091716Z
DESCRIPTION:2. Liga O40 Gruppe 2\nBegegnungs-Nr: 0\nHeim: Flums\nGast: Wädenswil\n\nAdresse: Bergstrasse\, 8890 Flums\n
LOCATION:Bergstrasse\, 8890 Flums
CATEGORIES:Saison 2021/22
END:VEVENT
BEGIN:VEVENT
DTSTAMP:20260420T001006Z
DTSTART;TZID=Europe/Berlin:20210826T201500
DTEND;TZID=Europe/Berlin:20210826T231500
SUMMARY:O40 2.Liga Gr.2 Flums vs Pinguin Zürich (0)
UID:9910d412-453e-4024-9ef3-1854a309ae8f
STATUS:CONFIRMED
LAST-MODIFIED:20210831T083008Z
DESCRIPTION:2. Liga O40 Gruppe 2\nBegegnungs-Nr: 0\nHeim: Flums\nGast: Pinguin Zürich\n\nAdresse: Bergstrasse\, 8890 Flums\n
LOCATION:Bergstrasse\, 8890 Flums
CATEGORIES:Saison 2021/22
END:VEVENT
BEGIN:VEVENT
DTSTAMP:20260420T001006Z
DTSTART;TZID=Europe/Berlin:20220428T201500
DTEND;TZID=Europe/Berlin:20220428T231500
SUMMARY:O40 2.Liga Gr.2 Flums vs Zürich-Affoltern II (0)
UID:5a233e9c-e702-4d6a-816e-5b816680b627
STATUS:CONFIRMED
LAST-MODIFIED:20220502T105325Z
DESCRIPTION:2. Liga O40 Gruppe 2\nBegegnungs-Nr: 0\nHeim: Flums\nGast: Zürich-Affoltern II\n\nAdresse: Bergstrasse\, 8890 Flums\n
LOCATION:Bergstrasse\, 8890 Flums
CATEGORIES:Saison 2021/22
END:VEVENT
BEGIN:VEVENT
DTSTAMP:20260420T001006Z
DTSTART;TZID=Europe/Berlin:20220407T201500
DTEND;TZID=Europe/Berlin:20220407T231500
SUMMARY:O40 2.Liga Gr.2 Flums vs Affoltern A/A (0)
UID:ee90a06a-9bfe-4a3b-aaf7-ffd7a0bc6cfe
STATUS:CONFIRMED
LAST-MODIFIED:20220411T052508Z
DESCRIPTION:2. Liga O40 Gruppe 2\nBegegnungs-Nr: 0\nHeim: Flums\nGast: Affoltern A/A\n\nAdresse: Bergstrasse\, 8890 Flums\n
LOCATION:Bergstrasse\, 8890 Flums
CATEGORIES:Saison 2021/22
END:VEVENT
BEGIN:VEVENT
DTSTAMP:20260420T001006Z
DTSTART;TZID=Europe/Berlin:20220217T201500
DTEND;TZID=Europe/Berlin:20220217T231500
SUMMARY:O40 2.Liga Gr.2 Flums vs Rapperswil-Jona (0)
UID:664d7b2a-334a-4d52-acb8-7dbc4610b8fb
STATUS:CONFIRMED
LAST-MODIFIED:20220224T091745Z
DESCRIPTION:2. Liga O40 Gruppe 2\nBegegnungs-Nr: 0\nHeim: Flums\nGast: Rapperswil-Jona\n\nAdresse: Bergstrasse\, 8890 Flums\n
LOCATION:Bergstrasse\, 8890 Flums
CATEGORIES:Saison 2021/22
END:VEVENT
BEGIN:VEVENT
DTSTAMP:20260420T001006Z
DTSTART;TZID=Europe/Berlin:20220120T201500
DTEND;TZID=Europe/Berlin:20220120T231500
SUMMARY:O40 2.Liga Gr.2 Flums vs Bassersdorf (0)
UID:10add5a0-da18-4b0e-a9b1-19c5cf57946b
STATUS:CONFIRMED
LAST-MODIFIED:20220121T125025Z
DESCRIPTION:2. Liga O40 Gruppe 2\nBegegnungs-Nr: 0\nHeim: Flums\nGast: Bassersdorf\n\nAdresse: Bergstrasse\, 8890 Flums\n
LOCATION:Bergstrasse\, 8890 Flums
CATEGORIES:Saison 2021/22
END:VEVENT
BEGIN:VEVENT
DTSTAMP:20260420T001006Z
DTSTART;TZID=Europe/Berlin:20211215T193000
DTEND;TZID=Europe/Berlin:20211215T223000
SUMMARY:O40 2.Liga Gr.2 Zürich-Affoltern II vs Flums (0)
UID:eb3ab647-c6bd-4b05-9241-693dbf85b021
STATUS:CONFIRMED
LAST-MODIFIED:20211222T152441Z
DESCRIPTION:2. Liga O40 Gruppe 2\nBegegnungs-Nr: 0\nHeim: Zürich-Affoltern II\nGast: Flums\n\nAdresse: Fronwaldstr.115\, 8046 Zürich\n
LOCATION:Fronwaldstr.115\, 8046 Zürich
CATEGORIES:Saison 2021/22
END:VEVENT
BEGIN:VEVENT
DTSTAMP:20260420T001006Z
DTSTART;TZID=Europe/Berlin:20211210T194500
DTEND;TZID=Europe/Berlin:20211210T224500
SUMMARY:O40 2.Liga Gr.2 Affoltern A/A vs Flums (0)
UID:b3be5001-4c85-4ac9-973e-7c87927e717c
STATUS:CONFIRMED
LAST-MODIFIED:20211214T133703Z
DESCRIPTION:2. Liga O40 Gruppe 2\nBegegnungs-Nr: 0\nHeim: Affoltern A/A\nGast: Flums\n\nAdresse: Butzenstr. 2\, 8910 Affoltern am Albis\n
LOCATION:Butzenstr. 2\, 8910 Affoltern am Albis
CATEGORIES:Saison 2021/22
END:VEVENT
BEGIN:VEVENT
DTSTAMP:20260420T001006Z
DTSTART;TZID=Europe/Berlin:20210903T194500
DTEND;TZID=Europe/Berlin:20210903T224500
SUMMARY:O40 2.Liga Gr.2 Rapperswil-Jona vs Flums (0)
UID:5bd77a19-8f2f-4f55-967b-376b116ec0d9
STATUS:CONFIRMED
LAST-MODIFIED:20210909T121839Z
DESCRIPTION:2. Liga O40 Gruppe 2\nBegegnungs-Nr: 0\nHeim: Rapperswil-Jona\nGast: Flums\n\nAdresse: Kreuzstrasse 43\, 8640 Rapperswil\n
LOCATION:Kreuzstrasse 43\, 8640 Rapperswil
CATEGORIES:Saison 2021/22
END:VEVENT
BEGIN:VEVENT
DTSTAMP:20260420T001006Z
DTSTART;TZID=Europe/Berlin:20210819T200000
DTEND;TZID=Europe/Berlin:20210819T230000
SUMMARY:O40 2.Liga Gr.2 Bassersdorf vs Flums (0)
UID:f273d950-4eaf-46b9-9e4a-bb4044b73838
STATUS:CONFIRMED
LAST-MODIFIED:20210824T071853Z
DESCRIPTION:2. Liga O40 Gruppe 2\nBegegnungs-Nr: 0\nHeim: Bassersdorf\nGast: Flums\n\nAdresse: Grindelstrasse 20\, 8303 Bassersdorf\n
LOCATION:Grindelstrasse 20\, 8303 Bassersdorf
CATEGORIES:Saison 2021/22
END:VEVENT
BEGIN:VEVENT
DTSTAMP:20260420T001006Z
DTSTART;TZID=Europe/Berlin:20220210T201500
DTEND;TZID=Europe/Berlin:20220210T231500
SUMMARY:O40 2.Liga Gr.2 Wädenswil vs Flums (0)
UID:a20ae5f6-e634-479b-a9f8-48ff81e52f16
STATUS:CONFIRMED
LAST-MODIFIED:20220214T164804Z
DESCRIPTION:2. Liga O40 Gruppe 2\nBegegnungs-Nr: 0\nHeim: Wädenswil\nGast: Flums\n\nAdresse: Speerstrasse 95\, 8820 Wädenswil\n
LOCATION:Speerstrasse 95\, 8820 Wädenswil
CATEGORIES:Saison 2021/22
END:VEVENT
BEGIN:VEVENT
DTSTAMP:20260420T001006Z
DTSTART;TZID=Europe/Berlin:20220304T193000
DTEND;TZID=Europe/Berlin:20220304T223000
SUMMARY:O40 2.Liga Gr.2 Pinguin Zürich vs Flums (0)
UID:76707fec-a09a-40da-bfc3-9a60edb02e5c
STATUS:CONFIRMED
LAST-MODIFIED:20220311T144930Z
DESCRIPTION:2. Liga O40 Gruppe 2\nBegegnungs-Nr: 0\nHeim: Pinguin Zürich\nGast: Flums\n\nAdresse: Basteiplatz\, 8001 Zürich\n
LOCATION:Basteiplatz\, 8001 Zürich
CATEGORIES:Saison 2021/22
END:VEVENT
END:VCALENDAR
