BEGIN:VCALENDAR
PRODID:-//nuDatenautomaten//framework iCal4j //DE
VERSION:2.0
CALSCALE:GREGORIAN
BEGIN:VTIMEZONE
TZID:Europe/Berlin
LAST-MODIFIED:20260306T231828Z
TZURL:https://www.tzurl.org/zoneinfo/Europe/Berlin
X-LIC-LOCATION:Europe/Berlin
X-PROLEPTIC-TZNAME:LMT
BEGIN:STANDARD
TZNAME:CET
TZOFFSETFROM:+005328
TZOFFSETTO:+0100
DTSTART:18930401T000000
END:STANDARD
BEGIN:DAYLIGHT
TZNAME:CEST
TZOFFSETFROM:+0100
TZOFFSETTO:+0200
DTSTART:19160430T230000
RDATE:19400401T020000
RDATE:19430329T020000
RDATE:19460414T020000
RDATE:19470406T030000
RDATE:19480418T020000
RDATE:19490410T020000
RDATE:19800406T020000
END:DAYLIGHT
BEGIN:STANDARD
TZNAME:CET
TZOFFSETFROM:+0200
TZOFFSETTO:+0100
DTSTART:19161001T010000
RDATE:19421102T030000
RDATE:19431004T030000
RDATE:19441002T030000
RDATE:19451118T030000
RDATE:19461007T030000
END:STANDARD
BEGIN:DAYLIGHT
TZNAME:CEST
TZOFFSETFROM:+0100
TZOFFSETTO:+0200
DTSTART:19170416T020000
RRULE:FREQ=YEARLY;UNTIL=19180415T010000Z;BYMONTH=4;BYDAY=3MO
END:DAYLIGHT
BEGIN:STANDARD
TZNAME:CET
TZOFFSETFROM:+0200
TZOFFSETTO:+0100
DTSTART:19170917T030000
RRULE:FREQ=YEARLY;UNTIL=19180916T010000Z;BYMONTH=9;BYDAY=3MO
END:STANDARD
BEGIN:DAYLIGHT
TZNAME:CEST
TZOFFSETFROM:+0100
TZOFFSETTO:+0200
DTSTART:19440403T020000
RRULE:FREQ=YEARLY;UNTIL=19450402T010000Z;BYMONTH=4;BYDAY=1MO
END:DAYLIGHT
BEGIN:DAYLIGHT
TZNAME:CEMT
TZOFFSETFROM:+0200
TZOFFSETTO:+0300
DTSTART:19450524T020000
RDATE:19470511T030000
END:DAYLIGHT
BEGIN:DAYLIGHT
TZNAME:CEST
TZOFFSETFROM:+0300
TZOFFSETTO:+0200
DTSTART:19450924T030000
RDATE:19470629T030000
END:DAYLIGHT
BEGIN:STANDARD
TZNAME:CET
TZOFFSETFROM:+0100
TZOFFSETTO:+0100
DTSTART:19460101T000000
RDATE:19800101T000000
END:STANDARD
BEGIN:STANDARD
TZNAME:CET
TZOFFSETFROM:+0200
TZOFFSETTO:+0100
DTSTART:19471005T030000
RRULE:FREQ=YEARLY;UNTIL=19491002T010000Z;BYMONTH=10;BYDAY=1SU
END:STANDARD
BEGIN:STANDARD
TZNAME:CET
TZOFFSETFROM:+0200
TZOFFSETTO:+0100
DTSTART:19800928T030000
RRULE:FREQ=YEARLY;UNTIL=19950924T010000Z;BYMONTH=9;BYDAY=-1SU
END:STANDARD
BEGIN:DAYLIGHT
TZNAME:CEST
TZOFFSETFROM:+0100
TZOFFSETTO:+0200
DTSTART:19810329T020000
RRULE:FREQ=YEARLY;BYMONTH=3;BYDAY=-1SU
END:DAYLIGHT
BEGIN:STANDARD
TZNAME:CET
TZOFFSETFROM:+0200
TZOFFSETTO:+0100
DTSTART:19961027T030000
RRULE:FREQ=YEARLY;BYMONTH=10;BYDAY=-1SU
END:STANDARD
END:VTIMEZONE
BEGIN:VEVENT
DTSTAMP:20260421T202637Z
DTSTART;TZID=Europe/Berlin:20211207T200000
DTEND;TZID=Europe/Berlin:20211207T230000
SUMMARY:HE 3. Liga Gr. 2 Kirchberg II vs Wynigen (35)
UID:0790b8cb-f2b4-4da7-a9f8-9ee6c9212643
STATUS:CONFIRMED
LAST-MODIFIED:20211212T205514Z
DESCRIPTION:3. Liga Herren Gruppe 2\nBegegnungs-Nr: 35\nHeim: Kirchberg II\nGast: Wynigen\n\nAdresse: Reinhardweg\, 3422 Kirchberg\n
LOCATION:Reinhardweg\, 3422 Kirchberg
CATEGORIES:Saison 2021/22
END:VEVENT
BEGIN:VEVENT
DTSTAMP:20260421T202637Z
DTSTART;TZID=Europe/Berlin:20220125T200000
DTEND;TZID=Europe/Berlin:20220125T230000
SUMMARY:HE 3. Liga Gr. 2 Kirchberg II vs Thun III (1)
UID:34d3f7f9-a421-4369-9791-fce70ffceb4b
STATUS:CONFIRMED
LAST-MODIFIED:20220119T162213Z
DESCRIPTION:3. Liga Herren Gruppe 2\nBegegnungs-Nr: 1\nHeim: Kirchberg II\nGast: Thun III\n\nAdresse: Reinhardweg\, 3422 Kirchberg\n
LOCATION:Reinhardweg\, 3422 Kirchberg
CATEGORIES:Saison 2021/22
END:VEVENT
BEGIN:VEVENT
DTSTAMP:20260421T202637Z
DTSTART;TZID=Europe/Berlin:20211026T200000
DTEND;TZID=Europe/Berlin:20211026T230000
SUMMARY:HE 3. Liga Gr. 2 Kirchberg II vs SC Informatik Swisscom Wabern (20)
UID:18728223-dac9-497f-a2c9-7e0865be2d88
STATUS:CONFIRMED
LAST-MODIFIED:20211027T110752Z
DESCRIPTION:3. Liga Herren Gruppe 2\nBegegnungs-Nr: 20\nHeim: Kirchberg II\nGast: SC Informatik Swisscom Wabern\n\nAdresse: Reinhardweg\, 3422 Kirchberg\n
LOCATION:Reinhardweg\, 3422 Kirchberg
CATEGORIES:Saison 2021/22
END:VEVENT
BEGIN:VEVENT
DTSTAMP:20260421T202637Z
DTSTART;TZID=Europe/Berlin:20211022T200000
DTEND;TZID=Europe/Berlin:20211022T230000
SUMMARY:HE 3. Liga Gr. 2 Kirchberg II vs Regio Moossee (16)
UID:d2eb10be-a36d-4076-84e8-b5f596a58246
STATUS:CONFIRMED
LAST-MODIFIED:20211025T061723Z
DESCRIPTION:3. Liga Herren Gruppe 2\nBegegnungs-Nr: 16\nHeim: Kirchberg II\nGast: Regio Moossee\n\nAdresse: Reinhardweg\, 3422 Kirchberg\n
LOCATION:Reinhardweg\, 3422 Kirchberg
CATEGORIES:Saison 2021/22
END:VEVENT
BEGIN:VEVENT
DTSTAMP:20260421T202637Z
DTSTART;TZID=Europe/Berlin:20220329T200000
DTEND;TZID=Europe/Berlin:20220329T230000
SUMMARY:HE 3. Liga Gr. 2 Kirchberg II vs Burgdorf V (32)
UID:14b9d181-18af-4cf5-aba9-6c54b7e1e0e8
STATUS:CONFIRMED
DESCRIPTION:3. Liga Herren Gruppe 2\nBegegnungs-Nr: 32\nHeim: Kirchberg II\nGast: Burgdorf V\n\nAdresse: Reinhardweg\, 3422 Kirchberg\n
LOCATION:Reinhardweg\, 3422 Kirchberg
CATEGORIES:Saison 2021/22
END:VEVENT
BEGIN:VEVENT
DTSTAMP:20260421T202637Z
DTSTART;TZID=Europe/Berlin:20220315T200000
DTEND;TZID=Europe/Berlin:20220315T230000
SUMMARY:HE 3. Liga Gr. 2 Kirchberg II vs Aarberg IV (25)
UID:92ef575b-5262-4777-86da-ccc93bd28e23
STATUS:CONFIRMED
LAST-MODIFIED:20220320T140805Z
DESCRIPTION:3. Liga Herren Gruppe 2\nBegegnungs-Nr: 25\nHeim: Kirchberg II\nGast: Aarberg IV\n\nAdresse: Reinhardweg\, 3422 Kirchberg\n
LOCATION:Reinhardweg\, 3422 Kirchberg
CATEGORIES:Saison 2021/22
END:VEVENT
BEGIN:VEVENT
DTSTAMP:20260421T202637Z
DTSTART;TZID=Europe/Berlin:20220201T200000
DTEND;TZID=Europe/Berlin:20220201T230000
SUMMARY:HE 3. Liga Gr. 2 Kirchberg II vs Bern II (11)
UID:be5878d1-e44b-426b-8a7a-7d275f0aebb8
STATUS:CONFIRMED
DESCRIPTION:3. Liga Herren Gruppe 2\nBegegnungs-Nr: 11\nHeim: Kirchberg II\nGast: Bern II\n\nAdresse: Reinhardweg\, 3422 Kirchberg\n
LOCATION:Reinhardweg\, 3422 Kirchberg
CATEGORIES:Saison 2021/22
END:VEVENT
BEGIN:VEVENT
DTSTAMP:20260421T202637Z
DTSTART;TZID=Europe/Berlin:20210907T200000
DTEND;TZID=Europe/Berlin:20210907T230000
SUMMARY:HE 3. Liga Gr. 2 Kirchberg II vs Langnau (6)
UID:7ea148ba-ad5d-4a04-8339-eba0c1458e05
STATUS:CONFIRMED
LAST-MODIFIED:20210913T221119Z
DESCRIPTION:3. Liga Herren Gruppe 2\nBegegnungs-Nr: 6\nHeim: Kirchberg II\nGast: Langnau\n\nAdresse: Reinhardweg\, 3422 Kirchberg\n
LOCATION:Reinhardweg\, 3422 Kirchberg
CATEGORIES:Saison 2021/22
END:VEVENT
BEGIN:VEVENT
DTSTAMP:20260421T202637Z
DTSTART;TZID=Europe/Berlin:20210915T193000
DTEND;TZID=Europe/Berlin:20210915T223000
SUMMARY:HE 3. Liga Gr. 2 Bern II vs Kirchberg II (11)
UID:65d31999-594f-4723-8990-59a80a189fff
STATUS:CONFIRMED
LAST-MODIFIED:20210920T120514Z
DESCRIPTION:3. Liga Herren Gruppe 2\nBegegnungs-Nr: 11\nHeim: Bern II\nGast: Kirchberg II\n\nAdresse: Papiermühlestrasse 81\, 3014 Bern\n
LOCATION:Papiermühlestrasse 81\, 3014 Bern
CATEGORIES:Saison 2021/22
END:VEVENT
BEGIN:VEVENT
DTSTAMP:20260421T202637Z
DTSTART;TZID=Europe/Berlin:20220407T200000
DTEND;TZID=Europe/Berlin:20220407T230000
SUMMARY:HE 3. Liga Gr. 2 Wynigen vs Kirchberg II (35)
UID:34ec5753-f877-45ce-9f99-8b16344c7eb0
STATUS:CONFIRMED
DESCRIPTION:3. Liga Herren Gruppe 2\nBegegnungs-Nr: 35\nHeim: Wynigen\nGast: Kirchberg II\n\nAdresse: -\, 3472 Wynigen\n
LOCATION:-\, 3472 Wynigen
CATEGORIES:Saison 2021/22
END:VEVENT
BEGIN:VEVENT
DTSTAMP:20260421T202637Z
DTSTART;TZID=Europe/Berlin:20220221T193000
DTEND;TZID=Europe/Berlin:20220221T223000
SUMMARY:HE 3. Liga Gr. 2 SC Informatik Swisscom Wabern vs Kirchberg II (20)
UID:cd72240a-70db-4e76-99ed-ae2965fcdea0
STATUS:CONFIRMED
DESCRIPTION:3. Liga Herren Gruppe 2\nBegegnungs-Nr: 20\nHeim: SC Informatik Swisscom Wabern\nGast: Kirchberg II\n\nAdresse: Eichholzstrasse 29\, 3094 Wabern\n
LOCATION:Eichholzstrasse 29\, 3094 Wabern
CATEGORIES:Saison 2021/22
END:VEVENT
BEGIN:VEVENT
DTSTAMP:20260421T202637Z
DTSTART;TZID=Europe/Berlin:20220129T140000
DTEND;TZID=Europe/Berlin:20220129T170000
SUMMARY:HE 3. Liga Gr. 2 Langnau vs Kirchberg II (6)
UID:a55abadf-16e6-4dc7-a650-5fd018ab8aff
STATUS:CONFIRMED
DESCRIPTION:3. Liga Herren Gruppe 2\nBegegnungs-Nr: 6\nHeim: Langnau\nGast: Kirchberg II\n\nAdresse: Bleicheweg 11\, 3550 Langnau\n
LOCATION:Bleicheweg 11\, 3550 Langnau
CATEGORIES:Saison 2021/22
END:VEVENT
BEGIN:VEVENT
DTSTAMP:20260421T202637Z
DTSTART;TZID=Europe/Berlin:20220208T194500
DTEND;TZID=Europe/Berlin:20220208T224500
SUMMARY:HE 3. Liga Gr. 2 Regio Moossee vs Kirchberg II (16)
UID:afcf1b5b-3577-472c-b01d-a8a7336cd94b
STATUS:CONFIRMED
DESCRIPTION:3. Liga Herren Gruppe 2\nBegegnungs-Nr: 16\nHeim: Regio Moossee\nGast: Kirchberg II\n\nAdresse: Schulhausstrasse 23-25\, 3302 Moosseedorf\n
LOCATION:Schulhausstrasse 23-25\, 3302 Moosseedorf
CATEGORIES:Saison 2021/22
END:VEVENT
BEGIN:VEVENT
DTSTAMP:20260421T202637Z
DTSTART;TZID=Europe/Berlin:20210910T194500
DTEND;TZID=Europe/Berlin:20210910T224500
SUMMARY:HE 3. Liga Gr. 2 Thun III vs Kirchberg II (1)
UID:6f8e825f-8c84-47b2-8b10-b4845dbf69af
STATUS:CONFIRMED
LAST-MODIFIED:20210913T221138Z
DESCRIPTION:3. Liga Herren Gruppe 2\nBegegnungs-Nr: 1\nHeim: Thun III\nGast: Kirchberg II\n\nAdresse: Hallerstrasse 28\, 3604 Thun\n
LOCATION:Hallerstrasse 28\, 3604 Thun
CATEGORIES:Saison 2021/22
END:VEVENT
BEGIN:VEVENT
DTSTAMP:20260421T202637Z
DTSTART;TZID=Europe/Berlin:20211203T193000
DTEND;TZID=Europe/Berlin:20211203T223000
SUMMARY:HE 3. Liga Gr. 2 Burgdorf V vs Kirchberg II (32)
UID:761d809c-e451-4b32-9c6a-aa652e01019f
STATUS:CONFIRMED
LAST-MODIFIED:20211205T123439Z
DESCRIPTION:3. Liga Herren Gruppe 2\nBegegnungs-Nr: 32\nHeim: Burgdorf V\nGast: Kirchberg II\n\nAdresse: Pestalozzistrasse 69\, 3400 Burgdorf\n
LOCATION:Pestalozzistrasse 69\, 3400 Burgdorf
CATEGORIES:Saison 2021/22
END:VEVENT
BEGIN:VEVENT
DTSTAMP:20260421T202637Z
DTSTART;TZID=Europe/Berlin:20211119T194500
DTEND;TZID=Europe/Berlin:20211119T224500
SUMMARY:HE 3. Liga Gr. 2 Aarberg IV vs Kirchberg II (25)
UID:85918c65-cfc8-493e-b984-504a05501815
STATUS:CONFIRMED
LAST-MODIFIED:20211119T181739Z
DESCRIPTION:3. Liga Herren Gruppe 2\nBegegnungs-Nr: 25\nHeim: Aarberg IV\nGast: Kirchberg II\n\nAdresse: Nidaustrasse 7\, 3270 Aarberg\n
LOCATION:Nidaustrasse 7\, 3270 Aarberg
CATEGORIES:Saison 2021/22
END:VEVENT
END:VCALENDAR
