BEGIN:VCALENDAR
PRODID:-//nuDatenautomaten//framework iCal4j //DE
VERSION:2.0
CALSCALE:GREGORIAN
BEGIN:VTIMEZONE
TZID:Europe/Berlin
LAST-MODIFIED:20260306T231828Z
TZURL:https://www.tzurl.org/zoneinfo/Europe/Berlin
X-LIC-LOCATION:Europe/Berlin
X-PROLEPTIC-TZNAME:LMT
BEGIN:STANDARD
TZNAME:CET
TZOFFSETFROM:+005328
TZOFFSETTO:+0100
DTSTART:18930401T000000
END:STANDARD
BEGIN:DAYLIGHT
TZNAME:CEST
TZOFFSETFROM:+0100
TZOFFSETTO:+0200
DTSTART:19160430T230000
RDATE:19400401T020000
RDATE:19430329T020000
RDATE:19460414T020000
RDATE:19470406T030000
RDATE:19480418T020000
RDATE:19490410T020000
RDATE:19800406T020000
END:DAYLIGHT
BEGIN:STANDARD
TZNAME:CET
TZOFFSETFROM:+0200
TZOFFSETTO:+0100
DTSTART:19161001T010000
RDATE:19421102T030000
RDATE:19431004T030000
RDATE:19441002T030000
RDATE:19451118T030000
RDATE:19461007T030000
END:STANDARD
BEGIN:DAYLIGHT
TZNAME:CEST
TZOFFSETFROM:+0100
TZOFFSETTO:+0200
DTSTART:19170416T020000
RRULE:FREQ=YEARLY;UNTIL=19180415T010000Z;BYMONTH=4;BYDAY=3MO
END:DAYLIGHT
BEGIN:STANDARD
TZNAME:CET
TZOFFSETFROM:+0200
TZOFFSETTO:+0100
DTSTART:19170917T030000
RRULE:FREQ=YEARLY;UNTIL=19180916T010000Z;BYMONTH=9;BYDAY=3MO
END:STANDARD
BEGIN:DAYLIGHT
TZNAME:CEST
TZOFFSETFROM:+0100
TZOFFSETTO:+0200
DTSTART:19440403T020000
RRULE:FREQ=YEARLY;UNTIL=19450402T010000Z;BYMONTH=4;BYDAY=1MO
END:DAYLIGHT
BEGIN:DAYLIGHT
TZNAME:CEMT
TZOFFSETFROM:+0200
TZOFFSETTO:+0300
DTSTART:19450524T020000
RDATE:19470511T030000
END:DAYLIGHT
BEGIN:DAYLIGHT
TZNAME:CEST
TZOFFSETFROM:+0300
TZOFFSETTO:+0200
DTSTART:19450924T030000
RDATE:19470629T030000
END:DAYLIGHT
BEGIN:STANDARD
TZNAME:CET
TZOFFSETFROM:+0100
TZOFFSETTO:+0100
DTSTART:19460101T000000
RDATE:19800101T000000
END:STANDARD
BEGIN:STANDARD
TZNAME:CET
TZOFFSETFROM:+0200
TZOFFSETTO:+0100
DTSTART:19471005T030000
RRULE:FREQ=YEARLY;UNTIL=19491002T010000Z;BYMONTH=10;BYDAY=1SU
END:STANDARD
BEGIN:STANDARD
TZNAME:CET
TZOFFSETFROM:+0200
TZOFFSETTO:+0100
DTSTART:19800928T030000
RRULE:FREQ=YEARLY;UNTIL=19950924T010000Z;BYMONTH=9;BYDAY=-1SU
END:STANDARD
BEGIN:DAYLIGHT
TZNAME:CEST
TZOFFSETFROM:+0100
TZOFFSETTO:+0200
DTSTART:19810329T020000
RRULE:FREQ=YEARLY;BYMONTH=3;BYDAY=-1SU
END:DAYLIGHT
BEGIN:STANDARD
TZNAME:CET
TZOFFSETFROM:+0200
TZOFFSETTO:+0100
DTSTART:19961027T030000
RRULE:FREQ=YEARLY;BYMONTH=10;BYDAY=-1SU
END:STANDARD
END:VTIMEZONE
BEGIN:VEVENT
DTSTAMP:20260419T231509Z
DTSTART;TZID=Europe/Berlin:20211103T200000
DTEND;TZID=Europe/Berlin:20211103T230000
SUMMARY:HE 5.Liga Gr.4 Urdorf III vs Dietikon-Weiningen II (0)
UID:2213846a-12cd-4a3a-ac86-cf0920bf259d
STATUS:CONFIRMED
LAST-MODIFIED:20211108T095406Z
DESCRIPTION:5. Liga Herren Gruppe 4\nBegegnungs-Nr: 0\nHeim: Urdorf III\nGast: Dietikon-Weiningen II\n\nAdresse: Weihermattstrasse 50\, 8902 Urdorf\n
LOCATION:Weihermattstrasse 50\, 8902 Urdorf
CATEGORIES:Saison 2021/22
END:VEVENT
BEGIN:VEVENT
DTSTAMP:20260419T231509Z
DTSTART;TZID=Europe/Berlin:20210922T200000
DTEND;TZID=Europe/Berlin:20210922T230000
SUMMARY:HE 5.Liga Gr.4 Urdorf III vs Buchs Zürich II (0)
UID:26d59ce8-85cc-49eb-b155-ca340c7f8d3b
STATUS:CONFIRMED
LAST-MODIFIED:20210927T082519Z
DESCRIPTION:5. Liga Herren Gruppe 4\nBegegnungs-Nr: 0\nHeim: Urdorf III\nGast: Buchs Zürich II\n\nAdresse: Weihermattstrasse 50\, 8902 Urdorf\n
LOCATION:Weihermattstrasse 50\, 8902 Urdorf
CATEGORIES:Saison 2021/22
END:VEVENT
BEGIN:VEVENT
DTSTAMP:20260419T231509Z
DTSTART;TZID=Europe/Berlin:20210901T200000
DTEND;TZID=Europe/Berlin:20210901T230000
SUMMARY:HE 5.Liga Gr.4 Urdorf III vs Bülach III (0)
UID:28b5e365-9d51-4b4b-b533-597225837db6
STATUS:CONFIRMED
LAST-MODIFIED:20210907T143904Z
DESCRIPTION:5. Liga Herren Gruppe 4\nBegegnungs-Nr: 0\nHeim: Urdorf III\nGast: Bülach III\n\nAdresse: Weihermattstrasse 50\, 8902 Urdorf\n
LOCATION:Weihermattstrasse 50\, 8902 Urdorf
CATEGORIES:Saison 2021/22
END:VEVENT
BEGIN:VEVENT
DTSTAMP:20260419T231509Z
DTSTART;TZID=Europe/Berlin:20220323T200000
DTEND;TZID=Europe/Berlin:20220323T230000
SUMMARY:HE 5.Liga Gr.4 Urdorf III vs Niederhasli V (0)
UID:88d436f2-5240-43c3-ae87-31fe35c8f6f6
STATUS:CONFIRMED
LAST-MODIFIED:20220325T142428Z
DESCRIPTION:5. Liga Herren Gruppe 4\nBegegnungs-Nr: 0\nHeim: Urdorf III\nGast: Niederhasli V\n\nAdresse: Weihermattstrasse 50\, 8902 Urdorf\n
LOCATION:Weihermattstrasse 50\, 8902 Urdorf
CATEGORIES:Saison 2021/22
END:VEVENT
BEGIN:VEVENT
DTSTAMP:20260419T231509Z
DTSTART;TZID=Europe/Berlin:20220330T200000
DTEND;TZID=Europe/Berlin:20220330T230000
SUMMARY:HE 5.Liga Gr.4 Urdorf III vs Höngg III (0)
UID:6caaef5a-0fcf-4472-af16-b98b1486a335
STATUS:CONFIRMED
LAST-MODIFIED:20220401T100952Z
DESCRIPTION:5. Liga Herren Gruppe 4\nBegegnungs-Nr: 0\nHeim: Urdorf III\nGast: Höngg III\n\nAdresse: Weihermattstrasse 50\, 8902 Urdorf\n
LOCATION:Weihermattstrasse 50\, 8902 Urdorf
CATEGORIES:Saison 2021/22
END:VEVENT
BEGIN:VEVENT
DTSTAMP:20260419T231509Z
DTSTART;TZID=Europe/Berlin:20220316T200000
DTEND;TZID=Europe/Berlin:20220316T230000
SUMMARY:HE 5.Liga Gr.4 Urdorf III vs Zürich-Affoltern VII (0)
UID:1a6c42f8-0c0e-4fff-aa25-95656fab7f3f
STATUS:CONFIRMED
LAST-MODIFIED:20220322T110938Z
DESCRIPTION:5. Liga Herren Gruppe 4\nBegegnungs-Nr: 0\nHeim: Urdorf III\nGast: Zürich-Affoltern VII\n\nAdresse: Weihermattstrasse 50\, 8902 Urdorf\n
LOCATION:Weihermattstrasse 50\, 8902 Urdorf
CATEGORIES:Saison 2021/22
END:VEVENT
BEGIN:VEVENT
DTSTAMP:20260419T231509Z
DTSTART;TZID=Europe/Berlin:20220302T200000
DTEND;TZID=Europe/Berlin:20220302T230000
SUMMARY:HE 5.Liga Gr.4 Urdorf III vs BW-Wollishofen V (0)
UID:1f0b57d9-82bd-4238-979c-9e1fcf53f3b1
STATUS:CONFIRMED
LAST-MODIFIED:20220311T083237Z
DESCRIPTION:5. Liga Herren Gruppe 4\nBegegnungs-Nr: 0\nHeim: Urdorf III\nGast: BW-Wollishofen V\n\nAdresse: Weihermattstrasse 50\, 8902 Urdorf\n
LOCATION:Weihermattstrasse 50\, 8902 Urdorf
CATEGORIES:Saison 2021/22
END:VEVENT
BEGIN:VEVENT
DTSTAMP:20260419T231509Z
DTSTART;TZID=Europe/Berlin:20210928T193000
DTEND;TZID=Europe/Berlin:20210928T223000
SUMMARY:HE 5.Liga Gr.4 Niederhasli V vs Urdorf III (0)
UID:b10c665b-f599-4174-bbd6-6d839173a84c
STATUS:CONFIRMED
LAST-MODIFIED:20211004T120541Z
DESCRIPTION:5. Liga Herren Gruppe 4\nBegegnungs-Nr: 0\nHeim: Niederhasli V\nGast: Urdorf III\n\nAdresse: Dorfstrasse 22\, 8155 Niederhasli\n
LOCATION:Dorfstrasse 22\, 8155 Niederhasli
CATEGORIES:Saison 2021/22
END:VEVENT
BEGIN:VEVENT
DTSTAMP:20260419T231509Z
DTSTART;TZID=Europe/Berlin:20211129T200000
DTEND;TZID=Europe/Berlin:20211129T230000
SUMMARY:HE 5.Liga Gr.4 Höngg III vs Urdorf III (0)
UID:3cf225af-0c91-4c56-8ae5-c3517fac4323
STATUS:CONFIRMED
LAST-MODIFIED:20211201T140900Z
DESCRIPTION:5. Liga Herren Gruppe 4\nBegegnungs-Nr: 0\nHeim: Höngg III\nGast: Urdorf III\n\nAdresse: Bläsistrasse 2\, 8049 Zürich\n
LOCATION:Bläsistrasse 2\, 8049 Zürich
CATEGORIES:Saison 2021/22
END:VEVENT
BEGIN:VEVENT
DTSTAMP:20260419T231509Z
DTSTART;TZID=Europe/Berlin:20211110T193000
DTEND;TZID=Europe/Berlin:20211110T223000
SUMMARY:HE 5.Liga Gr.4 Zürich-Affoltern VII vs Urdorf III (0)
UID:52097184-d64d-4cb0-ae8a-c0acc96fe94f
STATUS:CONFIRMED
LAST-MODIFIED:20211111T092240Z
DESCRIPTION:5. Liga Herren Gruppe 4\nBegegnungs-Nr: 0\nHeim: Zürich-Affoltern VII\nGast: Urdorf III\n\nAdresse: Fronwaldstr.115\, 8046 Zürich\n
LOCATION:Fronwaldstr.115\, 8046 Zürich
CATEGORIES:Saison 2021/22
END:VEVENT
BEGIN:VEVENT
DTSTAMP:20260419T231509Z
DTSTART;TZID=Europe/Berlin:20211126T200000
DTEND;TZID=Europe/Berlin:20211126T230000
SUMMARY:HE 5.Liga Gr.4 BW-Wollishofen V vs Urdorf III (0)
UID:c63965b9-533e-4a38-9cb0-9762252f2cfd
STATUS:CONFIRMED
LAST-MODIFIED:20211201T140841Z
DESCRIPTION:5. Liga Herren Gruppe 4\nBegegnungs-Nr: 0\nHeim: BW-Wollishofen V\nGast: Urdorf III\n\nAdresse: Kilchbergstr. 28\, 8038 Zürich\n
LOCATION:Kilchbergstr. 28\, 8038 Zürich
CATEGORIES:Saison 2021/22
END:VEVENT
BEGIN:VEVENT
DTSTAMP:20260419T231509Z
DTSTART;TZID=Europe/Berlin:20220308T200000
DTEND;TZID=Europe/Berlin:20220308T230000
SUMMARY:HE 5.Liga Gr.4 Dietikon-Weiningen II vs Urdorf III (0)
UID:5b6f478c-2442-49fb-af85-750861d7ac0b
STATUS:CONFIRMED
LAST-MODIFIED:20220311T083258Z
DESCRIPTION:5. Liga Herren Gruppe 4\nBegegnungs-Nr: 0\nHeim: Dietikon-Weiningen II\nGast: Urdorf III\n\nAdresse: Bohnackerstrasse 5\, 8953 Dietikon\n
LOCATION:Bohnackerstrasse 5\, 8953 Dietikon
CATEGORIES:Saison 2021/22
END:VEVENT
BEGIN:VEVENT
DTSTAMP:20260419T231509Z
DTSTART;TZID=Europe/Berlin:20220128T201500
DTEND;TZID=Europe/Berlin:20220128T231500
SUMMARY:HE 5.Liga Gr.4 Buchs Zürich II vs Urdorf III (0)
UID:4a29759f-585b-42ac-81d9-87b8cc6b9780
STATUS:CONFIRMED
LAST-MODIFIED:20220131T065756Z
DESCRIPTION:5. Liga Herren Gruppe 4\nBegegnungs-Nr: 0\nHeim: Buchs Zürich II\nGast: Urdorf III\n\nAdresse: Drisglerstrasse 3\, 8107 Buchs ZH\n
LOCATION:Drisglerstrasse 3\, 8107 Buchs ZH
CATEGORIES:Saison 2021/22
END:VEVENT
BEGIN:VEVENT
DTSTAMP:20260419T231509Z
DTSTART;TZID=Europe/Berlin:20220325T201500
DTEND;TZID=Europe/Berlin:20220325T231500
SUMMARY:HE 5.Liga Gr.4 Bülach III vs Urdorf III (0)
UID:85b8913e-e80b-4bf8-96a4-79c7a9bccbaa
STATUS:CONFIRMED
LAST-MODIFIED:20220330T084710Z
DESCRIPTION:5. Liga Herren Gruppe 4\nBegegnungs-Nr: 0\nHeim: Bülach III\nGast: Urdorf III\n\nAdresse: Unterweg 51\, 8180 Bülach\n
LOCATION:Unterweg 51\, 8180 Bülach
CATEGORIES:Saison 2021/22
END:VEVENT
END:VCALENDAR
