BEGIN:VCALENDAR
PRODID:-//nuDatenautomaten//framework iCal4j //DE
VERSION:2.0
CALSCALE:GREGORIAN
BEGIN:VTIMEZONE
TZID:Europe/Berlin
LAST-MODIFIED:20260306T231828Z
TZURL:https://www.tzurl.org/zoneinfo/Europe/Berlin
X-LIC-LOCATION:Europe/Berlin
X-PROLEPTIC-TZNAME:LMT
BEGIN:STANDARD
TZNAME:CET
TZOFFSETFROM:+005328
TZOFFSETTO:+0100
DTSTART:18930401T000000
END:STANDARD
BEGIN:DAYLIGHT
TZNAME:CEST
TZOFFSETFROM:+0100
TZOFFSETTO:+0200
DTSTART:19160430T230000
RDATE:19400401T020000
RDATE:19430329T020000
RDATE:19460414T020000
RDATE:19470406T030000
RDATE:19480418T020000
RDATE:19490410T020000
RDATE:19800406T020000
END:DAYLIGHT
BEGIN:STANDARD
TZNAME:CET
TZOFFSETFROM:+0200
TZOFFSETTO:+0100
DTSTART:19161001T010000
RDATE:19421102T030000
RDATE:19431004T030000
RDATE:19441002T030000
RDATE:19451118T030000
RDATE:19461007T030000
END:STANDARD
BEGIN:DAYLIGHT
TZNAME:CEST
TZOFFSETFROM:+0100
TZOFFSETTO:+0200
DTSTART:19170416T020000
RRULE:FREQ=YEARLY;UNTIL=19180415T010000Z;BYMONTH=4;BYDAY=3MO
END:DAYLIGHT
BEGIN:STANDARD
TZNAME:CET
TZOFFSETFROM:+0200
TZOFFSETTO:+0100
DTSTART:19170917T030000
RRULE:FREQ=YEARLY;UNTIL=19180916T010000Z;BYMONTH=9;BYDAY=3MO
END:STANDARD
BEGIN:DAYLIGHT
TZNAME:CEST
TZOFFSETFROM:+0100
TZOFFSETTO:+0200
DTSTART:19440403T020000
RRULE:FREQ=YEARLY;UNTIL=19450402T010000Z;BYMONTH=4;BYDAY=1MO
END:DAYLIGHT
BEGIN:DAYLIGHT
TZNAME:CEMT
TZOFFSETFROM:+0200
TZOFFSETTO:+0300
DTSTART:19450524T020000
RDATE:19470511T030000
END:DAYLIGHT
BEGIN:DAYLIGHT
TZNAME:CEST
TZOFFSETFROM:+0300
TZOFFSETTO:+0200
DTSTART:19450924T030000
RDATE:19470629T030000
END:DAYLIGHT
BEGIN:STANDARD
TZNAME:CET
TZOFFSETFROM:+0100
TZOFFSETTO:+0100
DTSTART:19460101T000000
RDATE:19800101T000000
END:STANDARD
BEGIN:STANDARD
TZNAME:CET
TZOFFSETFROM:+0200
TZOFFSETTO:+0100
DTSTART:19471005T030000
RRULE:FREQ=YEARLY;UNTIL=19491002T010000Z;BYMONTH=10;BYDAY=1SU
END:STANDARD
BEGIN:STANDARD
TZNAME:CET
TZOFFSETFROM:+0200
TZOFFSETTO:+0100
DTSTART:19800928T030000
RRULE:FREQ=YEARLY;UNTIL=19950924T010000Z;BYMONTH=9;BYDAY=-1SU
END:STANDARD
BEGIN:DAYLIGHT
TZNAME:CEST
TZOFFSETFROM:+0100
TZOFFSETTO:+0200
DTSTART:19810329T020000
RRULE:FREQ=YEARLY;BYMONTH=3;BYDAY=-1SU
END:DAYLIGHT
BEGIN:STANDARD
TZNAME:CET
TZOFFSETFROM:+0200
TZOFFSETTO:+0100
DTSTART:19961027T030000
RRULE:FREQ=YEARLY;BYMONTH=10;BYDAY=-1SU
END:STANDARD
END:VTIMEZONE
BEGIN:VEVENT
DTSTAMP:20260419T231426Z
DTSTART;TZID=Europe/Berlin:20211210T201500
DTEND;TZID=Europe/Berlin:20211210T231500
SUMMARY:HE 6.Liga Gr.3 Steckborn-Homburg VI vs Imperial Winterthur III (0)
UID:c3156689-c0ba-4d99-8552-d8a2f50bb23a
STATUS:CONFIRMED
LAST-MODIFIED:20211214T132805Z
DESCRIPTION:6. Liga Herren Gruppe 3\nBegegnungs-Nr: 0\nHeim: Steckborn-Homburg VI\nGast: Imperial Winterthur III\n\nAdresse: Schulstrasse 4\, 8508 Unterhörstetten\n
LOCATION:Schulstrasse 4\, 8508 Unterhörstetten
CATEGORIES:Saison 2021/22
END:VEVENT
BEGIN:VEVENT
DTSTAMP:20260419T231426Z
DTSTART;TZID=Europe/Berlin:20211105T201500
DTEND;TZID=Europe/Berlin:20211105T231500
SUMMARY:HE 6.Liga Gr.3 Steckborn-Homburg VI vs Schaffhausen II (0)
UID:61adaf0c-3d39-4986-9222-a9604bf75212
STATUS:CONFIRMED
LAST-MODIFIED:20211108T100502Z
DESCRIPTION:6. Liga Herren Gruppe 3\nBegegnungs-Nr: 0\nHeim: Steckborn-Homburg VI\nGast: Schaffhausen II\n\nAdresse: Schulstrasse 4\, 8508 Unterhörstetten\n
LOCATION:Schulstrasse 4\, 8508 Unterhörstetten
CATEGORIES:Saison 2021/22
END:VEVENT
BEGIN:VEVENT
DTSTAMP:20260419T231426Z
DTSTART;TZID=Europe/Berlin:20210924T201500
DTEND;TZID=Europe/Berlin:20210924T231500
SUMMARY:HE 6.Liga Gr.3 Steckborn-Homburg VI vs Ettenhausen VI (0)
UID:f4c2c4f2-c65c-48cf-a15d-2bc6c01f04e6
STATUS:CONFIRMED
LAST-MODIFIED:20210927T090222Z
DESCRIPTION:6. Liga Herren Gruppe 3\nBegegnungs-Nr: 0\nHeim: Steckborn-Homburg VI\nGast: Ettenhausen VI\n\nAdresse: Schulstrasse 4\, 8508 Unterhörstetten\n
LOCATION:Schulstrasse 4\, 8508 Unterhörstetten
CATEGORIES:Saison 2021/22
END:VEVENT
BEGIN:VEVENT
DTSTAMP:20260419T231426Z
DTSTART;TZID=Europe/Berlin:20210903T201500
DTEND;TZID=Europe/Berlin:20210903T231500
SUMMARY:HE 6.Liga Gr.3 Steckborn-Homburg VI vs Steckborn-Homburg V (0)
UID:1d207b56-2b73-48bc-875a-481f0677be05
STATUS:CONFIRMED
LAST-MODIFIED:20210908T142622Z
DESCRIPTION:6. Liga Herren Gruppe 3\nBegegnungs-Nr: 0\nHeim: Steckborn-Homburg VI\nGast: Steckborn-Homburg V\n\nAdresse: Schulstrasse 4\, 8508 Unterhörstetten\n
LOCATION:Schulstrasse 4\, 8508 Unterhörstetten
CATEGORIES:Saison 2021/22
END:VEVENT
BEGIN:VEVENT
DTSTAMP:20260419T231426Z
DTSTART;TZID=Europe/Berlin:20220225T201500
DTEND;TZID=Europe/Berlin:20220225T231500
SUMMARY:HE 6.Liga Gr.3 Steckborn-Homburg VI vs Weinfelden III (0)
UID:6c6378ef-5117-4675-b11c-c72f54aa3ff7
STATUS:CONFIRMED
LAST-MODIFIED:20220301T080414Z
DESCRIPTION:6. Liga Herren Gruppe 3\nBegegnungs-Nr: 0\nHeim: Steckborn-Homburg VI\nGast: Weinfelden III\n\nAdresse: Schulstrasse 4\, 8508 Unterhörstetten\n
LOCATION:Schulstrasse 4\, 8508 Unterhörstetten
CATEGORIES:Saison 2021/22
END:VEVENT
BEGIN:VEVENT
DTSTAMP:20260419T231426Z
DTSTART;TZID=Europe/Berlin:20220114T201500
DTEND;TZID=Europe/Berlin:20220114T231500
SUMMARY:HE 6.Liga Gr.3 Steckborn-Homburg VI vs Kreuzlingen III (0)
UID:369c9ce2-9245-4cfc-87b1-d789f544a2e7
STATUS:CONFIRMED
LAST-MODIFIED:20220118T112507Z
DESCRIPTION:6. Liga Herren Gruppe 3\nBegegnungs-Nr: 0\nHeim: Steckborn-Homburg VI\nGast: Kreuzlingen III\n\nAdresse: Schulstrasse 4\, 8508 Unterhörstetten\n
LOCATION:Schulstrasse 4\, 8508 Unterhörstetten
CATEGORIES:Saison 2021/22
END:VEVENT
BEGIN:VEVENT
DTSTAMP:20260419T231426Z
DTSTART;TZID=Europe/Berlin:20220318T201500
DTEND;TZID=Europe/Berlin:20220318T231500
SUMMARY:HE 6.Liga Gr.3 Steckborn-Homburg VI vs Neuhausen VI (0)
UID:bac0b883-4375-4cfe-99c0-7eb2306356ce
STATUS:CONFIRMED
LAST-MODIFIED:20220322T112052Z
DESCRIPTION:6. Liga Herren Gruppe 3\nBegegnungs-Nr: 0\nHeim: Steckborn-Homburg VI\nGast: Neuhausen VI\n\nAdresse: Schulstrasse 4\, 8508 Unterhörstetten\n
LOCATION:Schulstrasse 4\, 8508 Unterhörstetten
CATEGORIES:Saison 2021/22
END:VEVENT
BEGIN:VEVENT
DTSTAMP:20260419T231426Z
DTSTART;TZID=Europe/Berlin:20211111T200000
DTEND;TZID=Europe/Berlin:20211111T230000
SUMMARY:HE 6.Liga Gr.3 Neuhausen VI vs Steckborn-Homburg VI (0)
UID:425bcb42-eb88-48d1-b23a-fb7ea29e1ab3
STATUS:CONFIRMED
LAST-MODIFIED:20211118T123918Z
DESCRIPTION:6. Liga Herren Gruppe 3\nBegegnungs-Nr: 0\nHeim: Neuhausen VI\nGast: Steckborn-Homburg VI\n\nAdresse: Ebnatstrasse 35\, 8200 Schaffhausen\n
LOCATION:Ebnatstrasse 35\, 8200 Schaffhausen
CATEGORIES:Saison 2021/22
END:VEVENT
BEGIN:VEVENT
DTSTAMP:20260419T231426Z
DTSTART;TZID=Europe/Berlin:20210930T200000
DTEND;TZID=Europe/Berlin:20210930T230000
SUMMARY:HE 6.Liga Gr.3 Weinfelden III vs Steckborn-Homburg VI (0)
UID:583476b5-20b9-4d6e-9c70-b4212fa88def
STATUS:CONFIRMED
LAST-MODIFIED:20211004T122727Z
DESCRIPTION:6. Liga Herren Gruppe 3\nBegegnungs-Nr: 0\nHeim: Weinfelden III\nGast: Steckborn-Homburg VI\n\nAdresse: Bleichestrasse 3 (neben Hallenbad)\, 8570 Weinfelden\n
LOCATION:Bleichestrasse 3 (neben Hallenbad)\, 8570 Weinfelden
CATEGORIES:Saison 2021/22
END:VEVENT
BEGIN:VEVENT
DTSTAMP:20260419T231426Z
DTSTART;TZID=Europe/Berlin:20210908T194500
DTEND;TZID=Europe/Berlin:20210908T224500
SUMMARY:HE 6.Liga Gr.3 Kreuzlingen III vs Steckborn-Homburg VI (0)
UID:d2cf5f02-f544-4c8a-8198-9a531e04bf3c
STATUS:CONFIRMED
LAST-MODIFIED:20210919T114943Z
DESCRIPTION:6. Liga Herren Gruppe 3\nBegegnungs-Nr: 0\nHeim: Kreuzlingen III\nGast: Steckborn-Homburg VI\n\nAdresse: Rothausstrasse 14\, 8280 Kreuzlingen\n
LOCATION:Rothausstrasse 14\, 8280 Kreuzlingen
CATEGORIES:Saison 2021/22
END:VEVENT
BEGIN:VEVENT
DTSTAMP:20260419T231426Z
DTSTART;TZID=Europe/Berlin:20220129T113000
DTEND;TZID=Europe/Berlin:20220129T143000
SUMMARY:HE 6.Liga Gr.3 Ettenhausen VI vs Steckborn-Homburg VI (0)
UID:fe7b166b-fc43-4ad9-b815-64298e30ca4b
STATUS:CONFIRMED
LAST-MODIFIED:20220131T073935Z
DESCRIPTION:6. Liga Herren Gruppe 3\nBegegnungs-Nr: 0\nHeim: Ettenhausen VI\nGast: Steckborn-Homburg VI\n\nAdresse: Weidlistrasse 12\, 8356 Ettenhausen\n
LOCATION:Weidlistrasse 12\, 8356 Ettenhausen
CATEGORIES:Saison 2021/22
END:VEVENT
BEGIN:VEVENT
DTSTAMP:20260419T231426Z
DTSTART;TZID=Europe/Berlin:20220301T201500
DTEND;TZID=Europe/Berlin:20220301T231500
SUMMARY:HE 6.Liga Gr.3 Steckborn-Homburg V vs Steckborn-Homburg VI (0)
UID:ddfb1ef1-5d23-4fdf-8d9d-1ad41a2e6f14
STATUS:CONFIRMED
LAST-MODIFIED:20220302T105108Z
DESCRIPTION:6. Liga Herren Gruppe 3\nBegegnungs-Nr: 0\nHeim: Steckborn-Homburg V\nGast: Steckborn-Homburg VI\n\nAdresse: Feldbach\, 8266 Steckborn\n
LOCATION:Feldbach\, 8266 Steckborn
CATEGORIES:Saison 2021/22
END:VEVENT
BEGIN:VEVENT
DTSTAMP:20260419T231426Z
DTSTART;TZID=Europe/Berlin:20220331T200000
DTEND;TZID=Europe/Berlin:20220331T230000
SUMMARY:HE 6.Liga Gr.3 Imperial Winterthur III vs Steckborn-Homburg VI (0)
UID:28da6812-7b33-4ce1-b313-a9fa0fc7c5e2
STATUS:CONFIRMED
LAST-MODIFIED:20220404T102312Z
DESCRIPTION:6. Liga Herren Gruppe 3\nBegegnungs-Nr: 0\nHeim: Imperial Winterthur III\nGast: Steckborn-Homburg VI\n\nAdresse: Büelhofstrasse 25a\, 8405 Winterthur\n
LOCATION:Büelhofstrasse 25a\, 8405 Winterthur
CATEGORIES:Saison 2021/22
END:VEVENT
BEGIN:VEVENT
DTSTAMP:20260419T231426Z
DTSTART;TZID=Europe/Berlin:20220307T193000
DTEND;TZID=Europe/Berlin:20220307T223000
SUMMARY:HE 6.Liga Gr.3 Schaffhausen II vs Steckborn-Homburg VI (0)
UID:32aa2cb2-fd91-4379-839e-1003d3d65e70
STATUS:CONFIRMED
LAST-MODIFIED:20220311T143230Z
DESCRIPTION:6. Liga Herren Gruppe 3\nBegegnungs-Nr: 0\nHeim: Schaffhausen II\nGast: Steckborn-Homburg VI\n\nAdresse: Grünaustieg 30\, 8200 Schaffhausen\n
LOCATION:Grünaustieg 30\, 8200 Schaffhausen
CATEGORIES:Saison 2021/22
END:VEVENT
END:VCALENDAR
