BEGIN:VCALENDAR
PRODID:-//nuDatenautomaten//framework iCal4j //DE
VERSION:2.0
CALSCALE:GREGORIAN
BEGIN:VTIMEZONE
TZID:Europe/Berlin
LAST-MODIFIED:20260306T231828Z
TZURL:https://www.tzurl.org/zoneinfo/Europe/Berlin
X-LIC-LOCATION:Europe/Berlin
X-PROLEPTIC-TZNAME:LMT
BEGIN:STANDARD
TZNAME:CET
TZOFFSETFROM:+005328
TZOFFSETTO:+0100
DTSTART:18930401T000000
END:STANDARD
BEGIN:DAYLIGHT
TZNAME:CEST
TZOFFSETFROM:+0100
TZOFFSETTO:+0200
DTSTART:19160430T230000
RDATE:19400401T020000
RDATE:19430329T020000
RDATE:19460414T020000
RDATE:19470406T030000
RDATE:19480418T020000
RDATE:19490410T020000
RDATE:19800406T020000
END:DAYLIGHT
BEGIN:STANDARD
TZNAME:CET
TZOFFSETFROM:+0200
TZOFFSETTO:+0100
DTSTART:19161001T010000
RDATE:19421102T030000
RDATE:19431004T030000
RDATE:19441002T030000
RDATE:19451118T030000
RDATE:19461007T030000
END:STANDARD
BEGIN:DAYLIGHT
TZNAME:CEST
TZOFFSETFROM:+0100
TZOFFSETTO:+0200
DTSTART:19170416T020000
RRULE:FREQ=YEARLY;UNTIL=19180415T010000Z;BYMONTH=4;BYDAY=3MO
END:DAYLIGHT
BEGIN:STANDARD
TZNAME:CET
TZOFFSETFROM:+0200
TZOFFSETTO:+0100
DTSTART:19170917T030000
RRULE:FREQ=YEARLY;UNTIL=19180916T010000Z;BYMONTH=9;BYDAY=3MO
END:STANDARD
BEGIN:DAYLIGHT
TZNAME:CEST
TZOFFSETFROM:+0100
TZOFFSETTO:+0200
DTSTART:19440403T020000
RRULE:FREQ=YEARLY;UNTIL=19450402T010000Z;BYMONTH=4;BYDAY=1MO
END:DAYLIGHT
BEGIN:DAYLIGHT
TZNAME:CEMT
TZOFFSETFROM:+0200
TZOFFSETTO:+0300
DTSTART:19450524T020000
RDATE:19470511T030000
END:DAYLIGHT
BEGIN:DAYLIGHT
TZNAME:CEST
TZOFFSETFROM:+0300
TZOFFSETTO:+0200
DTSTART:19450924T030000
RDATE:19470629T030000
END:DAYLIGHT
BEGIN:STANDARD
TZNAME:CET
TZOFFSETFROM:+0100
TZOFFSETTO:+0100
DTSTART:19460101T000000
RDATE:19800101T000000
END:STANDARD
BEGIN:STANDARD
TZNAME:CET
TZOFFSETFROM:+0200
TZOFFSETTO:+0100
DTSTART:19471005T030000
RRULE:FREQ=YEARLY;UNTIL=19491002T010000Z;BYMONTH=10;BYDAY=1SU
END:STANDARD
BEGIN:STANDARD
TZNAME:CET
TZOFFSETFROM:+0200
TZOFFSETTO:+0100
DTSTART:19800928T030000
RRULE:FREQ=YEARLY;UNTIL=19950924T010000Z;BYMONTH=9;BYDAY=-1SU
END:STANDARD
BEGIN:DAYLIGHT
TZNAME:CEST
TZOFFSETFROM:+0100
TZOFFSETTO:+0200
DTSTART:19810329T020000
RRULE:FREQ=YEARLY;BYMONTH=3;BYDAY=-1SU
END:DAYLIGHT
BEGIN:STANDARD
TZNAME:CET
TZOFFSETFROM:+0200
TZOFFSETTO:+0100
DTSTART:19961027T030000
RRULE:FREQ=YEARLY;BYMONTH=10;BYDAY=-1SU
END:STANDARD
END:VTIMEZONE
BEGIN:VEVENT
DTSTAMP:20260419T231518Z
DTSTART;TZID=Europe/Berlin:20211110T193000
DTEND;TZID=Europe/Berlin:20211110T223000
SUMMARY:HE 5.Liga Gr.4 Zürich-Affoltern VII vs Urdorf III (0)
UID:52097184-d64d-4cb0-ae8a-c0acc96fe94f
STATUS:CONFIRMED
LAST-MODIFIED:20211111T092240Z
DESCRIPTION:5. Liga Herren Gruppe 4\nBegegnungs-Nr: 0\nHeim: Zürich-Affoltern VII\nGast: Urdorf III\n\nAdresse: Fronwaldstr.115\, 8046 Zürich\n
LOCATION:Fronwaldstr.115\, 8046 Zürich
CATEGORIES:Saison 2021/22
END:VEVENT
BEGIN:VEVENT
DTSTAMP:20260419T231518Z
DTSTART;TZID=Europe/Berlin:20210922T193000
DTEND;TZID=Europe/Berlin:20210922T223000
SUMMARY:HE 5.Liga Gr.4 Zürich-Affoltern VII vs Bülach III (0)
UID:fa4a236b-3306-4406-a44b-c68978e70753
STATUS:CONFIRMED
LAST-MODIFIED:20210923T134939Z
DESCRIPTION:5. Liga Herren Gruppe 4\nBegegnungs-Nr: 0\nHeim: Zürich-Affoltern VII\nGast: Bülach III\n\nAdresse: Fronwaldstr.115\, 8046 Zürich\n
LOCATION:Fronwaldstr.115\, 8046 Zürich
CATEGORIES:Saison 2021/22
END:VEVENT
BEGIN:VEVENT
DTSTAMP:20260419T231518Z
DTSTART;TZID=Europe/Berlin:20210901T193000
DTEND;TZID=Europe/Berlin:20210901T223000
SUMMARY:HE 5.Liga Gr.4 Zürich-Affoltern VII vs Buchs Zürich II (0)
UID:76322ab3-901c-4201-ba58-ee5970fc8165
STATUS:CONFIRMED
LAST-MODIFIED:20210907T143854Z
DESCRIPTION:5. Liga Herren Gruppe 4\nBegegnungs-Nr: 0\nHeim: Zürich-Affoltern VII\nGast: Buchs Zürich II\n\nAdresse: Fronwaldstr.115\, 8046 Zürich\n
LOCATION:Fronwaldstr.115\, 8046 Zürich
CATEGORIES:Saison 2021/22
END:VEVENT
BEGIN:VEVENT
DTSTAMP:20260419T231518Z
DTSTART;TZID=Europe/Berlin:20220330T193000
DTEND;TZID=Europe/Berlin:20220330T223000
SUMMARY:HE 5.Liga Gr.4 Zürich-Affoltern VII vs Dietikon-Weiningen II (0)
UID:e1ec4cc1-7c4d-414c-9f85-70dbb3e25b99
STATUS:CONFIRMED
LAST-MODIFIED:20220401T100939Z
DESCRIPTION:5. Liga Herren Gruppe 4\nBegegnungs-Nr: 0\nHeim: Zürich-Affoltern VII\nGast: Dietikon-Weiningen II\n\nAdresse: Fronwaldstr.115\, 8046 Zürich\n
LOCATION:Fronwaldstr.115\, 8046 Zürich
CATEGORIES:Saison 2021/22
END:VEVENT
BEGIN:VEVENT
DTSTAMP:20260419T231518Z
DTSTART;TZID=Europe/Berlin:20220325T193000
DTEND;TZID=Europe/Berlin:20220325T223000
SUMMARY:HE 5.Liga Gr.4 Zürich-Affoltern VII vs Höngg III (0)
UID:bcdc720f-efa5-497b-87a4-5d47a6ba11a0
STATUS:CONFIRMED
LAST-MODIFIED:20220328T141246Z
DESCRIPTION:5. Liga Herren Gruppe 4\nBegegnungs-Nr: 0\nHeim: Zürich-Affoltern VII\nGast: Höngg III\n\nAdresse: Fronwaldstr.115\, 8046 Zürich\n
LOCATION:Fronwaldstr.115\, 8046 Zürich
CATEGORIES:Saison 2021/22
END:VEVENT
BEGIN:VEVENT
DTSTAMP:20260419T231518Z
DTSTART;TZID=Europe/Berlin:20220223T193000
DTEND;TZID=Europe/Berlin:20220223T223000
SUMMARY:HE 5.Liga Gr.4 Zürich-Affoltern VII vs BW-Wollishofen V (0)
UID:5879b396-2339-4f49-b428-18ac99da2d71
STATUS:CONFIRMED
LAST-MODIFIED:20220224T090837Z
DESCRIPTION:5. Liga Herren Gruppe 4\nBegegnungs-Nr: 0\nHeim: Zürich-Affoltern VII\nGast: BW-Wollishofen V\n\nAdresse: Fronwaldstr.115\, 8046 Zürich\n
LOCATION:Fronwaldstr.115\, 8046 Zürich
CATEGORIES:Saison 2021/22
END:VEVENT
BEGIN:VEVENT
DTSTAMP:20260419T231518Z
DTSTART;TZID=Europe/Berlin:20220126T193000
DTEND;TZID=Europe/Berlin:20220126T223000
SUMMARY:HE 5.Liga Gr.4 Zürich-Affoltern VII vs Niederhasli V (0)
UID:ce6f0c85-2349-4eec-b1a8-e18fa0ebb10b
STATUS:CONFIRMED
LAST-MODIFIED:20220206T203702Z
DESCRIPTION:5. Liga Herren Gruppe 4\nBegegnungs-Nr: 0\nHeim: Zürich-Affoltern VII\nGast: Niederhasli V\n\nAdresse: Fronwaldstr.115\, 8046 Zürich\n
LOCATION:Fronwaldstr.115\, 8046 Zürich
CATEGORIES:Saison 2021/22
END:VEVENT
BEGIN:VEVENT
DTSTAMP:20260419T231518Z
DTSTART;TZID=Europe/Berlin:20211130T200000
DTEND;TZID=Europe/Berlin:20211130T230000
SUMMARY:HE 5.Liga Gr.4 Dietikon-Weiningen II vs Zürich-Affoltern VII (0)
UID:848658f9-0a8c-4f87-af5d-2d4c604ebe4d
STATUS:CONFIRMED
LAST-MODIFIED:20211201T143005Z
DESCRIPTION:5. Liga Herren Gruppe 4\nBegegnungs-Nr: 0\nHeim: Dietikon-Weiningen II\nGast: Zürich-Affoltern VII\n\nAdresse: Bohnackerstrasse 5\, 8953 Dietikon\n
LOCATION:Bohnackerstrasse 5\, 8953 Dietikon
CATEGORIES:Saison 2021/22
END:VEVENT
BEGIN:VEVENT
DTSTAMP:20260419T231518Z
DTSTART;TZID=Europe/Berlin:20211101T200000
DTEND;TZID=Europe/Berlin:20211101T230000
SUMMARY:HE 5.Liga Gr.4 Höngg III vs Zürich-Affoltern VII (0)
UID:c6d2574c-d9cc-4458-a153-0ca37dd6108e
STATUS:CONFIRMED
LAST-MODIFIED:20211108T095347Z
DESCRIPTION:5. Liga Herren Gruppe 4\nBegegnungs-Nr: 0\nHeim: Höngg III\nGast: Zürich-Affoltern VII\n\nAdresse: Bläsistrasse 2\, 8049 Zürich\n
LOCATION:Bläsistrasse 2\, 8049 Zürich
CATEGORIES:Saison 2021/22
END:VEVENT
BEGIN:VEVENT
DTSTAMP:20260419T231518Z
DTSTART;TZID=Europe/Berlin:20211001T200000
DTEND;TZID=Europe/Berlin:20211001T230000
SUMMARY:HE 5.Liga Gr.4 BW-Wollishofen V vs Zürich-Affoltern VII (0)
UID:e4f912a4-41bf-473c-8f98-577e4775f8e8
STATUS:CONFIRMED
LAST-MODIFIED:20211004T120635Z
DESCRIPTION:5. Liga Herren Gruppe 4\nBegegnungs-Nr: 0\nHeim: BW-Wollishofen V\nGast: Zürich-Affoltern VII\n\nAdresse: Kilchbergstr. 28\, 8038 Zürich\n
LOCATION:Kilchbergstr. 28\, 8038 Zürich
CATEGORIES:Saison 2021/22
END:VEVENT
BEGIN:VEVENT
DTSTAMP:20260419T231518Z
DTSTART;TZID=Europe/Berlin:20210907T193000
DTEND;TZID=Europe/Berlin:20210907T223000
SUMMARY:HE 5.Liga Gr.4 Niederhasli V vs Zürich-Affoltern VII (0)
UID:43079005-0bc2-4bc7-b8ab-9d8bad3d3e40
STATUS:CONFIRMED
LAST-MODIFIED:20210909T122840Z
DESCRIPTION:5. Liga Herren Gruppe 4\nBegegnungs-Nr: 0\nHeim: Niederhasli V\nGast: Zürich-Affoltern VII\n\nAdresse: Dorfstrasse 22\, 8155 Niederhasli\n
LOCATION:Dorfstrasse 22\, 8155 Niederhasli
CATEGORIES:Saison 2021/22
END:VEVENT
BEGIN:VEVENT
DTSTAMP:20260419T231518Z
DTSTART;TZID=Europe/Berlin:20220513T200000
DTEND;TZID=Europe/Berlin:20220513T230000
SUMMARY:HE 5.Liga Abstieg 1.Runde Frauenfeld II vs Zürich-Affoltern VII (0)
UID:73f20402-ac89-49f2-a1f0-5ea2d484b73b
STATUS:CONFIRMED
LAST-MODIFIED:20220426T194520Z
DESCRIPTION:5. Liga Herren Abstieg 1. Runde\nBegegnungs-Nr: 0\nHeim: Frauenfeld II\nGast: Zürich-Affoltern VII\n
LOCATION:
CATEGORIES:Saison 2021/22
END:VEVENT
BEGIN:VEVENT
DTSTAMP:20260419T231518Z
DTSTART;TZID=Europe/Berlin:20220316T200000
DTEND;TZID=Europe/Berlin:20220316T230000
SUMMARY:HE 5.Liga Gr.4 Urdorf III vs Zürich-Affoltern VII (0)
UID:1a6c42f8-0c0e-4fff-aa25-95656fab7f3f
STATUS:CONFIRMED
LAST-MODIFIED:20220322T110938Z
DESCRIPTION:5. Liga Herren Gruppe 4\nBegegnungs-Nr: 0\nHeim: Urdorf III\nGast: Zürich-Affoltern VII\n\nAdresse: Weihermattstrasse 50\, 8902 Urdorf\n
LOCATION:Weihermattstrasse 50\, 8902 Urdorf
CATEGORIES:Saison 2021/22
END:VEVENT
BEGIN:VEVENT
DTSTAMP:20260419T231518Z
DTSTART;TZID=Europe/Berlin:20220127T201500
DTEND;TZID=Europe/Berlin:20220127T231500
SUMMARY:HE 5.Liga Gr.4 Bülach III vs Zürich-Affoltern VII (0)
UID:3eb8f8af-1eb6-4a00-98f5-b0d65059c724
STATUS:CONFIRMED
LAST-MODIFIED:20220131T065727Z
DESCRIPTION:5. Liga Herren Gruppe 4\nBegegnungs-Nr: 0\nHeim: Bülach III\nGast: Zürich-Affoltern VII\n\nAdresse: Unterweg 51\, 8180 Bülach\n
LOCATION:Unterweg 51\, 8180 Bülach
CATEGORIES:Saison 2021/22
END:VEVENT
BEGIN:VEVENT
DTSTAMP:20260419T231518Z
DTSTART;TZID=Europe/Berlin:20220107T201500
DTEND;TZID=Europe/Berlin:20220107T231500
SUMMARY:HE 5.Liga Gr.4 Buchs Zürich II vs Zürich-Affoltern VII (0)
UID:ffbc81b4-e53c-4520-8a2f-cf80a8f95e12
STATUS:CONFIRMED
LAST-MODIFIED:20220110T121751Z
DESCRIPTION:5. Liga Herren Gruppe 4\nBegegnungs-Nr: 0\nHeim: Buchs Zürich II\nGast: Zürich-Affoltern VII\n\nAdresse: Drisglerstrasse 3\, 8107 Buchs ZH\n
LOCATION:Drisglerstrasse 3\, 8107 Buchs ZH
CATEGORIES:Saison 2021/22
END:VEVENT
END:VCALENDAR
