BEGIN:VCALENDAR
PRODID:-//nuDatenautomaten//framework iCal4j //DE
VERSION:2.0
CALSCALE:GREGORIAN
BEGIN:VTIMEZONE
TZID:Europe/Berlin
LAST-MODIFIED:20260306T231828Z
TZURL:https://www.tzurl.org/zoneinfo/Europe/Berlin
X-LIC-LOCATION:Europe/Berlin
X-PROLEPTIC-TZNAME:LMT
BEGIN:STANDARD
TZNAME:CET
TZOFFSETFROM:+005328
TZOFFSETTO:+0100
DTSTART:18930401T000000
END:STANDARD
BEGIN:DAYLIGHT
TZNAME:CEST
TZOFFSETFROM:+0100
TZOFFSETTO:+0200
DTSTART:19160430T230000
RDATE:19400401T020000
RDATE:19430329T020000
RDATE:19460414T020000
RDATE:19470406T030000
RDATE:19480418T020000
RDATE:19490410T020000
RDATE:19800406T020000
END:DAYLIGHT
BEGIN:STANDARD
TZNAME:CET
TZOFFSETFROM:+0200
TZOFFSETTO:+0100
DTSTART:19161001T010000
RDATE:19421102T030000
RDATE:19431004T030000
RDATE:19441002T030000
RDATE:19451118T030000
RDATE:19461007T030000
END:STANDARD
BEGIN:DAYLIGHT
TZNAME:CEST
TZOFFSETFROM:+0100
TZOFFSETTO:+0200
DTSTART:19170416T020000
RRULE:FREQ=YEARLY;UNTIL=19180415T010000Z;BYMONTH=4;BYDAY=3MO
END:DAYLIGHT
BEGIN:STANDARD
TZNAME:CET
TZOFFSETFROM:+0200
TZOFFSETTO:+0100
DTSTART:19170917T030000
RRULE:FREQ=YEARLY;UNTIL=19180916T010000Z;BYMONTH=9;BYDAY=3MO
END:STANDARD
BEGIN:DAYLIGHT
TZNAME:CEST
TZOFFSETFROM:+0100
TZOFFSETTO:+0200
DTSTART:19440403T020000
RRULE:FREQ=YEARLY;UNTIL=19450402T010000Z;BYMONTH=4;BYDAY=1MO
END:DAYLIGHT
BEGIN:DAYLIGHT
TZNAME:CEMT
TZOFFSETFROM:+0200
TZOFFSETTO:+0300
DTSTART:19450524T020000
RDATE:19470511T030000
END:DAYLIGHT
BEGIN:DAYLIGHT
TZNAME:CEST
TZOFFSETFROM:+0300
TZOFFSETTO:+0200
DTSTART:19450924T030000
RDATE:19470629T030000
END:DAYLIGHT
BEGIN:STANDARD
TZNAME:CET
TZOFFSETFROM:+0100
TZOFFSETTO:+0100
DTSTART:19460101T000000
RDATE:19800101T000000
END:STANDARD
BEGIN:STANDARD
TZNAME:CET
TZOFFSETFROM:+0200
TZOFFSETTO:+0100
DTSTART:19471005T030000
RRULE:FREQ=YEARLY;UNTIL=19491002T010000Z;BYMONTH=10;BYDAY=1SU
END:STANDARD
BEGIN:STANDARD
TZNAME:CET
TZOFFSETFROM:+0200
TZOFFSETTO:+0100
DTSTART:19800928T030000
RRULE:FREQ=YEARLY;UNTIL=19950924T010000Z;BYMONTH=9;BYDAY=-1SU
END:STANDARD
BEGIN:DAYLIGHT
TZNAME:CEST
TZOFFSETFROM:+0100
TZOFFSETTO:+0200
DTSTART:19810329T020000
RRULE:FREQ=YEARLY;BYMONTH=3;BYDAY=-1SU
END:DAYLIGHT
BEGIN:STANDARD
TZNAME:CET
TZOFFSETFROM:+0200
TZOFFSETTO:+0100
DTSTART:19961027T030000
RRULE:FREQ=YEARLY;BYMONTH=10;BYDAY=-1SU
END:STANDARD
END:VTIMEZONE
BEGIN:VEVENT
DTSTAMP:20260419T231427Z
DTSTART;TZID=Europe/Berlin:20211214T200000
DTEND;TZID=Europe/Berlin:20211214T230000
SUMMARY:O40 3.Liga Gr.1 St. Gallen II vs Wallenwil (0)
UID:48a5819a-2044-4e46-8456-5cf1e3b84821
STATUS:CONFIRMED
LAST-MODIFIED:20211222T153108Z
DESCRIPTION:3. Liga O40 Gruppe 1\nBegegnungs-Nr: 0\nHeim: St. Gallen II\nGast: Wallenwil\n\nAdresse: Zilstrasse 61\, 9016 St.Gallen\n
LOCATION:Zilstrasse 61\, 9016 St.Gallen
CATEGORIES:Saison 2021/22
END:VEVENT
BEGIN:VEVENT
DTSTAMP:20260419T231427Z
DTSTART;TZID=Europe/Berlin:20211123T200000
DTEND;TZID=Europe/Berlin:20211123T230000
SUMMARY:O40 3.Liga Gr.1 St. Gallen II vs Ettenhausen (0)
UID:2d43a029-5132-4096-b8e2-5e1fa30c9f62
STATUS:CONFIRMED
LAST-MODIFIED:20211201T152303Z
DESCRIPTION:3. Liga O40 Gruppe 1\nBegegnungs-Nr: 0\nHeim: St. Gallen II\nGast: Ettenhausen\n\nAdresse: Zilstrasse 61\, 9016 St.Gallen\n
LOCATION:Zilstrasse 61\, 9016 St.Gallen
CATEGORIES:Saison 2021/22
END:VEVENT
BEGIN:VEVENT
DTSTAMP:20260419T231427Z
DTSTART;TZID=Europe/Berlin:20210914T194500
DTEND;TZID=Europe/Berlin:20210914T224500
SUMMARY:O40 3.Liga Gr.1 St. Gallen II vs Wuppenau (0)
UID:18002d61-3ee3-4edd-aab1-bc1e0f5763cb
STATUS:CONFIRMED
LAST-MODIFIED:20210916T102352Z
DESCRIPTION:3. Liga O40 Gruppe 1\nBegegnungs-Nr: 0\nHeim: St. Gallen II\nGast: Wuppenau\n
LOCATION:
CATEGORIES:Saison 2021/22
END:VEVENT
BEGIN:VEVENT
DTSTAMP:20260419T231427Z
DTSTART;TZID=Europe/Berlin:20220405T200000
DTEND;TZID=Europe/Berlin:20220405T230000
SUMMARY:O40 3.Liga Gr.1 St. Gallen II vs Rorschach (0)
UID:d139cd9c-393f-4589-b48e-36f48190aefa
STATUS:CONFIRMED
LAST-MODIFIED:20220411T052550Z
DESCRIPTION:3. Liga O40 Gruppe 1\nBegegnungs-Nr: 0\nHeim: St. Gallen II\nGast: Rorschach\n\nAdresse: Zilstrasse 61\, 9016 St.Gallen\n
LOCATION:Zilstrasse 61\, 9016 St.Gallen
CATEGORIES:Saison 2021/22
END:VEVENT
BEGIN:VEVENT
DTSTAMP:20260419T231427Z
DTSTART;TZID=Europe/Berlin:20220301T200000
DTEND;TZID=Europe/Berlin:20220301T230000
SUMMARY:O40 3.Liga Gr.1 St. Gallen II vs Gossau St.Gallen (0)
UID:e03702a6-0bd4-4cfc-b449-361323ee2f0c
STATUS:CONFIRMED
LAST-MODIFIED:20220302T105532Z
DESCRIPTION:3. Liga O40 Gruppe 1\nBegegnungs-Nr: 0\nHeim: St. Gallen II\nGast: Gossau St.Gallen\n\nAdresse: Zilstrasse 61\, 9016 St.Gallen\n
LOCATION:Zilstrasse 61\, 9016 St.Gallen
CATEGORIES:Saison 2021/22
END:VEVENT
BEGIN:VEVENT
DTSTAMP:20260419T231427Z
DTSTART;TZID=Europe/Berlin:20220208T200000
DTEND;TZID=Europe/Berlin:20220208T230000
SUMMARY:O40 3.Liga Gr.1 St. Gallen II vs Gaiserwald II (0)
UID:2d56b349-fb35-4279-bd61-68312b4f5573
STATUS:CONFIRMED
LAST-MODIFIED:20220214T164842Z
DESCRIPTION:3. Liga O40 Gruppe 1\nBegegnungs-Nr: 0\nHeim: St. Gallen II\nGast: Gaiserwald II\n\nAdresse: Zilstrasse 61\, 9016 St.Gallen\n
LOCATION:Zilstrasse 61\, 9016 St.Gallen
CATEGORIES:Saison 2021/22
END:VEVENT
BEGIN:VEVENT
DTSTAMP:20260419T231427Z
DTSTART;TZID=Europe/Berlin:20211210T200000
DTEND;TZID=Europe/Berlin:20211210T230000
SUMMARY:O40 3.Liga Gr.1 Rorschach vs St. Gallen II (0)
UID:2ef439f8-1827-4487-9868-452fcdf7d125
STATUS:CONFIRMED
LAST-MODIFIED:20211214T133725Z
DESCRIPTION:3. Liga O40 Gruppe 1\nBegegnungs-Nr: 0\nHeim: Rorschach\nGast: St. Gallen II\n\nAdresse: Mariabergstrasse 33\, 9400 Rorschach\n
LOCATION:Mariabergstrasse 33\, 9400 Rorschach
CATEGORIES:Saison 2021/22
END:VEVENT
BEGIN:VEVENT
DTSTAMP:20260419T231427Z
DTSTART;TZID=Europe/Berlin:20210826T200000
DTEND;TZID=Europe/Berlin:20210826T230000
SUMMARY:O40 3.Liga Gr.1 Gaiserwald II vs St. Gallen II (0)
UID:1282e824-22ff-4ecb-8121-bbd4a873407d
STATUS:CONFIRMED
LAST-MODIFIED:20210831T083053Z
DESCRIPTION:3. Liga O40 Gruppe 1\nBegegnungs-Nr: 0\nHeim: Gaiserwald II\nGast: St. Gallen II\n\nAdresse: Sonnenbergstrasse 15\, 9030 Abtwil\n
LOCATION:Sonnenbergstrasse 15\, 9030 Abtwil
CATEGORIES:Saison 2021/22
END:VEVENT
BEGIN:VEVENT
DTSTAMP:20260419T231427Z
DTSTART;TZID=Europe/Berlin:20211026T200000
DTEND;TZID=Europe/Berlin:20211026T230000
SUMMARY:O40 3.Liga Gr.1 Gossau St.Gallen vs St. Gallen II (0)
UID:bbc1378a-0944-4de8-aa8b-a54da0899cc3
STATUS:CONFIRMED
LAST-MODIFIED:20211028T063458Z
DESCRIPTION:3. Liga O40 Gruppe 1\nBegegnungs-Nr: 0\nHeim: Gossau St.Gallen\nGast: St. Gallen II\n\nAdresse: Falkenstrasse 21\, 9200 Gossau\n
LOCATION:Falkenstrasse 21\, 9200 Gossau
CATEGORIES:Saison 2021/22
END:VEVENT
BEGIN:VEVENT
DTSTAMP:20260419T231427Z
DTSTART;TZID=Europe/Berlin:20220421T201500
DTEND;TZID=Europe/Berlin:20220421T231500
SUMMARY:O40 3.Liga Gr.1 Wallenwil vs St. Gallen II (0)
UID:3b4b4d4f-a5b3-4944-ac4d-14028a982a8c
STATUS:CONFIRMED
LAST-MODIFIED:20220419T142340Z
DESCRIPTION:3. Liga O40 Gruppe 1\nBegegnungs-Nr: 0\nHeim: Wallenwil\nGast: St. Gallen II\n\nAdresse: Stationsstrasse 29\, 8360 Wallenwil\n
LOCATION:Stationsstrasse 29\, 8360 Wallenwil
CATEGORIES:Saison 2021/22
END:VEVENT
BEGIN:VEVENT
DTSTAMP:20260419T231427Z
DTSTART;TZID=Europe/Berlin:20220326T140000
DTEND;TZID=Europe/Berlin:20220326T170000
SUMMARY:O40 3.Liga Gr.1 Ettenhausen vs St. Gallen II (0)
UID:fff7cb22-6179-48bf-bc6e-4634e0970f97
STATUS:CONFIRMED
LAST-MODIFIED:20220330T084958Z
DESCRIPTION:3. Liga O40 Gruppe 1\nBegegnungs-Nr: 0\nHeim: Ettenhausen\nGast: St. Gallen II\n\nAdresse: Weidlistrasse 12\, 8356 Ettenhausen\n
LOCATION:Weidlistrasse 12\, 8356 Ettenhausen
CATEGORIES:Saison 2021/22
END:VEVENT
BEGIN:VEVENT
DTSTAMP:20260419T231427Z
DTSTART;TZID=Europe/Berlin:20220214T201500
DTEND;TZID=Europe/Berlin:20220214T231500
SUMMARY:O40 3.Liga Gr.1 Wuppenau vs St. Gallen II (0)
UID:aa769dde-59e3-421d-8025-d5730cebbbe2
STATUS:CONFIRMED
LAST-MODIFIED:20220217T070227Z
DESCRIPTION:3. Liga O40 Gruppe 1\nBegegnungs-Nr: 0\nHeim: Wuppenau\nGast: St. Gallen II\n\nAdresse: Nollenstrasse\, 9514 Wuppenau\n
LOCATION:Nollenstrasse\, 9514 Wuppenau
CATEGORIES:Saison 2021/22
END:VEVENT
END:VCALENDAR
