BEGIN:VCALENDAR
PRODID:-//nuDatenautomaten//framework iCal4j //DE
VERSION:2.0
CALSCALE:GREGORIAN
BEGIN:VTIMEZONE
TZID:Europe/Berlin
LAST-MODIFIED:20260306T231828Z
TZURL:https://www.tzurl.org/zoneinfo/Europe/Berlin
X-LIC-LOCATION:Europe/Berlin
X-PROLEPTIC-TZNAME:LMT
BEGIN:STANDARD
TZNAME:CET
TZOFFSETFROM:+005328
TZOFFSETTO:+0100
DTSTART:18930401T000000
END:STANDARD
BEGIN:DAYLIGHT
TZNAME:CEST
TZOFFSETFROM:+0100
TZOFFSETTO:+0200
DTSTART:19160430T230000
RDATE:19400401T020000
RDATE:19430329T020000
RDATE:19460414T020000
RDATE:19470406T030000
RDATE:19480418T020000
RDATE:19490410T020000
RDATE:19800406T020000
END:DAYLIGHT
BEGIN:STANDARD
TZNAME:CET
TZOFFSETFROM:+0200
TZOFFSETTO:+0100
DTSTART:19161001T010000
RDATE:19421102T030000
RDATE:19431004T030000
RDATE:19441002T030000
RDATE:19451118T030000
RDATE:19461007T030000
END:STANDARD
BEGIN:DAYLIGHT
TZNAME:CEST
TZOFFSETFROM:+0100
TZOFFSETTO:+0200
DTSTART:19170416T020000
RRULE:FREQ=YEARLY;UNTIL=19180415T010000Z;BYMONTH=4;BYDAY=3MO
END:DAYLIGHT
BEGIN:STANDARD
TZNAME:CET
TZOFFSETFROM:+0200
TZOFFSETTO:+0100
DTSTART:19170917T030000
RRULE:FREQ=YEARLY;UNTIL=19180916T010000Z;BYMONTH=9;BYDAY=3MO
END:STANDARD
BEGIN:DAYLIGHT
TZNAME:CEST
TZOFFSETFROM:+0100
TZOFFSETTO:+0200
DTSTART:19440403T020000
RRULE:FREQ=YEARLY;UNTIL=19450402T010000Z;BYMONTH=4;BYDAY=1MO
END:DAYLIGHT
BEGIN:DAYLIGHT
TZNAME:CEMT
TZOFFSETFROM:+0200
TZOFFSETTO:+0300
DTSTART:19450524T020000
RDATE:19470511T030000
END:DAYLIGHT
BEGIN:DAYLIGHT
TZNAME:CEST
TZOFFSETFROM:+0300
TZOFFSETTO:+0200
DTSTART:19450924T030000
RDATE:19470629T030000
END:DAYLIGHT
BEGIN:STANDARD
TZNAME:CET
TZOFFSETFROM:+0100
TZOFFSETTO:+0100
DTSTART:19460101T000000
RDATE:19800101T000000
END:STANDARD
BEGIN:STANDARD
TZNAME:CET
TZOFFSETFROM:+0200
TZOFFSETTO:+0100
DTSTART:19471005T030000
RRULE:FREQ=YEARLY;UNTIL=19491002T010000Z;BYMONTH=10;BYDAY=1SU
END:STANDARD
BEGIN:STANDARD
TZNAME:CET
TZOFFSETFROM:+0200
TZOFFSETTO:+0100
DTSTART:19800928T030000
RRULE:FREQ=YEARLY;UNTIL=19950924T010000Z;BYMONTH=9;BYDAY=-1SU
END:STANDARD
BEGIN:DAYLIGHT
TZNAME:CEST
TZOFFSETFROM:+0100
TZOFFSETTO:+0200
DTSTART:19810329T020000
RRULE:FREQ=YEARLY;BYMONTH=3;BYDAY=-1SU
END:DAYLIGHT
BEGIN:STANDARD
TZNAME:CET
TZOFFSETFROM:+0200
TZOFFSETTO:+0100
DTSTART:19961027T030000
RRULE:FREQ=YEARLY;BYMONTH=10;BYDAY=-1SU
END:STANDARD
END:VTIMEZONE
BEGIN:VEVENT
DTSTAMP:20260421T202220Z
DTSTART;TZID=Europe/Berlin:20210911T130000
DTEND;TZID=Europe/Berlin:20210911T160000
SUMMARY:HE 5. Liga Gr. 1 Thun VII vs Ittigen II (8)
UID:dcaa6ac2-96a9-4650-9087-c5c13a197a3d
STATUS:CONFIRMED
LAST-MODIFIED:20210913T221440Z
DESCRIPTION:5. Liga Herren Gruppe 1\nBegegnungs-Nr: 8\nHeim: Thun VII\nGast: Ittigen II\n\nAdresse: Hallerstrasse 28\, 3604 Thun\n
LOCATION:Hallerstrasse 28\, 3604 Thun
CATEGORIES:Saison 2021/22
END:VEVENT
BEGIN:VEVENT
DTSTAMP:20260421T202220Z
DTSTART;TZID=Europe/Berlin:20211023T160000
DTEND;TZID=Europe/Berlin:20211023T190000
SUMMARY:HE 5. Liga Gr. 1 Thun VII vs Ostermundigen VI (14)
UID:09a96999-bb7a-412b-b4b1-f71c91fa3db4
STATUS:CONFIRMED
LAST-MODIFIED:20211025T062000Z
DESCRIPTION:5. Liga Herren Gruppe 1\nBegegnungs-Nr: 14\nHeim: Thun VII\nGast: Ostermundigen VI\n\nAdresse: Hallerstrasse 28\, 3604 Thun\n
LOCATION:Hallerstrasse 28\, 3604 Thun
CATEGORIES:Saison 2021/22
END:VEVENT
BEGIN:VEVENT
DTSTAMP:20260421T202220Z
DTSTART;TZID=Europe/Berlin:20220319T130000
DTEND;TZID=Europe/Berlin:20220319T160000
SUMMARY:HE 5. Liga Gr. 1 Thun VII vs Bern VI (24)
UID:39384f27-8a09-46a2-a070-7df21511aa45
STATUS:CONFIRMED
DESCRIPTION:5. Liga Herren Gruppe 1\nBegegnungs-Nr: 24\nHeim: Thun VII\nGast: Bern VI\n\nAdresse: Hallerstrasse 28\, 3604 Thun\n
LOCATION:Hallerstrasse 28\, 3604 Thun
CATEGORIES:Saison 2021/22
END:VEVENT
BEGIN:VEVENT
DTSTAMP:20260421T202220Z
DTSTART;TZID=Europe/Berlin:20220409T130000
DTEND;TZID=Europe/Berlin:20220409T160000
SUMMARY:HE 5. Liga Gr. 1 Thun VII vs Tiefenau II (27)
UID:1b5cdad7-c37e-40c1-b96a-ed87a7ebe456
STATUS:CONFIRMED
DESCRIPTION:5. Liga Herren Gruppe 1\nBegegnungs-Nr: 27\nHeim: Thun VII\nGast: Tiefenau II\n\nAdresse: Hallerstrasse 28\, 3604 Thun\n
LOCATION:Hallerstrasse 28\, 3604 Thun
CATEGORIES:Saison 2021/22
END:VEVENT
BEGIN:VEVENT
DTSTAMP:20260421T202220Z
DTSTART;TZID=Europe/Berlin:20220114T194500
DTEND;TZID=Europe/Berlin:20220114T224500
SUMMARY:HE 5. Liga Gr. 1 Thun VII vs Langnau III (3)
UID:831d4202-0c9a-4b7a-a9d2-fcb8556f0989
STATUS:CONFIRMED
LAST-MODIFIED:20220116T132454Z
DESCRIPTION:5. Liga Herren Gruppe 1\nBegegnungs-Nr: 3\nHeim: Thun VII\nGast: Langnau III\n\nAdresse: Hallerstrasse 28\, 3604 Thun\n
LOCATION:Hallerstrasse 28\, 3604 Thun
CATEGORIES:Saison 2021/22
END:VEVENT
BEGIN:VEVENT
DTSTAMP:20260421T202220Z
DTSTART;TZID=Europe/Berlin:20220205T130000
DTEND;TZID=Europe/Berlin:20220205T160000
SUMMARY:HE 5. Liga Gr. 1 Thun VII vs Münsingen IV (9)
UID:670ffbd5-742b-4a3a-b7d0-62b8ab2e33f9
STATUS:CONFIRMED
DESCRIPTION:5. Liga Herren Gruppe 1\nBegegnungs-Nr: 9\nHeim: Thun VII\nGast: Münsingen IV\n\nAdresse: Hallerstrasse 28\, 3604 Thun\n
LOCATION:Hallerstrasse 28\, 3604 Thun
CATEGORIES:Saison 2021/22
END:VEVENT
BEGIN:VEVENT
DTSTAMP:20260421T202220Z
DTSTART;TZID=Europe/Berlin:20211106T160000
DTEND;TZID=Europe/Berlin:20211106T190000
SUMMARY:HE 5. Liga Gr. 1 Thun VII vs Belp IV (20)
UID:665af6d2-f91d-4b6d-87c2-90139d825143
STATUS:CONFIRMED
LAST-MODIFIED:20211108T122922Z
DESCRIPTION:5. Liga Herren Gruppe 1\nBegegnungs-Nr: 20\nHeim: Thun VII\nGast: Belp IV\n\nAdresse: Hallerstrasse 28\, 3604 Thun\n
LOCATION:Hallerstrasse 28\, 3604 Thun
CATEGORIES:Saison 2021/22
END:VEVENT
BEGIN:VEVENT
DTSTAMP:20260421T202220Z
DTSTART;TZID=Europe/Berlin:20211117T193000
DTEND;TZID=Europe/Berlin:20211117T223000
SUMMARY:HE 5. Liga Gr. 1 Bern VI vs Thun VII (24)
UID:6e23db91-7b13-4f81-83de-777369a17442
STATUS:CONFIRMED
LAST-MODIFIED:20211118T004258Z
DESCRIPTION:5. Liga Herren Gruppe 1\nBegegnungs-Nr: 24\nHeim: Bern VI\nGast: Thun VII\n\nAdresse: Papiermühlestrasse 81\, 3014 Bern\n
LOCATION:Papiermühlestrasse 81\, 3014 Bern
CATEGORIES:Saison 2021/22
END:VEVENT
BEGIN:VEVENT
DTSTAMP:20260421T202220Z
DTSTART;TZID=Europe/Berlin:20210823T200000
DTEND;TZID=Europe/Berlin:20210823T230000
SUMMARY:HE 5. Liga Gr. 1 Langnau III vs Thun VII (3)
UID:f3f2e549-85db-4ac9-aeb1-03a1ece7fa18
STATUS:CONFIRMED
LAST-MODIFIED:20210826T100004Z
DESCRIPTION:5. Liga Herren Gruppe 1\nBegegnungs-Nr: 3\nHeim: Langnau III\nGast: Thun VII\n\nAdresse: Bleicheweg 11\, 3550 Langnau\n
LOCATION:Bleicheweg 11\, 3550 Langnau
CATEGORIES:Saison 2021/22
END:VEVENT
BEGIN:VEVENT
DTSTAMP:20260421T202220Z
DTSTART;TZID=Europe/Berlin:20211015T200000
DTEND;TZID=Europe/Berlin:20211015T230000
SUMMARY:HE 5. Liga Gr. 1 Münsingen IV vs Thun VII (9)
UID:b0e33ab4-d6fe-4036-8246-a6781a7c8011
STATUS:CONFIRMED
LAST-MODIFIED:20211016T055951Z
DESCRIPTION:5. Liga Herren Gruppe 1\nBegegnungs-Nr: 9\nHeim: Münsingen IV\nGast: Thun VII\n\nAdresse: Turnhallenweg 8\, 3110 Münsingen\n
LOCATION:Turnhallenweg 8\, 3110 Münsingen
CATEGORIES:Saison 2021/22
END:VEVENT
BEGIN:VEVENT
DTSTAMP:20260421T202220Z
DTSTART;TZID=Europe/Berlin:20211209T194500
DTEND;TZID=Europe/Berlin:20211209T224500
SUMMARY:HE 5. Liga Gr. 1 Tiefenau II vs Thun VII (27)
UID:563fa8f0-e5fc-42fa-b5ce-855c7f8cf931
STATUS:CONFIRMED
LAST-MODIFIED:20211212T210036Z
DESCRIPTION:5. Liga Herren Gruppe 1\nBegegnungs-Nr: 27\nHeim: Tiefenau II\nGast: Thun VII\n\nAdresse: Studerstrasse 56\, 3004 Bern\n
LOCATION:Studerstrasse 56\, 3004 Bern
CATEGORIES:Saison 2021/22
END:VEVENT
BEGIN:VEVENT
DTSTAMP:20260421T202220Z
DTSTART;TZID=Europe/Berlin:20220304T194500
DTEND;TZID=Europe/Berlin:20220304T224500
SUMMARY:HE 5. Liga Gr. 1 Belp IV vs Thun VII (20)
UID:aa6e79f4-7d73-4772-862d-d5aa40ab7d68
STATUS:CONFIRMED
DESCRIPTION:5. Liga Herren Gruppe 1\nBegegnungs-Nr: 20\nHeim: Belp IV\nGast: Thun VII\n\nAdresse: Neumattstrasse 39\, 3123 Belp\n
LOCATION:Neumattstrasse 39\, 3123 Belp
CATEGORIES:Saison 2021/22
END:VEVENT
BEGIN:VEVENT
DTSTAMP:20260421T202220Z
DTSTART;TZID=Europe/Berlin:20220117T194500
DTEND;TZID=Europe/Berlin:20220117T224500
SUMMARY:HE 5. Liga Gr. 1 Ittigen II vs Thun VII (8)
UID:546851d2-9a15-4860-8e6c-70a7a931b81f
STATUS:CONFIRMED
DESCRIPTION:5. Liga Herren Gruppe 1\nBegegnungs-Nr: 8\nHeim: Ittigen II\nGast: Thun VII\n\nAdresse: Fischrainweg 17\, 3048 Worblaufen\n
LOCATION:Fischrainweg 17\, 3048 Worblaufen
CATEGORIES:Saison 2021/22
END:VEVENT
BEGIN:VEVENT
DTSTAMP:20260421T202220Z
DTSTART;TZID=Europe/Berlin:20220216T193000
DTEND;TZID=Europe/Berlin:20220216T223000
SUMMARY:HE 5. Liga Gr. 1 Ostermundigen VI vs Thun VII (14)
UID:b7c7731f-1168-4091-a1ff-e151e0c31c6e
STATUS:CONFIRMED
DESCRIPTION:5. Liga Herren Gruppe 1\nBegegnungs-Nr: 14\nHeim: Ostermundigen VI\nGast: Thun VII\n\nAdresse: Dennigkofenweg 169\, 3072 Ostermundigen\n
LOCATION:Dennigkofenweg 169\, 3072 Ostermundigen
CATEGORIES:Saison 2021/22
END:VEVENT
END:VCALENDAR
