BEGIN:VCALENDAR
PRODID:-//nuDatenautomaten//framework iCal4j //DE
VERSION:2.0
CALSCALE:GREGORIAN
BEGIN:VTIMEZONE
TZID:Europe/Berlin
LAST-MODIFIED:20260306T231828Z
TZURL:https://www.tzurl.org/zoneinfo/Europe/Berlin
X-LIC-LOCATION:Europe/Berlin
X-PROLEPTIC-TZNAME:LMT
BEGIN:STANDARD
TZNAME:CET
TZOFFSETFROM:+005328
TZOFFSETTO:+0100
DTSTART:18930401T000000
END:STANDARD
BEGIN:DAYLIGHT
TZNAME:CEST
TZOFFSETFROM:+0100
TZOFFSETTO:+0200
DTSTART:19160430T230000
RDATE:19400401T020000
RDATE:19430329T020000
RDATE:19460414T020000
RDATE:19470406T030000
RDATE:19480418T020000
RDATE:19490410T020000
RDATE:19800406T020000
END:DAYLIGHT
BEGIN:STANDARD
TZNAME:CET
TZOFFSETFROM:+0200
TZOFFSETTO:+0100
DTSTART:19161001T010000
RDATE:19421102T030000
RDATE:19431004T030000
RDATE:19441002T030000
RDATE:19451118T030000
RDATE:19461007T030000
END:STANDARD
BEGIN:DAYLIGHT
TZNAME:CEST
TZOFFSETFROM:+0100
TZOFFSETTO:+0200
DTSTART:19170416T020000
RRULE:FREQ=YEARLY;UNTIL=19180415T010000Z;BYMONTH=4;BYDAY=3MO
END:DAYLIGHT
BEGIN:STANDARD
TZNAME:CET
TZOFFSETFROM:+0200
TZOFFSETTO:+0100
DTSTART:19170917T030000
RRULE:FREQ=YEARLY;UNTIL=19180916T010000Z;BYMONTH=9;BYDAY=3MO
END:STANDARD
BEGIN:DAYLIGHT
TZNAME:CEST
TZOFFSETFROM:+0100
TZOFFSETTO:+0200
DTSTART:19440403T020000
RRULE:FREQ=YEARLY;UNTIL=19450402T010000Z;BYMONTH=4;BYDAY=1MO
END:DAYLIGHT
BEGIN:DAYLIGHT
TZNAME:CEMT
TZOFFSETFROM:+0200
TZOFFSETTO:+0300
DTSTART:19450524T020000
RDATE:19470511T030000
END:DAYLIGHT
BEGIN:DAYLIGHT
TZNAME:CEST
TZOFFSETFROM:+0300
TZOFFSETTO:+0200
DTSTART:19450924T030000
RDATE:19470629T030000
END:DAYLIGHT
BEGIN:STANDARD
TZNAME:CET
TZOFFSETFROM:+0100
TZOFFSETTO:+0100
DTSTART:19460101T000000
RDATE:19800101T000000
END:STANDARD
BEGIN:STANDARD
TZNAME:CET
TZOFFSETFROM:+0200
TZOFFSETTO:+0100
DTSTART:19471005T030000
RRULE:FREQ=YEARLY;UNTIL=19491002T010000Z;BYMONTH=10;BYDAY=1SU
END:STANDARD
BEGIN:STANDARD
TZNAME:CET
TZOFFSETFROM:+0200
TZOFFSETTO:+0100
DTSTART:19800928T030000
RRULE:FREQ=YEARLY;UNTIL=19950924T010000Z;BYMONTH=9;BYDAY=-1SU
END:STANDARD
BEGIN:DAYLIGHT
TZNAME:CEST
TZOFFSETFROM:+0100
TZOFFSETTO:+0200
DTSTART:19810329T020000
RRULE:FREQ=YEARLY;BYMONTH=3;BYDAY=-1SU
END:DAYLIGHT
BEGIN:STANDARD
TZNAME:CET
TZOFFSETFROM:+0200
TZOFFSETTO:+0100
DTSTART:19961027T030000
RRULE:FREQ=YEARLY;BYMONTH=10;BYDAY=-1SU
END:STANDARD
END:VTIMEZONE
BEGIN:VEVENT
DTSTAMP:20260421T202220Z
DTSTART;TZID=Europe/Berlin:20211129T194500
DTEND;TZID=Europe/Berlin:20211129T224500
SUMMARY:HE 4. Liga Gr. 3 Ittigen vs Burgdorf VII (28)
UID:4789eb05-d2af-4f7f-a810-c4ba12a91307
STATUS:CONFIRMED
LAST-MODIFIED:20211201T100613Z
DESCRIPTION:4. Liga Herren Gruppe 3\nBegegnungs-Nr: 28\nHeim: Ittigen\nGast: Burgdorf VII\n\nAdresse: Fischrainweg 17\, 3048 Worblaufen\n
LOCATION:Fischrainweg 17\, 3048 Worblaufen
CATEGORIES:Saison 2021/22
END:VEVENT
BEGIN:VEVENT
DTSTAMP:20260421T202220Z
DTSTART;TZID=Europe/Berlin:20211122T194500
DTEND;TZID=Europe/Berlin:20211122T224500
SUMMARY:HE 4. Liga Gr. 3 Ittigen vs Regio Moossee II (24)
UID:a63e2447-9207-4855-823e-6260d65b310a
STATUS:CONFIRMED
LAST-MODIFIED:20211124T160958Z
DESCRIPTION:4. Liga Herren Gruppe 3\nBegegnungs-Nr: 24\nHeim: Ittigen\nGast: Regio Moossee II\n\nAdresse: Fischrainweg 17\, 3048 Worblaufen\n
LOCATION:Fischrainweg 17\, 3048 Worblaufen
CATEGORIES:Saison 2021/22
END:VEVENT
BEGIN:VEVENT
DTSTAMP:20260421T202220Z
DTSTART;TZID=Europe/Berlin:20211025T194500
DTEND;TZID=Europe/Berlin:20211025T224500
SUMMARY:HE 4. Liga Gr. 3 Ittigen vs Stettlen (15)
UID:4cae4363-cc84-4a59-8df0-84437aff62a2
STATUS:CONFIRMED
LAST-MODIFIED:20211026T201600Z
DESCRIPTION:4. Liga Herren Gruppe 3\nBegegnungs-Nr: 15\nHeim: Ittigen\nGast: Stettlen\n\nAdresse: Fischrainweg 17\, 3048 Worblaufen\n
LOCATION:Fischrainweg 17\, 3048 Worblaufen
CATEGORIES:Saison 2021/22
END:VEVENT
BEGIN:VEVENT
DTSTAMP:20260421T202220Z
DTSTART;TZID=Europe/Berlin:20210913T194500
DTEND;TZID=Europe/Berlin:20210913T224500
SUMMARY:HE 4. Liga Gr. 3 Ittigen vs Kirchberg III (5)
UID:6e587c2e-f2c1-41a1-859e-e400f455d230
STATUS:CONFIRMED
LAST-MODIFIED:20210913T221330Z
DESCRIPTION:4. Liga Herren Gruppe 3\nBegegnungs-Nr: 5\nHeim: Ittigen\nGast: Kirchberg III\n\nAdresse: Fischrainweg 17\, 3048 Worblaufen\n
LOCATION:Fischrainweg 17\, 3048 Worblaufen
CATEGORIES:Saison 2021/22
END:VEVENT
BEGIN:VEVENT
DTSTAMP:20260421T202220Z
DTSTART;TZID=Europe/Berlin:20210827T194500
DTEND;TZID=Europe/Berlin:20210827T224500
SUMMARY:HE 4. Liga Gr. 3 Ittigen vs Köniz III (4)
UID:2d4d98ff-7704-4d3a-8939-7463cde82b91
STATUS:CONFIRMED
LAST-MODIFIED:20210829T142411Z
DESCRIPTION:4. Liga Herren Gruppe 3\nBegegnungs-Nr: 4\nHeim: Ittigen\nGast: Köniz III\n\nAdresse: Fischrainweg 17\, 3048 Worblaufen\n
LOCATION:Fischrainweg 17\, 3048 Worblaufen
CATEGORIES:Saison 2021/22
END:VEVENT
BEGIN:VEVENT
DTSTAMP:20260421T202220Z
DTSTART;TZID=Europe/Berlin:20220228T194500
DTEND;TZID=Europe/Berlin:20220228T224500
SUMMARY:HE 4. Liga Gr. 3 Ittigen vs Bern IV (19)
UID:db099e4a-ad00-4930-942d-e725d0db81c3
STATUS:CONFIRMED
DESCRIPTION:4. Liga Herren Gruppe 3\nBegegnungs-Nr: 19\nHeim: Ittigen\nGast: Bern IV\n\nAdresse: Fischrainweg 17\, 3048 Worblaufen\n
LOCATION:Fischrainweg 17\, 3048 Worblaufen
CATEGORIES:Saison 2021/22
END:VEVENT
BEGIN:VEVENT
DTSTAMP:20260421T202220Z
DTSTART;TZID=Europe/Berlin:20220131T194500
DTEND;TZID=Europe/Berlin:20220131T224500
SUMMARY:HE 4. Liga Gr. 3 Ittigen vs Langnau II (10)
UID:f4191e49-c27c-4c62-9b41-944a9cd77419
STATUS:CONFIRMED
DESCRIPTION:4. Liga Herren Gruppe 3\nBegegnungs-Nr: 10\nHeim: Ittigen\nGast: Langnau II\n\nAdresse: Fischrainweg 17\, 3048 Worblaufen\n
LOCATION:Fischrainweg 17\, 3048 Worblaufen
CATEGORIES:Saison 2021/22
END:VEVENT
BEGIN:VEVENT
DTSTAMP:20260421T202220Z
DTSTART;TZID=Europe/Berlin:20210922T200000
DTEND;TZID=Europe/Berlin:20210922T230000
SUMMARY:HE 4. Liga Gr. 3 Langnau II vs Ittigen (10)
UID:f97d8de0-c5a2-4e09-9b1d-4cddc83d2d4c
STATUS:CONFIRMED
LAST-MODIFIED:20210926T093114Z
DESCRIPTION:4. Liga Herren Gruppe 3\nBegegnungs-Nr: 10\nHeim: Langnau II\nGast: Ittigen\n\nAdresse: Bleicheweg 11\, 3550 Langnau\n
LOCATION:Bleicheweg 11\, 3550 Langnau
CATEGORIES:Saison 2021/22
END:VEVENT
BEGIN:VEVENT
DTSTAMP:20260421T202220Z
DTSTART;TZID=Europe/Berlin:20211101T193000
DTEND;TZID=Europe/Berlin:20211101T223000
SUMMARY:HE 4. Liga Gr. 3 Bern IV vs Ittigen (19)
UID:0c9da6eb-0f40-47a3-9338-8185098d29a0
STATUS:CONFIRMED
LAST-MODIFIED:20211104T223857Z
DESCRIPTION:4. Liga Herren Gruppe 3\nBegegnungs-Nr: 19\nHeim: Bern IV\nGast: Ittigen\n\nAdresse: Mädergutstrasse 58\, 3018 Bern\n
LOCATION:Mädergutstrasse 58\, 3018 Bern
CATEGORIES:Saison 2021/22
END:VEVENT
BEGIN:VEVENT
DTSTAMP:20260421T202220Z
DTSTART;TZID=Europe/Berlin:20220409T133000
DTEND;TZID=Europe/Berlin:20220409T163000
SUMMARY:HE 4. Liga Gr. 3 Burgdorf VII vs Ittigen (28)
UID:9113ed2e-c10c-4166-a959-e9fa230f0e6f
STATUS:CONFIRMED
LAST-MODIFIED:20210712T172012Z
DESCRIPTION:4. Liga Herren Gruppe 3\nBegegnungs-Nr: 28\nHeim: Burgdorf VII\nGast: Ittigen\n\nAdresse: Pestalozzistrasse 69\, 3400 Burgdorf\n
LOCATION:Pestalozzistrasse 69\, 3400 Burgdorf
CATEGORIES:Saison 2021/22
END:VEVENT
BEGIN:VEVENT
DTSTAMP:20260421T202220Z
DTSTART;TZID=Europe/Berlin:20220322T194500
DTEND;TZID=Europe/Berlin:20220322T224500
SUMMARY:HE 4. Liga Gr. 3 Regio Moossee II vs Ittigen (24)
UID:8b193955-6356-446b-aa36-7fc86618254e
STATUS:CONFIRMED
DESCRIPTION:4. Liga Herren Gruppe 3\nBegegnungs-Nr: 24\nHeim: Regio Moossee II\nGast: Ittigen\n\nAdresse: Schulhausstrasse 23-25\, 3302 Moosseedorf\n
LOCATION:Schulhausstrasse 23-25\, 3302 Moosseedorf
CATEGORIES:Saison 2021/22
END:VEVENT
BEGIN:VEVENT
DTSTAMP:20260421T202220Z
DTSTART;TZID=Europe/Berlin:20220223T200000
DTEND;TZID=Europe/Berlin:20220223T230000
SUMMARY:HE 4. Liga Gr. 3 Stettlen vs Ittigen (15)
UID:4166f9d6-e449-4791-aac9-3b5299584c6d
STATUS:CONFIRMED
DESCRIPTION:4. Liga Herren Gruppe 3\nBegegnungs-Nr: 15\nHeim: Stettlen\nGast: Ittigen\n\nAdresse: Bernstrasse 45\, 3066 Stettlen\n
LOCATION:Bernstrasse 45\, 3066 Stettlen
CATEGORIES:Saison 2021/22
END:VEVENT
BEGIN:VEVENT
DTSTAMP:20260421T202220Z
DTSTART;TZID=Europe/Berlin:20220118T200000
DTEND;TZID=Europe/Berlin:20220118T230000
SUMMARY:HE 4. Liga Gr. 3 Kirchberg III vs Ittigen (5)
UID:cee2d33b-50ad-40ee-9ec5-1944cf45b7a5
STATUS:CONFIRMED
LAST-MODIFIED:20220120T141054Z
DESCRIPTION:4. Liga Herren Gruppe 3\nBegegnungs-Nr: 5\nHeim: Kirchberg III\nGast: Ittigen\n\nAdresse: Reinhardweg\, 3422 Kirchberg\n
LOCATION:Reinhardweg\, 3422 Kirchberg
CATEGORIES:Saison 2021/22
END:VEVENT
BEGIN:VEVENT
DTSTAMP:20260421T202220Z
DTSTART;TZID=Europe/Berlin:20211213T200000
DTEND;TZID=Europe/Berlin:20211213T230000
SUMMARY:HE 4. Liga Gr. 3 Köniz III vs Ittigen (4)
UID:7137004c-1ab1-4c50-a8cb-99670d45411f
STATUS:CONFIRMED
LAST-MODIFIED:20211216T090700Z
DESCRIPTION:4. Liga Herren Gruppe 3\nBegegnungs-Nr: 4\nHeim: Köniz III\nGast: Ittigen\n\nAdresse: Kirchstrasse 72-76\, 3084 Wabern\n
LOCATION:Kirchstrasse 72-76\, 3084 Wabern
CATEGORIES:Saison 2021/22
END:VEVENT
END:VCALENDAR
