BEGIN:VCALENDAR
PRODID:-//nuDatenautomaten//framework iCal4j //DE
VERSION:2.0
CALSCALE:GREGORIAN
BEGIN:VTIMEZONE
TZID:Europe/Berlin
LAST-MODIFIED:20260306T231828Z
TZURL:https://www.tzurl.org/zoneinfo/Europe/Berlin
X-LIC-LOCATION:Europe/Berlin
X-PROLEPTIC-TZNAME:LMT
BEGIN:STANDARD
TZNAME:CET
TZOFFSETFROM:+005328
TZOFFSETTO:+0100
DTSTART:18930401T000000
END:STANDARD
BEGIN:DAYLIGHT
TZNAME:CEST
TZOFFSETFROM:+0100
TZOFFSETTO:+0200
DTSTART:19160430T230000
RDATE:19400401T020000
RDATE:19430329T020000
RDATE:19460414T020000
RDATE:19470406T030000
RDATE:19480418T020000
RDATE:19490410T020000
RDATE:19800406T020000
END:DAYLIGHT
BEGIN:STANDARD
TZNAME:CET
TZOFFSETFROM:+0200
TZOFFSETTO:+0100
DTSTART:19161001T010000
RDATE:19421102T030000
RDATE:19431004T030000
RDATE:19441002T030000
RDATE:19451118T030000
RDATE:19461007T030000
END:STANDARD
BEGIN:DAYLIGHT
TZNAME:CEST
TZOFFSETFROM:+0100
TZOFFSETTO:+0200
DTSTART:19170416T020000
RRULE:FREQ=YEARLY;UNTIL=19180415T010000Z;BYMONTH=4;BYDAY=3MO
END:DAYLIGHT
BEGIN:STANDARD
TZNAME:CET
TZOFFSETFROM:+0200
TZOFFSETTO:+0100
DTSTART:19170917T030000
RRULE:FREQ=YEARLY;UNTIL=19180916T010000Z;BYMONTH=9;BYDAY=3MO
END:STANDARD
BEGIN:DAYLIGHT
TZNAME:CEST
TZOFFSETFROM:+0100
TZOFFSETTO:+0200
DTSTART:19440403T020000
RRULE:FREQ=YEARLY;UNTIL=19450402T010000Z;BYMONTH=4;BYDAY=1MO
END:DAYLIGHT
BEGIN:DAYLIGHT
TZNAME:CEMT
TZOFFSETFROM:+0200
TZOFFSETTO:+0300
DTSTART:19450524T020000
RDATE:19470511T030000
END:DAYLIGHT
BEGIN:DAYLIGHT
TZNAME:CEST
TZOFFSETFROM:+0300
TZOFFSETTO:+0200
DTSTART:19450924T030000
RDATE:19470629T030000
END:DAYLIGHT
BEGIN:STANDARD
TZNAME:CET
TZOFFSETFROM:+0100
TZOFFSETTO:+0100
DTSTART:19460101T000000
RDATE:19800101T000000
END:STANDARD
BEGIN:STANDARD
TZNAME:CET
TZOFFSETFROM:+0200
TZOFFSETTO:+0100
DTSTART:19471005T030000
RRULE:FREQ=YEARLY;UNTIL=19491002T010000Z;BYMONTH=10;BYDAY=1SU
END:STANDARD
BEGIN:STANDARD
TZNAME:CET
TZOFFSETFROM:+0200
TZOFFSETTO:+0100
DTSTART:19800928T030000
RRULE:FREQ=YEARLY;UNTIL=19950924T010000Z;BYMONTH=9;BYDAY=-1SU
END:STANDARD
BEGIN:DAYLIGHT
TZNAME:CEST
TZOFFSETFROM:+0100
TZOFFSETTO:+0200
DTSTART:19810329T020000
RRULE:FREQ=YEARLY;BYMONTH=3;BYDAY=-1SU
END:DAYLIGHT
BEGIN:STANDARD
TZNAME:CET
TZOFFSETFROM:+0200
TZOFFSETTO:+0100
DTSTART:19961027T030000
RRULE:FREQ=YEARLY;BYMONTH=10;BYDAY=-1SU
END:STANDARD
END:VTIMEZONE
BEGIN:VEVENT
DTSTAMP:20260421T202705Z
DTSTART;TZID=Europe/Berlin:20210908T193000
DTEND;TZID=Europe/Berlin:20210908T223000
SUMMARY:O40 2. Liga Ostermundigen vs Royal Bern (5)
UID:1c73a64e-495a-41c5-b44c-b057a71f8e47
STATUS:CONFIRMED
LAST-MODIFIED:20210913T221538Z
DESCRIPTION:2. Liga O40\nBegegnungs-Nr: 5\nHeim: Ostermundigen\nGast: Royal Bern\n\nAdresse: Dennigkofenweg 169\, 3072 Ostermundigen\n
LOCATION:Dennigkofenweg 169\, 3072 Ostermundigen
CATEGORIES:Saison 2021/22
END:VEVENT
BEGIN:VEVENT
DTSTAMP:20260421T202705Z
DTSTART;TZID=Europe/Berlin:20211210T193000
DTEND;TZID=Europe/Berlin:20211210T223000
SUMMARY:O40 2. Liga Ostermundigen vs Langnau (21)
UID:fa1aaa06-7bb3-46a7-887c-c5552033746e
STATUS:CONFIRMED
LAST-MODIFIED:20211212T210533Z
DESCRIPTION:2. Liga O40\nBegegnungs-Nr: 21\nHeim: Ostermundigen\nGast: Langnau\n\nAdresse: Dennigkofenweg 169\, 3072 Ostermundigen\n
LOCATION:Dennigkofenweg 169\, 3072 Ostermundigen
CATEGORIES:Saison 2021/22
END:VEVENT
BEGIN:VEVENT
DTSTAMP:20260421T202705Z
DTSTART;TZID=Europe/Berlin:20211109T201000
DTEND;TZID=Europe/Berlin:20211109T231000
SUMMARY:O40 2. Liga Ostermundigen vs Worb (10)
UID:faf43ac2-be89-419f-ae5f-780d984790b0
STATUS:CONFIRMED
LAST-MODIFIED:20211110T215051Z
DESCRIPTION:2. Liga O40\nBegegnungs-Nr: 10\nHeim: Ostermundigen\nGast: Worb\n\nAdresse: Dennigkofenweg 169\, 3072 Ostermundigen\n
LOCATION:Dennigkofenweg 169\, 3072 Ostermundigen
CATEGORIES:Saison 2021/22
END:VEVENT
BEGIN:VEVENT
DTSTAMP:20260421T202705Z
DTSTART;TZID=Europe/Berlin:20220204T193000
DTEND;TZID=Europe/Berlin:20220204T223000
SUMMARY:O40 2. Liga Ostermundigen vs Langenthal (9)
UID:ad688e63-fe75-4d39-9104-ec3af092efc0
STATUS:CONFIRMED
DESCRIPTION:2. Liga O40\nBegegnungs-Nr: 9\nHeim: Ostermundigen\nGast: Langenthal\n\nAdresse: Dennigkofenweg 169\, 3072 Ostermundigen\n
LOCATION:Dennigkofenweg 169\, 3072 Ostermundigen
CATEGORIES:Saison 2021/22
END:VEVENT
BEGIN:VEVENT
DTSTAMP:20260421T202705Z
DTSTART;TZID=Europe/Berlin:20220318T193000
DTEND;TZID=Europe/Berlin:20220318T223000
SUMMARY:O40 2. Liga Ostermundigen vs Münchenbuchsee (18)
UID:e939313c-981e-4adf-b3ee-0344cfd70633
STATUS:CONFIRMED
DESCRIPTION:2. Liga O40\nBegegnungs-Nr: 18\nHeim: Ostermundigen\nGast: Münchenbuchsee\n\nAdresse: Dennigkofenweg 169\, 3072 Ostermundigen\n
LOCATION:Dennigkofenweg 169\, 3072 Ostermundigen
CATEGORIES:Saison 2021/22
END:VEVENT
BEGIN:VEVENT
DTSTAMP:20260421T202705Z
DTSTART;TZID=Europe/Berlin:20211119T194500
DTEND;TZID=Europe/Berlin:20211119T224500
SUMMARY:O40 2. Liga Münchenbuchsee vs Ostermundigen (18)
UID:1b668579-5865-473b-98d6-68d57d17eb55
STATUS:CONFIRMED
LAST-MODIFIED:20211122T101542Z
DESCRIPTION:2. Liga O40\nBegegnungs-Nr: 18\nHeim: Münchenbuchsee\nGast: Ostermundigen\n\nAdresse: Laubbergweg 41\, 3053 Münchenbuchsee\n
LOCATION:Laubbergweg 41\, 3053 Münchenbuchsee
CATEGORIES:Saison 2021/22
END:VEVENT
BEGIN:VEVENT
DTSTAMP:20260421T202705Z
DTSTART;TZID=Europe/Berlin:20210827T194500
DTEND;TZID=Europe/Berlin:20210827T224500
SUMMARY:O40 2. Liga Port II vs Ostermundigen (2)
UID:9ca8e474-00f5-4fa8-bc26-ebd7c43c3aaf
STATUS:CONFIRMED
LAST-MODIFIED:20210829T142654Z
DESCRIPTION:2. Liga O40\nBegegnungs-Nr: 2\nHeim: Port II\nGast: Ostermundigen\n\nAdresse: Allmendstrasse 23\, 2562 Port\n
LOCATION:Allmendstrasse 23\, 2562 Port
CATEGORIES:Saison 2021/22
END:VEVENT
BEGIN:VEVENT
DTSTAMP:20260421T202705Z
DTSTART;TZID=Europe/Berlin:20220128T194500
DTEND;TZID=Europe/Berlin:20220128T224500
SUMMARY:O40 2. Liga Royal Bern vs Ostermundigen (5)
UID:5abb35ed-e46a-41b6-b899-9c9d2b7a1f73
STATUS:CONFIRMED
DESCRIPTION:2. Liga O40\nBegegnungs-Nr: 5\nHeim: Royal Bern\nGast: Ostermundigen\n\nAdresse: Dändlikerweg 60\, 3014 Bern\n
LOCATION:Dändlikerweg 60\, 3014 Bern
CATEGORIES:Saison 2021/22
END:VEVENT
BEGIN:VEVENT
DTSTAMP:20260421T202705Z
DTSTART;TZID=Europe/Berlin:20220218T200000
DTEND;TZID=Europe/Berlin:20220218T230000
SUMMARY:O40 2. Liga Worb vs Ostermundigen (10)
UID:a3873dee-6e98-4a23-ad64-f889d1199c0b
STATUS:CONFIRMED
DESCRIPTION:2. Liga O40\nBegegnungs-Nr: 10\nHeim: Worb\nGast: Ostermundigen\n\nAdresse: Rosenweg 9\, 3075 Rüfenacht BE\n
LOCATION:Rosenweg 9\, 3075 Rüfenacht BE
CATEGORIES:Saison 2021/22
END:VEVENT
BEGIN:VEVENT
DTSTAMP:20260421T202705Z
DTSTART;TZID=Europe/Berlin:20220402T140000
DTEND;TZID=Europe/Berlin:20220402T170000
SUMMARY:O40 2. Liga Langnau vs Ostermundigen (21)
UID:7ed64f75-0436-4497-9c12-ddeda4f00ee9
STATUS:CONFIRMED
DESCRIPTION:2. Liga O40\nBegegnungs-Nr: 21\nHeim: Langnau\nGast: Ostermundigen\n\nAdresse: Bleicheweg 11\, 3550 Langnau\n
LOCATION:Bleicheweg 11\, 3550 Langnau
CATEGORIES:Saison 2021/22
END:VEVENT
BEGIN:VEVENT
DTSTAMP:20260421T202705Z
DTSTART;TZID=Europe/Berlin:20211025T200000
DTEND;TZID=Europe/Berlin:20211025T230000
SUMMARY:O40 2. Liga Langenthal vs Ostermundigen (9)
UID:d45b9a53-e867-45ba-8ea0-77b883554ad0
STATUS:CONFIRMED
LAST-MODIFIED:20211026T201854Z
DESCRIPTION:2. Liga O40\nBegegnungs-Nr: 9\nHeim: Langenthal\nGast: Ostermundigen\n\nAdresse: Weststrasse 29\, 4900 Langenthal\n
LOCATION:Weststrasse 29\, 4900 Langenthal
CATEGORIES:Saison 2021/22
END:VEVENT
END:VCALENDAR
