BEGIN:VCALENDAR
PRODID:-//nuDatenautomaten//framework iCal4j //DE
VERSION:2.0
CALSCALE:GREGORIAN
BEGIN:VTIMEZONE
TZID:Europe/Berlin
LAST-MODIFIED:20260306T231828Z
TZURL:https://www.tzurl.org/zoneinfo/Europe/Berlin
X-LIC-LOCATION:Europe/Berlin
X-PROLEPTIC-TZNAME:LMT
BEGIN:STANDARD
TZNAME:CET
TZOFFSETFROM:+005328
TZOFFSETTO:+0100
DTSTART:18930401T000000
END:STANDARD
BEGIN:DAYLIGHT
TZNAME:CEST
TZOFFSETFROM:+0100
TZOFFSETTO:+0200
DTSTART:19160430T230000
RDATE:19400401T020000
RDATE:19430329T020000
RDATE:19460414T020000
RDATE:19470406T030000
RDATE:19480418T020000
RDATE:19490410T020000
RDATE:19800406T020000
END:DAYLIGHT
BEGIN:STANDARD
TZNAME:CET
TZOFFSETFROM:+0200
TZOFFSETTO:+0100
DTSTART:19161001T010000
RDATE:19421102T030000
RDATE:19431004T030000
RDATE:19441002T030000
RDATE:19451118T030000
RDATE:19461007T030000
END:STANDARD
BEGIN:DAYLIGHT
TZNAME:CEST
TZOFFSETFROM:+0100
TZOFFSETTO:+0200
DTSTART:19170416T020000
RRULE:FREQ=YEARLY;UNTIL=19180415T010000Z;BYMONTH=4;BYDAY=3MO
END:DAYLIGHT
BEGIN:STANDARD
TZNAME:CET
TZOFFSETFROM:+0200
TZOFFSETTO:+0100
DTSTART:19170917T030000
RRULE:FREQ=YEARLY;UNTIL=19180916T010000Z;BYMONTH=9;BYDAY=3MO
END:STANDARD
BEGIN:DAYLIGHT
TZNAME:CEST
TZOFFSETFROM:+0100
TZOFFSETTO:+0200
DTSTART:19440403T020000
RRULE:FREQ=YEARLY;UNTIL=19450402T010000Z;BYMONTH=4;BYDAY=1MO
END:DAYLIGHT
BEGIN:DAYLIGHT
TZNAME:CEMT
TZOFFSETFROM:+0200
TZOFFSETTO:+0300
DTSTART:19450524T020000
RDATE:19470511T030000
END:DAYLIGHT
BEGIN:DAYLIGHT
TZNAME:CEST
TZOFFSETFROM:+0300
TZOFFSETTO:+0200
DTSTART:19450924T030000
RDATE:19470629T030000
END:DAYLIGHT
BEGIN:STANDARD
TZNAME:CET
TZOFFSETFROM:+0100
TZOFFSETTO:+0100
DTSTART:19460101T000000
RDATE:19800101T000000
END:STANDARD
BEGIN:STANDARD
TZNAME:CET
TZOFFSETFROM:+0200
TZOFFSETTO:+0100
DTSTART:19471005T030000
RRULE:FREQ=YEARLY;UNTIL=19491002T010000Z;BYMONTH=10;BYDAY=1SU
END:STANDARD
BEGIN:STANDARD
TZNAME:CET
TZOFFSETFROM:+0200
TZOFFSETTO:+0100
DTSTART:19800928T030000
RRULE:FREQ=YEARLY;UNTIL=19950924T010000Z;BYMONTH=9;BYDAY=-1SU
END:STANDARD
BEGIN:DAYLIGHT
TZNAME:CEST
TZOFFSETFROM:+0100
TZOFFSETTO:+0200
DTSTART:19810329T020000
RRULE:FREQ=YEARLY;BYMONTH=3;BYDAY=-1SU
END:DAYLIGHT
BEGIN:STANDARD
TZNAME:CET
TZOFFSETFROM:+0200
TZOFFSETTO:+0100
DTSTART:19961027T030000
RRULE:FREQ=YEARLY;BYMONTH=10;BYDAY=-1SU
END:STANDARD
END:VTIMEZONE
BEGIN:VEVENT
DTSTAMP:20260419T231427Z
DTSTART;TZID=Europe/Berlin:20211104T200000
DTEND;TZID=Europe/Berlin:20211104T230000
SUMMARY:HE 5.Liga Gr.3 Embrach III vs Weinfelden II (0)
UID:5ca9efa5-9b98-4c7f-a7e6-e2d77d197d40
STATUS:CONFIRMED
LAST-MODIFIED:20211108T095318Z
DESCRIPTION:5. Liga Herren Gruppe 3\nBegegnungs-Nr: 0\nHeim: Embrach III\nGast: Weinfelden II\n\nAdresse: Schützenhausstrasse 20\, 8424 Embrach\n
LOCATION:Schützenhausstrasse 20\, 8424 Embrach
CATEGORIES:Saison 2021/22
END:VEVENT
BEGIN:VEVENT
DTSTAMP:20260419T231427Z
DTSTART;TZID=Europe/Berlin:20210923T200000
DTEND;TZID=Europe/Berlin:20210923T230000
SUMMARY:HE 5.Liga Gr.3 Embrach III vs Frauenfeld II (0)
UID:f4931f12-ce5e-47f8-80ec-8b938001031a
STATUS:CONFIRMED
LAST-MODIFIED:20210927T082316Z
DESCRIPTION:5. Liga Herren Gruppe 3\nBegegnungs-Nr: 0\nHeim: Embrach III\nGast: Frauenfeld II\n\nAdresse: Schützenhausstrasse 20\, 8424 Embrach\n
LOCATION:Schützenhausstrasse 20\, 8424 Embrach
CATEGORIES:Saison 2021/22
END:VEVENT
BEGIN:VEVENT
DTSTAMP:20260419T231427Z
DTSTART;TZID=Europe/Berlin:20210902T200000
DTEND;TZID=Europe/Berlin:20210902T230000
SUMMARY:HE 5.Liga Gr.3 Embrach III vs Schaffhausen (0)
UID:974199d5-65b5-46ad-8c01-c0a244e6050f
STATUS:CONFIRMED
LAST-MODIFIED:20210907T143729Z
DESCRIPTION:5. Liga Herren Gruppe 3\nBegegnungs-Nr: 0\nHeim: Embrach III\nGast: Schaffhausen\n\nAdresse: Schützenhausstrasse 20\, 8424 Embrach\n
LOCATION:Schützenhausstrasse 20\, 8424 Embrach
CATEGORIES:Saison 2021/22
END:VEVENT
BEGIN:VEVENT
DTSTAMP:20260419T231427Z
DTSTART;TZID=Europe/Berlin:20220224T200000
DTEND;TZID=Europe/Berlin:20220224T230000
SUMMARY:HE 5.Liga Gr.3 Embrach III vs Steckborn-Homburg III (0)
UID:0f6c740c-70d7-40ac-96a7-17730dd83d5d
STATUS:CONFIRMED
LAST-MODIFIED:20220301T075613Z
DESCRIPTION:5. Liga Herren Gruppe 3\nBegegnungs-Nr: 0\nHeim: Embrach III\nGast: Steckborn-Homburg III\n\nAdresse: Schützenhausstrasse 20\, 8424 Embrach\n
LOCATION:Schützenhausstrasse 20\, 8424 Embrach
CATEGORIES:Saison 2021/22
END:VEVENT
BEGIN:VEVENT
DTSTAMP:20260419T231427Z
DTSTART;TZID=Europe/Berlin:20220113T200000
DTEND;TZID=Europe/Berlin:20220113T230000
SUMMARY:HE 5.Liga Gr.3 Embrach III vs Imperial Winterthur II (0)
UID:367cc037-3e13-4b44-9529-8a12c206b506
STATUS:CONFIRMED
LAST-MODIFIED:20220118T111622Z
DESCRIPTION:5. Liga Herren Gruppe 3\nBegegnungs-Nr: 0\nHeim: Embrach III\nGast: Imperial Winterthur II\n\nAdresse: Schützenhausstrasse 20\, 8424 Embrach\n
LOCATION:Schützenhausstrasse 20\, 8424 Embrach
CATEGORIES:Saison 2021/22
END:VEVENT
BEGIN:VEVENT
DTSTAMP:20260419T231427Z
DTSTART;TZID=Europe/Berlin:20220331T200000
DTEND;TZID=Europe/Berlin:20220331T230000
SUMMARY:HE 5.Liga Gr.3 Embrach III vs Winterthur V (0)
UID:042d9bdf-9b05-44db-9c26-3582c9fa8d4f
STATUS:CONFIRMED
LAST-MODIFIED:20220401T100924Z
DESCRIPTION:5. Liga Herren Gruppe 3\nBegegnungs-Nr: 0\nHeim: Embrach III\nGast: Winterthur V\n\nAdresse: Schützenhausstrasse 20\, 8424 Embrach\n
LOCATION:Schützenhausstrasse 20\, 8424 Embrach
CATEGORIES:Saison 2021/22
END:VEVENT
BEGIN:VEVENT
DTSTAMP:20260419T231427Z
DTSTART;TZID=Europe/Berlin:20220317T200000
DTEND;TZID=Europe/Berlin:20220317T230000
SUMMARY:HE 5.Liga Gr.3 Embrach III vs Kreuzlingen II (0)
UID:6fa8803c-41c5-45e0-8106-1244a948307d
STATUS:CONFIRMED
LAST-MODIFIED:20220110T123149Z
DESCRIPTION:5. Liga Herren Gruppe 3\nBegegnungs-Nr: 0\nHeim: Embrach III\nGast: Kreuzlingen II\n\nAdresse: Schützenhausstrasse 20\, 8424 Embrach\n
LOCATION:Schützenhausstrasse 20\, 8424 Embrach
CATEGORIES:Saison 2021/22
END:VEVENT
BEGIN:VEVENT
DTSTAMP:20260419T231427Z
DTSTART;TZID=Europe/Berlin:20211203T200000
DTEND;TZID=Europe/Berlin:20211203T230000
SUMMARY:HE 5.Liga Gr.3 Winterthur V vs Embrach III (0)
UID:8ee4c75d-59f3-43fc-b56b-b7bd0f592a06
STATUS:CONFIRMED
LAST-MODIFIED:20211214T102449Z
DESCRIPTION:5. Liga Herren Gruppe 3\nBegegnungs-Nr: 0\nHeim: Winterthur V\nGast: Embrach III\n\nAdresse: Buchackerstrasse 54\, 8400 Winterthur\n
LOCATION:Buchackerstrasse 54\, 8400 Winterthur
CATEGORIES:Saison 2021/22
END:VEVENT
BEGIN:VEVENT
DTSTAMP:20260419T231427Z
DTSTART;TZID=Europe/Berlin:20211110T194500
DTEND;TZID=Europe/Berlin:20211110T224500
SUMMARY:HE 5.Liga Gr.3 Kreuzlingen II vs Embrach III (0)
UID:dc09e227-2891-4725-a14f-9e9d139cfb6b
STATUS:CONFIRMED
LAST-MODIFIED:20211111T092214Z
DESCRIPTION:5. Liga Herren Gruppe 3\nBegegnungs-Nr: 0\nHeim: Kreuzlingen II\nGast: Embrach III\n\nAdresse: Rothausstrasse 14\, 8280 Kreuzlingen\n
LOCATION:Rothausstrasse 14\, 8280 Kreuzlingen
CATEGORIES:Saison 2021/22
END:VEVENT
BEGIN:VEVENT
DTSTAMP:20260419T231427Z
DTSTART;TZID=Europe/Berlin:20210929T201500
DTEND;TZID=Europe/Berlin:20210929T231500
SUMMARY:HE 5.Liga Gr.3 Steckborn-Homburg III vs Embrach III (0)
UID:6ec3519a-d0ec-43d1-bb7d-c46150d16406
STATUS:CONFIRMED
LAST-MODIFIED:20211004T120454Z
DESCRIPTION:5. Liga Herren Gruppe 3\nBegegnungs-Nr: 0\nHeim: Steckborn-Homburg III\nGast: Embrach III\n\nAdresse: Schulstrasse 4\, 8508 Unterhörstetten\n
LOCATION:Schulstrasse 4\, 8508 Unterhörstetten
CATEGORIES:Saison 2021/22
END:VEVENT
BEGIN:VEVENT
DTSTAMP:20260419T231427Z
DTSTART;TZID=Europe/Berlin:20210906T200000
DTEND;TZID=Europe/Berlin:20210906T230000
SUMMARY:HE 5.Liga Gr.3 Imperial Winterthur II vs Embrach III (0)
UID:2ea5adff-ba3e-4035-96cf-09cb9659f34c
STATUS:CONFIRMED
LAST-MODIFIED:20210907T143810Z
DESCRIPTION:5. Liga Herren Gruppe 3\nBegegnungs-Nr: 0\nHeim: Imperial Winterthur II\nGast: Embrach III\n\nAdresse: Büelhofstrasse 25a\, 8405 Winterthur\n
LOCATION:Büelhofstrasse 25a\, 8405 Winterthur
CATEGORIES:Saison 2021/22
END:VEVENT
BEGIN:VEVENT
DTSTAMP:20260419T231427Z
DTSTART;TZID=Europe/Berlin:20220127T200000
DTEND;TZID=Europe/Berlin:20220127T230000
SUMMARY:HE 5.Liga Gr.3 Frauenfeld II vs Embrach III (0)
UID:885b6441-d385-423f-b4c4-286b6852db3c
STATUS:CONFIRMED
LAST-MODIFIED:20220131T065657Z
DESCRIPTION:5. Liga Herren Gruppe 3\nBegegnungs-Nr: 0\nHeim: Frauenfeld II\nGast: Embrach III\n\nAdresse: Scheuchenstrasse\, 8500 Frauenfeld\n
LOCATION:Scheuchenstrasse\, 8500 Frauenfeld
CATEGORIES:Saison 2021/22
END:VEVENT
BEGIN:VEVENT
DTSTAMP:20260419T231427Z
DTSTART;TZID=Europe/Berlin:20220103T193000
DTEND;TZID=Europe/Berlin:20220103T223000
SUMMARY:HE 5.Liga Gr.3 Schaffhausen vs Embrach III (0)
UID:f192f68b-6d3a-47e3-98e1-8cbb90874057
STATUS:CONFIRMED
LAST-MODIFIED:20220104T072330Z
DESCRIPTION:5. Liga Herren Gruppe 3\nBegegnungs-Nr: 0\nHeim: Schaffhausen\nGast: Embrach III\n\nAdresse: Grünaustieg 30\, 8200 Schaffhausen\n
LOCATION:Grünaustieg 30\, 8200 Schaffhausen
CATEGORIES:Saison 2021/22
END:VEVENT
BEGIN:VEVENT
DTSTAMP:20260419T231427Z
DTSTART;TZID=Europe/Berlin:20220308T201500
DTEND;TZID=Europe/Berlin:20220308T231500
SUMMARY:HE 5.Liga Gr.3 Weinfelden II vs Embrach III (0)
UID:c344ae4b-9528-4468-8bce-6724a7e64462
STATUS:CONFIRMED
LAST-MODIFIED:20220311T083128Z
DESCRIPTION:5. Liga Herren Gruppe 3\nBegegnungs-Nr: 0\nHeim: Weinfelden II\nGast: Embrach III\n\nAdresse: Bleichestrasse 3 (neben Hallenbad)\, 8570 Weinfelden\n
LOCATION:Bleichestrasse 3 (neben Hallenbad)\, 8570 Weinfelden
CATEGORIES:Saison 2021/22
END:VEVENT
END:VCALENDAR
