BEGIN:VCALENDAR
PRODID:-//nuDatenautomaten//framework iCal4j //DE
VERSION:2.0
CALSCALE:GREGORIAN
BEGIN:VTIMEZONE
TZID:Europe/Berlin
LAST-MODIFIED:20260306T231828Z
TZURL:https://www.tzurl.org/zoneinfo/Europe/Berlin
X-LIC-LOCATION:Europe/Berlin
X-PROLEPTIC-TZNAME:LMT
BEGIN:STANDARD
TZNAME:CET
TZOFFSETFROM:+005328
TZOFFSETTO:+0100
DTSTART:18930401T000000
END:STANDARD
BEGIN:DAYLIGHT
TZNAME:CEST
TZOFFSETFROM:+0100
TZOFFSETTO:+0200
DTSTART:19160430T230000
RDATE:19400401T020000
RDATE:19430329T020000
RDATE:19460414T020000
RDATE:19470406T030000
RDATE:19480418T020000
RDATE:19490410T020000
RDATE:19800406T020000
END:DAYLIGHT
BEGIN:STANDARD
TZNAME:CET
TZOFFSETFROM:+0200
TZOFFSETTO:+0100
DTSTART:19161001T010000
RDATE:19421102T030000
RDATE:19431004T030000
RDATE:19441002T030000
RDATE:19451118T030000
RDATE:19461007T030000
END:STANDARD
BEGIN:DAYLIGHT
TZNAME:CEST
TZOFFSETFROM:+0100
TZOFFSETTO:+0200
DTSTART:19170416T020000
RRULE:FREQ=YEARLY;UNTIL=19180415T010000Z;BYMONTH=4;BYDAY=3MO
END:DAYLIGHT
BEGIN:STANDARD
TZNAME:CET
TZOFFSETFROM:+0200
TZOFFSETTO:+0100
DTSTART:19170917T030000
RRULE:FREQ=YEARLY;UNTIL=19180916T010000Z;BYMONTH=9;BYDAY=3MO
END:STANDARD
BEGIN:DAYLIGHT
TZNAME:CEST
TZOFFSETFROM:+0100
TZOFFSETTO:+0200
DTSTART:19440403T020000
RRULE:FREQ=YEARLY;UNTIL=19450402T010000Z;BYMONTH=4;BYDAY=1MO
END:DAYLIGHT
BEGIN:DAYLIGHT
TZNAME:CEMT
TZOFFSETFROM:+0200
TZOFFSETTO:+0300
DTSTART:19450524T020000
RDATE:19470511T030000
END:DAYLIGHT
BEGIN:DAYLIGHT
TZNAME:CEST
TZOFFSETFROM:+0300
TZOFFSETTO:+0200
DTSTART:19450924T030000
RDATE:19470629T030000
END:DAYLIGHT
BEGIN:STANDARD
TZNAME:CET
TZOFFSETFROM:+0100
TZOFFSETTO:+0100
DTSTART:19460101T000000
RDATE:19800101T000000
END:STANDARD
BEGIN:STANDARD
TZNAME:CET
TZOFFSETFROM:+0200
TZOFFSETTO:+0100
DTSTART:19471005T030000
RRULE:FREQ=YEARLY;UNTIL=19491002T010000Z;BYMONTH=10;BYDAY=1SU
END:STANDARD
BEGIN:STANDARD
TZNAME:CET
TZOFFSETFROM:+0200
TZOFFSETTO:+0100
DTSTART:19800928T030000
RRULE:FREQ=YEARLY;UNTIL=19950924T010000Z;BYMONTH=9;BYDAY=-1SU
END:STANDARD
BEGIN:DAYLIGHT
TZNAME:CEST
TZOFFSETFROM:+0100
TZOFFSETTO:+0200
DTSTART:19810329T020000
RRULE:FREQ=YEARLY;BYMONTH=3;BYDAY=-1SU
END:DAYLIGHT
BEGIN:STANDARD
TZNAME:CET
TZOFFSETFROM:+0200
TZOFFSETTO:+0100
DTSTART:19961027T030000
RRULE:FREQ=YEARLY;BYMONTH=10;BYDAY=-1SU
END:STANDARD
END:VTIMEZONE
BEGIN:VEVENT
DTSTAMP:20260419T231337Z
DTSTART;TZID=Europe/Berlin:20211211T140000
DTEND;TZID=Europe/Berlin:20211211T170000
SUMMARY:O40 3.Liga Gr.1 Ettenhausen vs Wallenwil (0)
UID:27bcbc39-054e-4f1e-9715-4bd5c1627baa
STATUS:CONFIRMED
LAST-MODIFIED:20211214T133743Z
DESCRIPTION:3. Liga O40 Gruppe 1\nBegegnungs-Nr: 0\nHeim: Ettenhausen\nGast: Wallenwil\n\nAdresse: Weidlistrasse 12\, 8356 Ettenhausen\n
LOCATION:Weidlistrasse 12\, 8356 Ettenhausen
CATEGORIES:Saison 2021/22
END:VEVENT
BEGIN:VEVENT
DTSTAMP:20260419T231337Z
DTSTART;TZID=Europe/Berlin:20211016T113000
DTEND;TZID=Europe/Berlin:20211016T143000
SUMMARY:O40 3.Liga Gr.1 Ettenhausen vs Gaiserwald II (0)
UID:e434d9dc-ec14-4d0b-91d1-d347c0ed4c46
STATUS:CONFIRMED
LAST-MODIFIED:20211018T074528Z
DESCRIPTION:3. Liga O40 Gruppe 1\nBegegnungs-Nr: 0\nHeim: Ettenhausen\nGast: Gaiserwald II\n\nAdresse: Weidlistrasse 12\, 8356 Ettenhausen\n
LOCATION:Weidlistrasse 12\, 8356 Ettenhausen
CATEGORIES:Saison 2021/22
END:VEVENT
BEGIN:VEVENT
DTSTAMP:20260419T231337Z
DTSTART;TZID=Europe/Berlin:20220423T140000
DTEND;TZID=Europe/Berlin:20220423T170000
SUMMARY:O40 3.Liga Gr.1 Ettenhausen vs Rorschach (0)
UID:120c6fa5-256f-4bdf-812a-ff92e387f5d0
STATUS:CONFIRMED
LAST-MODIFIED:20220426T115500Z
DESCRIPTION:3. Liga O40 Gruppe 1\nBegegnungs-Nr: 0\nHeim: Ettenhausen\nGast: Rorschach\n\nAdresse: Weidlistrasse 12\, 8356 Ettenhausen\n
LOCATION:Weidlistrasse 12\, 8356 Ettenhausen
CATEGORIES:Saison 2021/22
END:VEVENT
BEGIN:VEVENT
DTSTAMP:20260419T231337Z
DTSTART;TZID=Europe/Berlin:20210918T140000
DTEND;TZID=Europe/Berlin:20210918T170000
SUMMARY:O40 3.Liga Gr.1 Ettenhausen vs Gossau St.Gallen (0)
UID:187c94dc-da8b-4f83-96d6-c1a23298dd26
STATUS:CONFIRMED
LAST-MODIFIED:20210920T054057Z
DESCRIPTION:3. Liga O40 Gruppe 1\nBegegnungs-Nr: 0\nHeim: Ettenhausen\nGast: Gossau St.Gallen\n\nAdresse: Weidlistrasse 12\, 8356 Ettenhausen\n
LOCATION:Weidlistrasse 12\, 8356 Ettenhausen
CATEGORIES:Saison 2021/22
END:VEVENT
BEGIN:VEVENT
DTSTAMP:20260419T231337Z
DTSTART;TZID=Europe/Berlin:20220326T140000
DTEND;TZID=Europe/Berlin:20220326T170000
SUMMARY:O40 3.Liga Gr.1 Ettenhausen vs St. Gallen II (0)
UID:fff7cb22-6179-48bf-bc6e-4634e0970f97
STATUS:CONFIRMED
LAST-MODIFIED:20220330T084958Z
DESCRIPTION:3. Liga O40 Gruppe 1\nBegegnungs-Nr: 0\nHeim: Ettenhausen\nGast: St. Gallen II\n\nAdresse: Weidlistrasse 12\, 8356 Ettenhausen\n
LOCATION:Weidlistrasse 12\, 8356 Ettenhausen
CATEGORIES:Saison 2021/22
END:VEVENT
BEGIN:VEVENT
DTSTAMP:20260419T231337Z
DTSTART;TZID=Europe/Berlin:20220212T140000
DTEND;TZID=Europe/Berlin:20220212T170000
SUMMARY:O40 3.Liga Gr.1 Ettenhausen vs Wuppenau (0)
UID:9fa7a27a-aa85-4ca0-a6db-3d3febc1fdcb
STATUS:CONFIRMED
LAST-MODIFIED:20220214T164933Z
DESCRIPTION:3. Liga O40 Gruppe 1\nBegegnungs-Nr: 0\nHeim: Ettenhausen\nGast: Wuppenau\n\nAdresse: Weidlistrasse 12\, 8356 Ettenhausen\n
LOCATION:Weidlistrasse 12\, 8356 Ettenhausen
CATEGORIES:Saison 2021/22
END:VEVENT
BEGIN:VEVENT
DTSTAMP:20260419T231337Z
DTSTART;TZID=Europe/Berlin:20211217T200000
DTEND;TZID=Europe/Berlin:20211217T230000
SUMMARY:O40 3.Liga Gr.1 Rorschach vs Ettenhausen (0)
UID:006d04e3-c58d-4d97-868d-3bd2f2d7953a
STATUS:CONFIRMED
LAST-MODIFIED:20211222T153941Z
DESCRIPTION:3. Liga O40 Gruppe 1\nBegegnungs-Nr: 0\nHeim: Rorschach\nGast: Ettenhausen\n\nAdresse: Mariabergstrasse 33\, 9400 Rorschach\n
LOCATION:Mariabergstrasse 33\, 9400 Rorschach
CATEGORIES:Saison 2021/22
END:VEVENT
BEGIN:VEVENT
DTSTAMP:20260419T231337Z
DTSTART;TZID=Europe/Berlin:20211123T200000
DTEND;TZID=Europe/Berlin:20211123T230000
SUMMARY:O40 3.Liga Gr.1 St. Gallen II vs Ettenhausen (0)
UID:2d43a029-5132-4096-b8e2-5e1fa30c9f62
STATUS:CONFIRMED
LAST-MODIFIED:20211201T152303Z
DESCRIPTION:3. Liga O40 Gruppe 1\nBegegnungs-Nr: 0\nHeim: St. Gallen II\nGast: Ettenhausen\n\nAdresse: Zilstrasse 61\, 9016 St.Gallen\n
LOCATION:Zilstrasse 61\, 9016 St.Gallen
CATEGORIES:Saison 2021/22
END:VEVENT
BEGIN:VEVENT
DTSTAMP:20260419T231337Z
DTSTART;TZID=Europe/Berlin:20210823T201500
DTEND;TZID=Europe/Berlin:20210823T231500
SUMMARY:O40 3.Liga Gr.1 Wuppenau vs Ettenhausen (0)
UID:3a4f9233-d2e8-4323-878d-c37de04a02a7
STATUS:CONFIRMED
LAST-MODIFIED:20210824T071924Z
DESCRIPTION:3. Liga O40 Gruppe 1\nBegegnungs-Nr: 0\nHeim: Wuppenau\nGast: Ettenhausen\n\nAdresse: Nollenstrasse\, 9514 Wuppenau\n
LOCATION:Nollenstrasse\, 9514 Wuppenau
CATEGORIES:Saison 2021/22
END:VEVENT
BEGIN:VEVENT
DTSTAMP:20260419T231337Z
DTSTART;TZID=Europe/Berlin:20220210T201500
DTEND;TZID=Europe/Berlin:20220210T231500
SUMMARY:O40 3.Liga Gr.1 Wallenwil vs Ettenhausen (0)
UID:0af474a6-45e7-4810-b784-ef1f81fb3084
STATUS:CONFIRMED
LAST-MODIFIED:20220214T164853Z
DESCRIPTION:3. Liga O40 Gruppe 1\nBegegnungs-Nr: 0\nHeim: Wallenwil\nGast: Ettenhausen\n\nAdresse: Stationsstrasse 29\, 8360 Wallenwil\n
LOCATION:Stationsstrasse 29\, 8360 Wallenwil
CATEGORIES:Saison 2021/22
END:VEVENT
BEGIN:VEVENT
DTSTAMP:20260419T231337Z
DTSTART;TZID=Europe/Berlin:20220407T200000
DTEND;TZID=Europe/Berlin:20220407T230000
SUMMARY:O40 3.Liga Gr.1 Gossau St.Gallen vs Ettenhausen (0)
UID:bd79309f-7f27-4846-90da-bd0bf518a621
STATUS:CONFIRMED
LAST-MODIFIED:20220411T052600Z
DESCRIPTION:3. Liga O40 Gruppe 1\nBegegnungs-Nr: 0\nHeim: Gossau St.Gallen\nGast: Ettenhausen\n\nAdresse: Falkenstrasse 21\, 9200 Gossau\n
LOCATION:Falkenstrasse 21\, 9200 Gossau
CATEGORIES:Saison 2021/22
END:VEVENT
BEGIN:VEVENT
DTSTAMP:20260419T231337Z
DTSTART;TZID=Europe/Berlin:20220120T200000
DTEND;TZID=Europe/Berlin:20220120T230000
SUMMARY:O40 3.Liga Gr.1 Gaiserwald II vs Ettenhausen (0)
UID:0c705c3e-9161-4dad-bcce-ae534181667f
STATUS:CONFIRMED
LAST-MODIFIED:20220121T125105Z
DESCRIPTION:3. Liga O40 Gruppe 1\nBegegnungs-Nr: 0\nHeim: Gaiserwald II\nGast: Ettenhausen\n\nAdresse: Sonnenbergstrasse 15\, 9030 Abtwil\n
LOCATION:Sonnenbergstrasse 15\, 9030 Abtwil
CATEGORIES:Saison 2021/22
END:VEVENT
END:VCALENDAR
