BEGIN:VCALENDAR
PRODID:-//nuDatenautomaten//framework iCal4j //DE
VERSION:2.0
CALSCALE:GREGORIAN
BEGIN:VTIMEZONE
TZID:Europe/Berlin
LAST-MODIFIED:20260306T231828Z
TZURL:https://www.tzurl.org/zoneinfo/Europe/Berlin
X-LIC-LOCATION:Europe/Berlin
X-PROLEPTIC-TZNAME:LMT
BEGIN:STANDARD
TZNAME:CET
TZOFFSETFROM:+005328
TZOFFSETTO:+0100
DTSTART:18930401T000000
END:STANDARD
BEGIN:DAYLIGHT
TZNAME:CEST
TZOFFSETFROM:+0100
TZOFFSETTO:+0200
DTSTART:19160430T230000
RDATE:19400401T020000
RDATE:19430329T020000
RDATE:19460414T020000
RDATE:19470406T030000
RDATE:19480418T020000
RDATE:19490410T020000
RDATE:19800406T020000
END:DAYLIGHT
BEGIN:STANDARD
TZNAME:CET
TZOFFSETFROM:+0200
TZOFFSETTO:+0100
DTSTART:19161001T010000
RDATE:19421102T030000
RDATE:19431004T030000
RDATE:19441002T030000
RDATE:19451118T030000
RDATE:19461007T030000
END:STANDARD
BEGIN:DAYLIGHT
TZNAME:CEST
TZOFFSETFROM:+0100
TZOFFSETTO:+0200
DTSTART:19170416T020000
RRULE:FREQ=YEARLY;UNTIL=19180415T010000Z;BYMONTH=4;BYDAY=3MO
END:DAYLIGHT
BEGIN:STANDARD
TZNAME:CET
TZOFFSETFROM:+0200
TZOFFSETTO:+0100
DTSTART:19170917T030000
RRULE:FREQ=YEARLY;UNTIL=19180916T010000Z;BYMONTH=9;BYDAY=3MO
END:STANDARD
BEGIN:DAYLIGHT
TZNAME:CEST
TZOFFSETFROM:+0100
TZOFFSETTO:+0200
DTSTART:19440403T020000
RRULE:FREQ=YEARLY;UNTIL=19450402T010000Z;BYMONTH=4;BYDAY=1MO
END:DAYLIGHT
BEGIN:DAYLIGHT
TZNAME:CEMT
TZOFFSETFROM:+0200
TZOFFSETTO:+0300
DTSTART:19450524T020000
RDATE:19470511T030000
END:DAYLIGHT
BEGIN:DAYLIGHT
TZNAME:CEST
TZOFFSETFROM:+0300
TZOFFSETTO:+0200
DTSTART:19450924T030000
RDATE:19470629T030000
END:DAYLIGHT
BEGIN:STANDARD
TZNAME:CET
TZOFFSETFROM:+0100
TZOFFSETTO:+0100
DTSTART:19460101T000000
RDATE:19800101T000000
END:STANDARD
BEGIN:STANDARD
TZNAME:CET
TZOFFSETFROM:+0200
TZOFFSETTO:+0100
DTSTART:19471005T030000
RRULE:FREQ=YEARLY;UNTIL=19491002T010000Z;BYMONTH=10;BYDAY=1SU
END:STANDARD
BEGIN:STANDARD
TZNAME:CET
TZOFFSETFROM:+0200
TZOFFSETTO:+0100
DTSTART:19800928T030000
RRULE:FREQ=YEARLY;UNTIL=19950924T010000Z;BYMONTH=9;BYDAY=-1SU
END:STANDARD
BEGIN:DAYLIGHT
TZNAME:CEST
TZOFFSETFROM:+0100
TZOFFSETTO:+0200
DTSTART:19810329T020000
RRULE:FREQ=YEARLY;BYMONTH=3;BYDAY=-1SU
END:DAYLIGHT
BEGIN:STANDARD
TZNAME:CET
TZOFFSETFROM:+0200
TZOFFSETTO:+0100
DTSTART:19961027T030000
RRULE:FREQ=YEARLY;BYMONTH=10;BYDAY=-1SU
END:STANDARD
END:VTIMEZONE
BEGIN:VEVENT
DTSTAMP:20260421T202307Z
DTSTART;TZID=Europe/Berlin:20211210T200000
DTEND;TZID=Europe/Berlin:20211210T230000
SUMMARY:HE 5. Liga Gr. 1 Münsingen IV vs Ostermundigen VI (25)
UID:462115ee-7adc-4b64-9789-fa23fceb170c
STATUS:CONFIRMED
LAST-MODIFIED:20211212T210138Z
DESCRIPTION:5. Liga Herren Gruppe 1\nBegegnungs-Nr: 25\nHeim: Münsingen IV\nGast: Ostermundigen VI\n\nAdresse: Turnhallenweg 8\, 3110 Münsingen\n
LOCATION:Turnhallenweg 8\, 3110 Münsingen
CATEGORIES:Saison 2021/22
END:VEVENT
BEGIN:VEVENT
DTSTAMP:20260421T202307Z
DTSTART;TZID=Europe/Berlin:20210827T200000
DTEND;TZID=Europe/Berlin:20210827T230000
SUMMARY:HE 5. Liga Gr. 1 Münsingen IV vs Belp IV (1)
UID:1ad0b311-da7b-48ee-a72c-64977e252ed6
STATUS:CONFIRMED
LAST-MODIFIED:20210829T142620Z
DESCRIPTION:5. Liga Herren Gruppe 1\nBegegnungs-Nr: 1\nHeim: Münsingen IV\nGast: Belp IV\n\nAdresse: Turnhallenweg 8\, 3110 Münsingen\n
LOCATION:Turnhallenweg 8\, 3110 Münsingen
CATEGORIES:Saison 2021/22
END:VEVENT
BEGIN:VEVENT
DTSTAMP:20260421T202307Z
DTSTART;TZID=Europe/Berlin:20211015T200000
DTEND;TZID=Europe/Berlin:20211015T230000
SUMMARY:HE 5. Liga Gr. 1 Münsingen IV vs Thun VII (9)
UID:b0e33ab4-d6fe-4036-8246-a6781a7c8011
STATUS:CONFIRMED
LAST-MODIFIED:20211016T055951Z
DESCRIPTION:5. Liga Herren Gruppe 1\nBegegnungs-Nr: 9\nHeim: Münsingen IV\nGast: Thun VII\n\nAdresse: Turnhallenweg 8\, 3110 Münsingen\n
LOCATION:Turnhallenweg 8\, 3110 Münsingen
CATEGORIES:Saison 2021/22
END:VEVENT
BEGIN:VEVENT
DTSTAMP:20260421T202307Z
DTSTART;TZID=Europe/Berlin:20211112T200000
DTEND;TZID=Europe/Berlin:20211112T230000
SUMMARY:HE 5. Liga Gr. 1 Münsingen IV vs Ittigen II (17)
UID:15a54fbc-18c1-41ad-bfd8-1ed3ca190036
STATUS:CONFIRMED
LAST-MODIFIED:20211115T135839Z
DESCRIPTION:5. Liga Herren Gruppe 1\nBegegnungs-Nr: 17\nHeim: Münsingen IV\nGast: Ittigen II\n\nAdresse: Turnhallenweg 8\, 3110 Münsingen\n
LOCATION:Turnhallenweg 8\, 3110 Münsingen
CATEGORIES:Saison 2021/22
END:VEVENT
BEGIN:VEVENT
DTSTAMP:20260421T202307Z
DTSTART;TZID=Europe/Berlin:20220325T200000
DTEND;TZID=Europe/Berlin:20220325T230000
SUMMARY:HE 5. Liga Gr. 1 Münsingen IV vs Langnau III (21)
UID:79017df2-d3bb-4ab5-a170-dbc7b32bf6ff
STATUS:CONFIRMED
DESCRIPTION:5. Liga Herren Gruppe 1\nBegegnungs-Nr: 21\nHeim: Münsingen IV\nGast: Langnau III\n\nAdresse: Turnhallenweg 8\, 3110 Münsingen\n
LOCATION:Turnhallenweg 8\, 3110 Münsingen
CATEGORIES:Saison 2021/22
END:VEVENT
BEGIN:VEVENT
DTSTAMP:20260421T202307Z
DTSTART;TZID=Europe/Berlin:20220211T200000
DTEND;TZID=Europe/Berlin:20220211T230000
SUMMARY:HE 5. Liga Gr. 1 Münsingen IV vs Bern VI (5)
UID:bcd57936-4f49-4be5-8665-a369114edb76
STATUS:CONFIRMED
LAST-MODIFIED:20220121T160725Z
DESCRIPTION:5. Liga Herren Gruppe 1\nBegegnungs-Nr: 5\nHeim: Münsingen IV\nGast: Bern VI\n\nAdresse: Turnhallenweg 8\, 3110 Münsingen\n
LOCATION:Turnhallenweg 8\, 3110 Münsingen
CATEGORIES:Saison 2021/22
END:VEVENT
BEGIN:VEVENT
DTSTAMP:20260421T202307Z
DTSTART;TZID=Europe/Berlin:20220225T200000
DTEND;TZID=Europe/Berlin:20220225T230000
SUMMARY:HE 5. Liga Gr. 1 Münsingen IV vs Tiefenau II (13)
UID:62c383f1-3c75-451f-a309-2b4673bf3a76
STATUS:CONFIRMED
DESCRIPTION:5. Liga Herren Gruppe 1\nBegegnungs-Nr: 13\nHeim: Münsingen IV\nGast: Tiefenau II\n\nAdresse: Turnhallenweg 8\, 3110 Münsingen\n
LOCATION:Turnhallenweg 8\, 3110 Münsingen
CATEGORIES:Saison 2021/22
END:VEVENT
BEGIN:VEVENT
DTSTAMP:20260421T202307Z
DTSTART;TZID=Europe/Berlin:20210908T193000
DTEND;TZID=Europe/Berlin:20210908T223000
SUMMARY:HE 5. Liga Gr. 1 Bern VI vs Münsingen IV (5)
UID:6161a09b-eda3-4b82-865b-7998f0aa868a
STATUS:CONFIRMED
LAST-MODIFIED:20210913T221410Z
DESCRIPTION:5. Liga Herren Gruppe 1\nBegegnungs-Nr: 5\nHeim: Bern VI\nGast: Münsingen IV\n\nAdresse: Papiermühlestrasse 81\, 3014 Bern\n
LOCATION:Papiermühlestrasse 81\, 3014 Bern
CATEGORIES:Saison 2021/22
END:VEVENT
BEGIN:VEVENT
DTSTAMP:20260421T202307Z
DTSTART;TZID=Europe/Berlin:20211115T200000
DTEND;TZID=Europe/Berlin:20211115T230000
SUMMARY:HE 5. Liga Gr. 1 Langnau III vs Münsingen IV (21)
UID:c502d98b-1c46-4b3b-9747-814d9834adb2
STATUS:CONFIRMED
LAST-MODIFIED:20211118T004309Z
DESCRIPTION:5. Liga Herren Gruppe 1\nBegegnungs-Nr: 21\nHeim: Langnau III\nGast: Münsingen IV\n\nAdresse: Bleicheweg 11\, 3550 Langnau\n
LOCATION:Bleicheweg 11\, 3550 Langnau
CATEGORIES:Saison 2021/22
END:VEVENT
BEGIN:VEVENT
DTSTAMP:20260421T202307Z
DTSTART;TZID=Europe/Berlin:20211021T194500
DTEND;TZID=Europe/Berlin:20211021T224500
SUMMARY:HE 5. Liga Gr. 1 Tiefenau II vs Münsingen IV (13)
UID:fe7f06ef-8d79-4235-9612-6781edad6745
STATUS:CONFIRMED
LAST-MODIFIED:20211022T141259Z
DESCRIPTION:5. Liga Herren Gruppe 1\nBegegnungs-Nr: 13\nHeim: Tiefenau II\nGast: Münsingen IV\n\nAdresse: Studerstrasse 56\, 3004 Bern\n
LOCATION:Studerstrasse 56\, 3004 Bern
CATEGORIES:Saison 2021/22
END:VEVENT
BEGIN:VEVENT
DTSTAMP:20260421T202307Z
DTSTART;TZID=Europe/Berlin:20220406T193000
DTEND;TZID=Europe/Berlin:20220406T223000
SUMMARY:HE 5. Liga Gr. 1 Ostermundigen VI vs Münsingen IV (25)
UID:e2d3ee90-5e2b-4d3d-89a8-ec82ee548068
STATUS:CONFIRMED
DESCRIPTION:5. Liga Herren Gruppe 1\nBegegnungs-Nr: 25\nHeim: Ostermundigen VI\nGast: Münsingen IV\n\nAdresse: Dennigkofenweg 169\, 3072 Ostermundigen\n
LOCATION:Dennigkofenweg 169\, 3072 Ostermundigen
CATEGORIES:Saison 2021/22
END:VEVENT
BEGIN:VEVENT
DTSTAMP:20260421T202307Z
DTSTART;TZID=Europe/Berlin:20211217T194500
DTEND;TZID=Europe/Berlin:20211217T224500
SUMMARY:HE 5. Liga Gr. 1 Belp IV vs Münsingen IV (1)
UID:b0fcfcb8-555d-42f9-9632-7570aea673c1
STATUS:CONFIRMED
LAST-MODIFIED:20211222T173652Z
DESCRIPTION:5. Liga Herren Gruppe 1\nBegegnungs-Nr: 1\nHeim: Belp IV\nGast: Münsingen IV\n\nAdresse: Neumattstrasse 39\, 3123 Belp\n
LOCATION:Neumattstrasse 39\, 3123 Belp
CATEGORIES:Saison 2021/22
END:VEVENT
BEGIN:VEVENT
DTSTAMP:20260421T202307Z
DTSTART;TZID=Europe/Berlin:20220205T130000
DTEND;TZID=Europe/Berlin:20220205T160000
SUMMARY:HE 5. Liga Gr. 1 Thun VII vs Münsingen IV (9)
UID:670ffbd5-742b-4a3a-b7d0-62b8ab2e33f9
STATUS:CONFIRMED
DESCRIPTION:5. Liga Herren Gruppe 1\nBegegnungs-Nr: 9\nHeim: Thun VII\nGast: Münsingen IV\n\nAdresse: Hallerstrasse 28\, 3604 Thun\n
LOCATION:Hallerstrasse 28\, 3604 Thun
CATEGORIES:Saison 2021/22
END:VEVENT
BEGIN:VEVENT
DTSTAMP:20260421T202307Z
DTSTART;TZID=Europe/Berlin:20220307T194500
DTEND;TZID=Europe/Berlin:20220307T224500
SUMMARY:HE 5. Liga Gr. 1 Ittigen II vs Münsingen IV (17)
UID:f1e732e9-89d0-438d-a630-2ac6eb2ab016
STATUS:CONFIRMED
DESCRIPTION:5. Liga Herren Gruppe 1\nBegegnungs-Nr: 17\nHeim: Ittigen II\nGast: Münsingen IV\n\nAdresse: Fischrainweg 17\, 3048 Worblaufen\n
LOCATION:Fischrainweg 17\, 3048 Worblaufen
CATEGORIES:Saison 2021/22
END:VEVENT
END:VCALENDAR
