BEGIN:VCALENDAR
PRODID:-//nuDatenautomaten//framework iCal4j //DE
VERSION:2.0
CALSCALE:GREGORIAN
BEGIN:VTIMEZONE
TZID:Europe/Berlin
LAST-MODIFIED:20260306T231828Z
TZURL:https://www.tzurl.org/zoneinfo/Europe/Berlin
X-LIC-LOCATION:Europe/Berlin
X-PROLEPTIC-TZNAME:LMT
BEGIN:STANDARD
TZNAME:CET
TZOFFSETFROM:+005328
TZOFFSETTO:+0100
DTSTART:18930401T000000
END:STANDARD
BEGIN:DAYLIGHT
TZNAME:CEST
TZOFFSETFROM:+0100
TZOFFSETTO:+0200
DTSTART:19160430T230000
RDATE:19400401T020000
RDATE:19430329T020000
RDATE:19460414T020000
RDATE:19470406T030000
RDATE:19480418T020000
RDATE:19490410T020000
RDATE:19800406T020000
END:DAYLIGHT
BEGIN:STANDARD
TZNAME:CET
TZOFFSETFROM:+0200
TZOFFSETTO:+0100
DTSTART:19161001T010000
RDATE:19421102T030000
RDATE:19431004T030000
RDATE:19441002T030000
RDATE:19451118T030000
RDATE:19461007T030000
END:STANDARD
BEGIN:DAYLIGHT
TZNAME:CEST
TZOFFSETFROM:+0100
TZOFFSETTO:+0200
DTSTART:19170416T020000
RRULE:FREQ=YEARLY;UNTIL=19180415T010000Z;BYMONTH=4;BYDAY=3MO
END:DAYLIGHT
BEGIN:STANDARD
TZNAME:CET
TZOFFSETFROM:+0200
TZOFFSETTO:+0100
DTSTART:19170917T030000
RRULE:FREQ=YEARLY;UNTIL=19180916T010000Z;BYMONTH=9;BYDAY=3MO
END:STANDARD
BEGIN:DAYLIGHT
TZNAME:CEST
TZOFFSETFROM:+0100
TZOFFSETTO:+0200
DTSTART:19440403T020000
RRULE:FREQ=YEARLY;UNTIL=19450402T010000Z;BYMONTH=4;BYDAY=1MO
END:DAYLIGHT
BEGIN:DAYLIGHT
TZNAME:CEMT
TZOFFSETFROM:+0200
TZOFFSETTO:+0300
DTSTART:19450524T020000
RDATE:19470511T030000
END:DAYLIGHT
BEGIN:DAYLIGHT
TZNAME:CEST
TZOFFSETFROM:+0300
TZOFFSETTO:+0200
DTSTART:19450924T030000
RDATE:19470629T030000
END:DAYLIGHT
BEGIN:STANDARD
TZNAME:CET
TZOFFSETFROM:+0100
TZOFFSETTO:+0100
DTSTART:19460101T000000
RDATE:19800101T000000
END:STANDARD
BEGIN:STANDARD
TZNAME:CET
TZOFFSETFROM:+0200
TZOFFSETTO:+0100
DTSTART:19471005T030000
RRULE:FREQ=YEARLY;UNTIL=19491002T010000Z;BYMONTH=10;BYDAY=1SU
END:STANDARD
BEGIN:STANDARD
TZNAME:CET
TZOFFSETFROM:+0200
TZOFFSETTO:+0100
DTSTART:19800928T030000
RRULE:FREQ=YEARLY;UNTIL=19950924T010000Z;BYMONTH=9;BYDAY=-1SU
END:STANDARD
BEGIN:DAYLIGHT
TZNAME:CEST
TZOFFSETFROM:+0100
TZOFFSETTO:+0200
DTSTART:19810329T020000
RRULE:FREQ=YEARLY;BYMONTH=3;BYDAY=-1SU
END:DAYLIGHT
BEGIN:STANDARD
TZNAME:CET
TZOFFSETFROM:+0200
TZOFFSETTO:+0100
DTSTART:19961027T030000
RRULE:FREQ=YEARLY;BYMONTH=10;BYDAY=-1SU
END:STANDARD
END:VTIMEZONE
BEGIN:VEVENT
DTSTAMP:20260421T202802Z
DTSTART;TZID=Europe/Berlin:20211115T194500
DTEND;TZID=Europe/Berlin:20211115T224500
SUMMARY:HE 5. Liga Gr. 1 Ittigen II vs Ostermundigen VI (22)
UID:53d6eff3-052b-4603-a359-086868926622
STATUS:CONFIRMED
LAST-MODIFIED:20211118T004249Z
DESCRIPTION:5. Liga Herren Gruppe 1\nBegegnungs-Nr: 22\nHeim: Ittigen II\nGast: Ostermundigen VI\n\nAdresse: Fischrainweg 17\, 3048 Worblaufen\n
LOCATION:Fischrainweg 17\, 3048 Worblaufen
CATEGORIES:Saison 2021/22
END:VEVENT
BEGIN:VEVENT
DTSTAMP:20260421T202802Z
DTSTART;TZID=Europe/Berlin:20210827T194500
DTEND;TZID=Europe/Berlin:20210827T224500
SUMMARY:HE 5. Liga Gr. 1 Ittigen II vs Bern VI (4)
UID:8067319a-126c-4fc8-be38-bf6b4b9c9b79
STATUS:CONFIRMED
LAST-MODIFIED:20210829T142449Z
DESCRIPTION:5. Liga Herren Gruppe 1\nBegegnungs-Nr: 4\nHeim: Ittigen II\nGast: Bern VI\n\nAdresse: Fischrainweg 17\, 3048 Worblaufen\n
LOCATION:Fischrainweg 17\, 3048 Worblaufen
CATEGORIES:Saison 2021/22
END:VEVENT
BEGIN:VEVENT
DTSTAMP:20260421T202802Z
DTSTART;TZID=Europe/Berlin:20211004T194500
DTEND;TZID=Europe/Berlin:20211004T224500
SUMMARY:HE 5. Liga Gr. 1 Ittigen II vs Tiefenau II (12)
UID:2cc2a3bb-a102-45ef-b1a8-5f1b4ea5f51c
STATUS:CONFIRMED
LAST-MODIFIED:20211005T135556Z
DESCRIPTION:5. Liga Herren Gruppe 1\nBegegnungs-Nr: 12\nHeim: Ittigen II\nGast: Tiefenau II\n\nAdresse: Fischrainweg 17\, 3048 Worblaufen\n
LOCATION:Fischrainweg 17\, 3048 Worblaufen
CATEGORIES:Saison 2021/22
END:VEVENT
BEGIN:VEVENT
DTSTAMP:20260421T202802Z
DTSTART;TZID=Europe/Berlin:20220328T194500
DTEND;TZID=Europe/Berlin:20220328T224500
SUMMARY:HE 5. Liga Gr. 1 Ittigen II vs Langnau III (26)
UID:99b3f5d7-dfd3-4fa9-a23c-859090501aa2
STATUS:CONFIRMED
DESCRIPTION:5. Liga Herren Gruppe 1\nBegegnungs-Nr: 26\nHeim: Ittigen II\nGast: Langnau III\n\nAdresse: Fischrainweg 17\, 3048 Worblaufen\n
LOCATION:Fischrainweg 17\, 3048 Worblaufen
CATEGORIES:Saison 2021/22
END:VEVENT
BEGIN:VEVENT
DTSTAMP:20260421T202802Z
DTSTART;TZID=Europe/Berlin:20220117T194500
DTEND;TZID=Europe/Berlin:20220117T224500
SUMMARY:HE 5. Liga Gr. 1 Ittigen II vs Thun VII (8)
UID:546851d2-9a15-4860-8e6c-70a7a931b81f
STATUS:CONFIRMED
DESCRIPTION:5. Liga Herren Gruppe 1\nBegegnungs-Nr: 8\nHeim: Ittigen II\nGast: Thun VII\n\nAdresse: Fischrainweg 17\, 3048 Worblaufen\n
LOCATION:Fischrainweg 17\, 3048 Worblaufen
CATEGORIES:Saison 2021/22
END:VEVENT
BEGIN:VEVENT
DTSTAMP:20260421T202802Z
DTSTART;TZID=Europe/Berlin:20220214T194500
DTEND;TZID=Europe/Berlin:20220214T224500
SUMMARY:HE 5. Liga Gr. 1 Ittigen II vs Belp IV (16)
UID:03bdf831-8bfe-4467-b0d4-7e504e29cb6d
STATUS:CONFIRMED
DESCRIPTION:5. Liga Herren Gruppe 1\nBegegnungs-Nr: 16\nHeim: Ittigen II\nGast: Belp IV\n\nAdresse: Fischrainweg 17\, 3048 Worblaufen\n
LOCATION:Fischrainweg 17\, 3048 Worblaufen
CATEGORIES:Saison 2021/22
END:VEVENT
BEGIN:VEVENT
DTSTAMP:20260421T202802Z
DTSTART;TZID=Europe/Berlin:20220307T194500
DTEND;TZID=Europe/Berlin:20220307T224500
SUMMARY:HE 5. Liga Gr. 1 Ittigen II vs Münsingen IV (17)
UID:f1e732e9-89d0-438d-a630-2ac6eb2ab016
STATUS:CONFIRMED
DESCRIPTION:5. Liga Herren Gruppe 1\nBegegnungs-Nr: 17\nHeim: Ittigen II\nGast: Münsingen IV\n\nAdresse: Fischrainweg 17\, 3048 Worblaufen\n
LOCATION:Fischrainweg 17\, 3048 Worblaufen
CATEGORIES:Saison 2021/22
END:VEVENT
BEGIN:VEVENT
DTSTAMP:20260421T202802Z
DTSTART;TZID=Europe/Berlin:20210911T130000
DTEND;TZID=Europe/Berlin:20210911T160000
SUMMARY:HE 5. Liga Gr. 1 Thun VII vs Ittigen II (8)
UID:dcaa6ac2-96a9-4650-9087-c5c13a197a3d
STATUS:CONFIRMED
LAST-MODIFIED:20210913T221440Z
DESCRIPTION:5. Liga Herren Gruppe 1\nBegegnungs-Nr: 8\nHeim: Thun VII\nGast: Ittigen II\n\nAdresse: Hallerstrasse 28\, 3604 Thun\n
LOCATION:Hallerstrasse 28\, 3604 Thun
CATEGORIES:Saison 2021/22
END:VEVENT
BEGIN:VEVENT
DTSTAMP:20260421T202802Z
DTSTART;TZID=Europe/Berlin:20211022T194500
DTEND;TZID=Europe/Berlin:20211022T224500
SUMMARY:HE 5. Liga Gr. 1 Belp IV vs Ittigen II (16)
UID:fd89b263-6761-4070-857e-c8ee60627ad7
STATUS:CONFIRMED
LAST-MODIFIED:20211025T061949Z
DESCRIPTION:5. Liga Herren Gruppe 1\nBegegnungs-Nr: 16\nHeim: Belp IV\nGast: Ittigen II\n\nAdresse: Neumattstrasse 39\, 3123 Belp\n
LOCATION:Neumattstrasse 39\, 3123 Belp
CATEGORIES:Saison 2021/22
END:VEVENT
BEGIN:VEVENT
DTSTAMP:20260421T202802Z
DTSTART;TZID=Europe/Berlin:20211112T200000
DTEND;TZID=Europe/Berlin:20211112T230000
SUMMARY:HE 5. Liga Gr. 1 Münsingen IV vs Ittigen II (17)
UID:15a54fbc-18c1-41ad-bfd8-1ed3ca190036
STATUS:CONFIRMED
LAST-MODIFIED:20211115T135839Z
DESCRIPTION:5. Liga Herren Gruppe 1\nBegegnungs-Nr: 17\nHeim: Münsingen IV\nGast: Ittigen II\n\nAdresse: Turnhallenweg 8\, 3110 Münsingen\n
LOCATION:Turnhallenweg 8\, 3110 Münsingen
CATEGORIES:Saison 2021/22
END:VEVENT
BEGIN:VEVENT
DTSTAMP:20260421T202802Z
DTSTART;TZID=Europe/Berlin:20220316T193000
DTEND;TZID=Europe/Berlin:20220316T223000
SUMMARY:HE 5. Liga Gr. 1 Ostermundigen VI vs Ittigen II (22)
UID:8004f9b8-8a68-4b80-b864-d61178ca05f3
STATUS:CONFIRMED
DESCRIPTION:5. Liga Herren Gruppe 1\nBegegnungs-Nr: 22\nHeim: Ostermundigen VI\nGast: Ittigen II\n\nAdresse: Dennigkofenweg 169\, 3072 Ostermundigen\n
LOCATION:Dennigkofenweg 169\, 3072 Ostermundigen
CATEGORIES:Saison 2021/22
END:VEVENT
BEGIN:VEVENT
DTSTAMP:20260421T202802Z
DTSTART;TZID=Europe/Berlin:20220112T193000
DTEND;TZID=Europe/Berlin:20220112T223000
SUMMARY:HE 5. Liga Gr. 1 Bern VI vs Ittigen II (4)
UID:d8599890-fdf4-4383-8028-f75091bdeae0
STATUS:CONFIRMED
DESCRIPTION:5. Liga Herren Gruppe 1\nBegegnungs-Nr: 4\nHeim: Bern VI\nGast: Ittigen II\n\nAdresse: Papiermühlestrasse 81\, 3014 Bern\n
LOCATION:Papiermühlestrasse 81\, 3014 Bern
CATEGORIES:Saison 2021/22
END:VEVENT
BEGIN:VEVENT
DTSTAMP:20260421T202802Z
DTSTART;TZID=Europe/Berlin:20220210T194500
DTEND;TZID=Europe/Berlin:20220210T224500
SUMMARY:HE 5. Liga Gr. 1 Tiefenau II vs Ittigen II (12)
UID:01a89b14-dcc9-489c-b49d-7cde8d26a452
STATUS:CONFIRMED
DESCRIPTION:5. Liga Herren Gruppe 1\nBegegnungs-Nr: 12\nHeim: Tiefenau II\nGast: Ittigen II\n\nAdresse: Studerstrasse 56\, 3004 Bern\n
LOCATION:Studerstrasse 56\, 3004 Bern
CATEGORIES:Saison 2021/22
END:VEVENT
BEGIN:VEVENT
DTSTAMP:20260421T202802Z
DTSTART;TZID=Europe/Berlin:20211206T200000
DTEND;TZID=Europe/Berlin:20211206T230000
SUMMARY:HE 5. Liga Gr. 1 Langnau III vs Ittigen II (26)
UID:91f0b528-7e8e-4a6b-b282-99d6393302d6
STATUS:CONFIRMED
LAST-MODIFIED:20211212T210023Z
DESCRIPTION:5. Liga Herren Gruppe 1\nBegegnungs-Nr: 26\nHeim: Langnau III\nGast: Ittigen II\n\nAdresse: Bleicheweg 11\, 3550 Langnau\n
LOCATION:Bleicheweg 11\, 3550 Langnau
CATEGORIES:Saison 2021/22
END:VEVENT
END:VCALENDAR
