BEGIN:VCALENDAR
PRODID:-//nuDatenautomaten//framework iCal4j //DE
VERSION:2.0
CALSCALE:GREGORIAN
BEGIN:VTIMEZONE
TZID:Europe/Berlin
LAST-MODIFIED:20260306T231828Z
TZURL:https://www.tzurl.org/zoneinfo/Europe/Berlin
X-LIC-LOCATION:Europe/Berlin
X-PROLEPTIC-TZNAME:LMT
BEGIN:STANDARD
TZNAME:CET
TZOFFSETFROM:+005328
TZOFFSETTO:+0100
DTSTART:18930401T000000
END:STANDARD
BEGIN:DAYLIGHT
TZNAME:CEST
TZOFFSETFROM:+0100
TZOFFSETTO:+0200
DTSTART:19160430T230000
RDATE:19400401T020000
RDATE:19430329T020000
RDATE:19460414T020000
RDATE:19470406T030000
RDATE:19480418T020000
RDATE:19490410T020000
RDATE:19800406T020000
END:DAYLIGHT
BEGIN:STANDARD
TZNAME:CET
TZOFFSETFROM:+0200
TZOFFSETTO:+0100
DTSTART:19161001T010000
RDATE:19421102T030000
RDATE:19431004T030000
RDATE:19441002T030000
RDATE:19451118T030000
RDATE:19461007T030000
END:STANDARD
BEGIN:DAYLIGHT
TZNAME:CEST
TZOFFSETFROM:+0100
TZOFFSETTO:+0200
DTSTART:19170416T020000
RRULE:FREQ=YEARLY;UNTIL=19180415T010000Z;BYMONTH=4;BYDAY=3MO
END:DAYLIGHT
BEGIN:STANDARD
TZNAME:CET
TZOFFSETFROM:+0200
TZOFFSETTO:+0100
DTSTART:19170917T030000
RRULE:FREQ=YEARLY;UNTIL=19180916T010000Z;BYMONTH=9;BYDAY=3MO
END:STANDARD
BEGIN:DAYLIGHT
TZNAME:CEST
TZOFFSETFROM:+0100
TZOFFSETTO:+0200
DTSTART:19440403T020000
RRULE:FREQ=YEARLY;UNTIL=19450402T010000Z;BYMONTH=4;BYDAY=1MO
END:DAYLIGHT
BEGIN:DAYLIGHT
TZNAME:CEMT
TZOFFSETFROM:+0200
TZOFFSETTO:+0300
DTSTART:19450524T020000
RDATE:19470511T030000
END:DAYLIGHT
BEGIN:DAYLIGHT
TZNAME:CEST
TZOFFSETFROM:+0300
TZOFFSETTO:+0200
DTSTART:19450924T030000
RDATE:19470629T030000
END:DAYLIGHT
BEGIN:STANDARD
TZNAME:CET
TZOFFSETFROM:+0100
TZOFFSETTO:+0100
DTSTART:19460101T000000
RDATE:19800101T000000
END:STANDARD
BEGIN:STANDARD
TZNAME:CET
TZOFFSETFROM:+0200
TZOFFSETTO:+0100
DTSTART:19471005T030000
RRULE:FREQ=YEARLY;UNTIL=19491002T010000Z;BYMONTH=10;BYDAY=1SU
END:STANDARD
BEGIN:STANDARD
TZNAME:CET
TZOFFSETFROM:+0200
TZOFFSETTO:+0100
DTSTART:19800928T030000
RRULE:FREQ=YEARLY;UNTIL=19950924T010000Z;BYMONTH=9;BYDAY=-1SU
END:STANDARD
BEGIN:DAYLIGHT
TZNAME:CEST
TZOFFSETFROM:+0100
TZOFFSETTO:+0200
DTSTART:19810329T020000
RRULE:FREQ=YEARLY;BYMONTH=3;BYDAY=-1SU
END:DAYLIGHT
BEGIN:STANDARD
TZNAME:CET
TZOFFSETFROM:+0200
TZOFFSETTO:+0100
DTSTART:19961027T030000
RRULE:FREQ=YEARLY;BYMONTH=10;BYDAY=-1SU
END:STANDARD
END:VTIMEZONE
BEGIN:VEVENT
DTSTAMP:20260419T231346Z
DTSTART;TZID=Europe/Berlin:20211202T200000
DTEND;TZID=Europe/Berlin:20211202T230000
SUMMARY:HE 6.Liga Gr.3 Weinfelden III vs Ettenhausen VI (0)
UID:b12b9de0-f2dd-41ac-97e0-2bd5f12846af
STATUS:CONFIRMED
LAST-MODIFIED:20211214T132742Z
DESCRIPTION:6. Liga Herren Gruppe 3\nBegegnungs-Nr: 0\nHeim: Weinfelden III\nGast: Ettenhausen VI\n\nAdresse: Bleichestrasse 3 (neben Hallenbad)\, 8570 Weinfelden\n
LOCATION:Bleichestrasse 3 (neben Hallenbad)\, 8570 Weinfelden
CATEGORIES:Saison 2021/22
END:VEVENT
BEGIN:VEVENT
DTSTAMP:20260419T231346Z
DTSTART;TZID=Europe/Berlin:20211104T200000
DTEND;TZID=Europe/Berlin:20211104T230000
SUMMARY:HE 6.Liga Gr.3 Weinfelden III vs Kreuzlingen III (0)
UID:b53bd1c3-b928-4950-97b8-6fc9fb795c87
STATUS:CONFIRMED
LAST-MODIFIED:20211108T100454Z
DESCRIPTION:6. Liga Herren Gruppe 3\nBegegnungs-Nr: 0\nHeim: Weinfelden III\nGast: Kreuzlingen III\n\nAdresse: Bleichestrasse 3 (neben Hallenbad)\, 8570 Weinfelden\n
LOCATION:Bleichestrasse 3 (neben Hallenbad)\, 8570 Weinfelden
CATEGORIES:Saison 2021/22
END:VEVENT
BEGIN:VEVENT
DTSTAMP:20260419T231346Z
DTSTART;TZID=Europe/Berlin:20210930T200000
DTEND;TZID=Europe/Berlin:20210930T230000
SUMMARY:HE 6.Liga Gr.3 Weinfelden III vs Steckborn-Homburg VI (0)
UID:583476b5-20b9-4d6e-9c70-b4212fa88def
STATUS:CONFIRMED
LAST-MODIFIED:20211004T122727Z
DESCRIPTION:6. Liga Herren Gruppe 3\nBegegnungs-Nr: 0\nHeim: Weinfelden III\nGast: Steckborn-Homburg VI\n\nAdresse: Bleichestrasse 3 (neben Hallenbad)\, 8570 Weinfelden\n
LOCATION:Bleichestrasse 3 (neben Hallenbad)\, 8570 Weinfelden
CATEGORIES:Saison 2021/22
END:VEVENT
BEGIN:VEVENT
DTSTAMP:20260419T231346Z
DTSTART;TZID=Europe/Berlin:20210909T200000
DTEND;TZID=Europe/Berlin:20210909T230000
SUMMARY:HE 6.Liga Gr.3 Weinfelden III vs Neuhausen VI (0)
UID:3f41c8bb-c318-43d2-a2b7-5c458d200143
STATUS:CONFIRMED
LAST-MODIFIED:20210916T101030Z
DESCRIPTION:6. Liga Herren Gruppe 3\nBegegnungs-Nr: 0\nHeim: Weinfelden III\nGast: Neuhausen VI\n\nAdresse: Bleichestrasse 3 (neben Hallenbad)\, 8570 Weinfelden\n
LOCATION:Bleichestrasse 3 (neben Hallenbad)\, 8570 Weinfelden
CATEGORIES:Saison 2021/22
END:VEVENT
BEGIN:VEVENT
DTSTAMP:20260419T231346Z
DTSTART;TZID=Europe/Berlin:20220127T200000
DTEND;TZID=Europe/Berlin:20220127T230000
SUMMARY:HE 6.Liga Gr.3 Weinfelden III vs Schaffhausen II (0)
UID:78144aca-2517-4a48-ba43-4aad53d1f3ad
STATUS:CONFIRMED
LAST-MODIFIED:20220131T073927Z
DESCRIPTION:6. Liga Herren Gruppe 3\nBegegnungs-Nr: 0\nHeim: Weinfelden III\nGast: Schaffhausen II\n\nAdresse: Bleichestrasse 3 (neben Hallenbad)\, 8570 Weinfelden\n
LOCATION:Bleichestrasse 3 (neben Hallenbad)\, 8570 Weinfelden
CATEGORIES:Saison 2021/22
END:VEVENT
BEGIN:VEVENT
DTSTAMP:20260419T231346Z
DTSTART;TZID=Europe/Berlin:20220106T200000
DTEND;TZID=Europe/Berlin:20220106T230000
SUMMARY:HE 6.Liga Gr.3 Weinfelden III vs Imperial Winterthur III (0)
UID:9c901d6e-cbed-4a87-9ed6-d84f4b71d434
STATUS:CONFIRMED
LAST-MODIFIED:20220110T121844Z
DESCRIPTION:6. Liga Herren Gruppe 3\nBegegnungs-Nr: 0\nHeim: Weinfelden III\nGast: Imperial Winterthur III\n\nAdresse: Bleichestrasse 3 (neben Hallenbad)\, 8570 Weinfelden\n
LOCATION:Bleichestrasse 3 (neben Hallenbad)\, 8570 Weinfelden
CATEGORIES:Saison 2021/22
END:VEVENT
BEGIN:VEVENT
DTSTAMP:20260419T231346Z
DTSTART;TZID=Europe/Berlin:20220317T200000
DTEND;TZID=Europe/Berlin:20220317T230000
SUMMARY:HE 6.Liga Gr.3 Weinfelden III vs Steckborn-Homburg V (0)
UID:e6fb0c7a-2bc9-4244-b05d-e6b13f786ab0
STATUS:CONFIRMED
LAST-MODIFIED:20220322T112035Z
DESCRIPTION:6. Liga Herren Gruppe 3\nBegegnungs-Nr: 0\nHeim: Weinfelden III\nGast: Steckborn-Homburg V\n\nAdresse: Bleichestrasse 3 (neben Hallenbad)\, 8570 Weinfelden\n
LOCATION:Bleichestrasse 3 (neben Hallenbad)\, 8570 Weinfelden
CATEGORIES:Saison 2021/22
END:VEVENT
BEGIN:VEVENT
DTSTAMP:20260419T231346Z
DTSTART;TZID=Europe/Berlin:20210920T193000
DTEND;TZID=Europe/Berlin:20210920T223000
SUMMARY:HE 6.Liga Gr.3 Schaffhausen II vs Weinfelden III (0)
UID:bebc5567-d854-421c-9c36-ae9593b6c822
STATUS:CONFIRMED
LAST-MODIFIED:20210927T090055Z
DESCRIPTION:6. Liga Herren Gruppe 3\nBegegnungs-Nr: 0\nHeim: Schaffhausen II\nGast: Weinfelden III\n\nAdresse: Grünaustieg 30\, 8200 Schaffhausen\n
LOCATION:Grünaustieg 30\, 8200 Schaffhausen
CATEGORIES:Saison 2021/22
END:VEVENT
BEGIN:VEVENT
DTSTAMP:20260419T231346Z
DTSTART;TZID=Europe/Berlin:20210902T200000
DTEND;TZID=Europe/Berlin:20210902T230000
SUMMARY:HE 6.Liga Gr.3 Imperial Winterthur III vs Weinfelden III (0)
UID:21f6eafa-1d1e-4572-b57d-a6d5119fd389
STATUS:CONFIRMED
LAST-MODIFIED:20210908T142555Z
DESCRIPTION:6. Liga Herren Gruppe 3\nBegegnungs-Nr: 0\nHeim: Imperial Winterthur III\nGast: Weinfelden III\n\nAdresse: Büelhofstrasse 25a\, 8405 Winterthur\n
LOCATION:Büelhofstrasse 25a\, 8405 Winterthur
CATEGORIES:Saison 2021/22
END:VEVENT
BEGIN:VEVENT
DTSTAMP:20260419T231346Z
DTSTART;TZID=Europe/Berlin:20220402T113000
DTEND;TZID=Europe/Berlin:20220402T143000
SUMMARY:HE 6.Liga Gr.3 Ettenhausen VI vs Weinfelden III (0)
UID:f77887a4-c7a3-4f39-ad02-b72343f13df7
STATUS:CONFIRMED
LAST-MODIFIED:20220404T102324Z
DESCRIPTION:6. Liga Herren Gruppe 3\nBegegnungs-Nr: 0\nHeim: Ettenhausen VI\nGast: Weinfelden III\n\nAdresse: Weidlistrasse 12\, 8356 Ettenhausen\n
LOCATION:Weidlistrasse 12\, 8356 Ettenhausen
CATEGORIES:Saison 2021/22
END:VEVENT
BEGIN:VEVENT
DTSTAMP:20260419T231346Z
DTSTART;TZID=Europe/Berlin:20211116T201500
DTEND;TZID=Europe/Berlin:20211116T231500
SUMMARY:HE 6.Liga Gr.3 Steckborn-Homburg V vs Weinfelden III (0)
UID:050f80bd-640d-4689-8095-f32233f12cb0
STATUS:CONFIRMED
LAST-MODIFIED:20211118T123926Z
DESCRIPTION:6. Liga Herren Gruppe 3\nBegegnungs-Nr: 0\nHeim: Steckborn-Homburg V\nGast: Weinfelden III\n\nAdresse: Feldbach\, 8266 Steckborn\n
LOCATION:Feldbach\, 8266 Steckborn
CATEGORIES:Saison 2021/22
END:VEVENT
BEGIN:VEVENT
DTSTAMP:20260419T231346Z
DTSTART;TZID=Europe/Berlin:20220225T201500
DTEND;TZID=Europe/Berlin:20220225T231500
SUMMARY:HE 6.Liga Gr.3 Steckborn-Homburg VI vs Weinfelden III (0)
UID:6c6378ef-5117-4675-b11c-c72f54aa3ff7
STATUS:CONFIRMED
LAST-MODIFIED:20220301T080414Z
DESCRIPTION:6. Liga Herren Gruppe 3\nBegegnungs-Nr: 0\nHeim: Steckborn-Homburg VI\nGast: Weinfelden III\n\nAdresse: Schulstrasse 4\, 8508 Unterhörstetten\n
LOCATION:Schulstrasse 4\, 8508 Unterhörstetten
CATEGORIES:Saison 2021/22
END:VEVENT
BEGIN:VEVENT
DTSTAMP:20260419T231346Z
DTSTART;TZID=Europe/Berlin:20220113T200000
DTEND;TZID=Europe/Berlin:20220113T230000
SUMMARY:HE 6.Liga Gr.3 Neuhausen VI vs Weinfelden III (0)
UID:0ba5ac26-184f-4080-b57b-8da44f2f4a19
STATUS:CONFIRMED
LAST-MODIFIED:20220118T112456Z
DESCRIPTION:6. Liga Herren Gruppe 3\nBegegnungs-Nr: 0\nHeim: Neuhausen VI\nGast: Weinfelden III\n\nAdresse: Ebnatstrasse 35\, 8200 Schaffhausen\n
LOCATION:Ebnatstrasse 35\, 8200 Schaffhausen
CATEGORIES:Saison 2021/22
END:VEVENT
BEGIN:VEVENT
DTSTAMP:20260419T231346Z
DTSTART;TZID=Europe/Berlin:20220309T194500
DTEND;TZID=Europe/Berlin:20220309T224500
SUMMARY:HE 6.Liga Gr.3 Kreuzlingen III vs Weinfelden III (0)
UID:6c3b6088-abe5-42b0-b66f-4392bf68fbb0
STATUS:CONFIRMED
LAST-MODIFIED:20220311T083605Z
DESCRIPTION:6. Liga Herren Gruppe 3\nBegegnungs-Nr: 0\nHeim: Kreuzlingen III\nGast: Weinfelden III\n\nAdresse: Rothausstrasse 14\, 8280 Kreuzlingen\n
LOCATION:Rothausstrasse 14\, 8280 Kreuzlingen
CATEGORIES:Saison 2021/22
END:VEVENT
END:VCALENDAR
