BEGIN:VCALENDAR
PRODID:-//nuDatenautomaten//framework iCal4j //DE
VERSION:2.0
CALSCALE:GREGORIAN
BEGIN:VTIMEZONE
TZID:Europe/Berlin
LAST-MODIFIED:20260306T231828Z
TZURL:https://www.tzurl.org/zoneinfo/Europe/Berlin
X-LIC-LOCATION:Europe/Berlin
X-PROLEPTIC-TZNAME:LMT
BEGIN:STANDARD
TZNAME:CET
TZOFFSETFROM:+005328
TZOFFSETTO:+0100
DTSTART:18930401T000000
END:STANDARD
BEGIN:DAYLIGHT
TZNAME:CEST
TZOFFSETFROM:+0100
TZOFFSETTO:+0200
DTSTART:19160430T230000
RDATE:19400401T020000
RDATE:19430329T020000
RDATE:19460414T020000
RDATE:19470406T030000
RDATE:19480418T020000
RDATE:19490410T020000
RDATE:19800406T020000
END:DAYLIGHT
BEGIN:STANDARD
TZNAME:CET
TZOFFSETFROM:+0200
TZOFFSETTO:+0100
DTSTART:19161001T010000
RDATE:19421102T030000
RDATE:19431004T030000
RDATE:19441002T030000
RDATE:19451118T030000
RDATE:19461007T030000
END:STANDARD
BEGIN:DAYLIGHT
TZNAME:CEST
TZOFFSETFROM:+0100
TZOFFSETTO:+0200
DTSTART:19170416T020000
RRULE:FREQ=YEARLY;UNTIL=19180415T010000Z;BYMONTH=4;BYDAY=3MO
END:DAYLIGHT
BEGIN:STANDARD
TZNAME:CET
TZOFFSETFROM:+0200
TZOFFSETTO:+0100
DTSTART:19170917T030000
RRULE:FREQ=YEARLY;UNTIL=19180916T010000Z;BYMONTH=9;BYDAY=3MO
END:STANDARD
BEGIN:DAYLIGHT
TZNAME:CEST
TZOFFSETFROM:+0100
TZOFFSETTO:+0200
DTSTART:19440403T020000
RRULE:FREQ=YEARLY;UNTIL=19450402T010000Z;BYMONTH=4;BYDAY=1MO
END:DAYLIGHT
BEGIN:DAYLIGHT
TZNAME:CEMT
TZOFFSETFROM:+0200
TZOFFSETTO:+0300
DTSTART:19450524T020000
RDATE:19470511T030000
END:DAYLIGHT
BEGIN:DAYLIGHT
TZNAME:CEST
TZOFFSETFROM:+0300
TZOFFSETTO:+0200
DTSTART:19450924T030000
RDATE:19470629T030000
END:DAYLIGHT
BEGIN:STANDARD
TZNAME:CET
TZOFFSETFROM:+0100
TZOFFSETTO:+0100
DTSTART:19460101T000000
RDATE:19800101T000000
END:STANDARD
BEGIN:STANDARD
TZNAME:CET
TZOFFSETFROM:+0200
TZOFFSETTO:+0100
DTSTART:19471005T030000
RRULE:FREQ=YEARLY;UNTIL=19491002T010000Z;BYMONTH=10;BYDAY=1SU
END:STANDARD
BEGIN:STANDARD
TZNAME:CET
TZOFFSETFROM:+0200
TZOFFSETTO:+0100
DTSTART:19800928T030000
RRULE:FREQ=YEARLY;UNTIL=19950924T010000Z;BYMONTH=9;BYDAY=-1SU
END:STANDARD
BEGIN:DAYLIGHT
TZNAME:CEST
TZOFFSETFROM:+0100
TZOFFSETTO:+0200
DTSTART:19810329T020000
RRULE:FREQ=YEARLY;BYMONTH=3;BYDAY=-1SU
END:DAYLIGHT
BEGIN:STANDARD
TZNAME:CET
TZOFFSETFROM:+0200
TZOFFSETTO:+0100
DTSTART:19961027T030000
RRULE:FREQ=YEARLY;BYMONTH=10;BYDAY=-1SU
END:STANDARD
END:VTIMEZONE
BEGIN:VEVENT
DTSTAMP:20260421T202703Z
DTSTART;TZID=Europe/Berlin:20211030T140000
DTEND;TZID=Europe/Berlin:20211030T170000
SUMMARY:HE 3. Liga Gr. 2 Langnau vs Regio Moossee (19)
UID:fb1737a9-7688-462c-ab11-066f2c73d160
STATUS:CONFIRMED
LAST-MODIFIED:20211031T085849Z
DESCRIPTION:3. Liga Herren Gruppe 2\nBegegnungs-Nr: 19\nHeim: Langnau\nGast: Regio Moossee\n\nAdresse: Bleicheweg 11\, 3550 Langnau\n
LOCATION:Bleicheweg 11\, 3550 Langnau
CATEGORIES:Saison 2021/22
END:VEVENT
BEGIN:VEVENT
DTSTAMP:20260421T202703Z
DTSTART;TZID=Europe/Berlin:20220312T140000
DTEND;TZID=Europe/Berlin:20220312T170000
SUMMARY:HE 3. Liga Gr. 2 Langnau vs Thun III (26)
UID:c1a57c27-3dfb-4fde-9423-fbd3ae6f673f
STATUS:CONFIRMED
DESCRIPTION:3. Liga Herren Gruppe 2\nBegegnungs-Nr: 26\nHeim: Langnau\nGast: Thun III\n\nAdresse: Bleicheweg 11\, 3550 Langnau\n
LOCATION:Bleicheweg 11\, 3550 Langnau
CATEGORIES:Saison 2021/22
END:VEVENT
BEGIN:VEVENT
DTSTAMP:20260421T202703Z
DTSTART;TZID=Europe/Berlin:20220305T140000
DTEND;TZID=Europe/Berlin:20220305T170000
SUMMARY:HE 3. Liga Gr. 2 Langnau vs Burgdorf V (23)
UID:73d37f95-b8ce-47b1-8ce5-8d7187bb80b4
STATUS:CONFIRMED
DESCRIPTION:3. Liga Herren Gruppe 2\nBegegnungs-Nr: 23\nHeim: Langnau\nGast: Burgdorf V\n\nAdresse: Bleicheweg 11\, 3550 Langnau\n
LOCATION:Bleicheweg 11\, 3550 Langnau
CATEGORIES:Saison 2021/22
END:VEVENT
BEGIN:VEVENT
DTSTAMP:20260421T202703Z
DTSTART;TZID=Europe/Berlin:20220129T140000
DTEND;TZID=Europe/Berlin:20220129T170000
SUMMARY:HE 3. Liga Gr. 2 Langnau vs Kirchberg II (6)
UID:a55abadf-16e6-4dc7-a650-5fd018ab8aff
STATUS:CONFIRMED
DESCRIPTION:3. Liga Herren Gruppe 2\nBegegnungs-Nr: 6\nHeim: Langnau\nGast: Kirchberg II\n\nAdresse: Bleicheweg 11\, 3550 Langnau\n
LOCATION:Bleicheweg 11\, 3550 Langnau
CATEGORIES:Saison 2021/22
END:VEVENT
BEGIN:VEVENT
DTSTAMP:20260421T202703Z
DTSTART;TZID=Europe/Berlin:20220212T140000
DTEND;TZID=Europe/Berlin:20220212T170000
SUMMARY:HE 3. Liga Gr. 2 Langnau vs SC Informatik Swisscom Wabern (15)
UID:cd458b09-e63a-4a99-a016-8558a733845d
STATUS:CONFIRMED
DESCRIPTION:3. Liga Herren Gruppe 2\nBegegnungs-Nr: 15\nHeim: Langnau\nGast: SC Informatik Swisscom Wabern\n\nAdresse: Bleicheweg 11\, 3550 Langnau\n
LOCATION:Bleicheweg 11\, 3550 Langnau
CATEGORIES:Saison 2021/22
END:VEVENT
BEGIN:VEVENT
DTSTAMP:20260421T202703Z
DTSTART;TZID=Europe/Berlin:20210904T140000
DTEND;TZID=Europe/Berlin:20210904T170000
SUMMARY:HE 3. Liga Gr. 2 Langnau vs Wynigen (2)
UID:3dbfe707-74f7-4b07-99b8-ad05743ef16f
STATUS:CONFIRMED
LAST-MODIFIED:20210907T093016Z
DESCRIPTION:3. Liga Herren Gruppe 2\nBegegnungs-Nr: 2\nHeim: Langnau\nGast: Wynigen\n\nAdresse: Bleicheweg 11\, 3550 Langnau\n
LOCATION:Bleicheweg 11\, 3550 Langnau
CATEGORIES:Saison 2021/22
END:VEVENT
BEGIN:VEVENT
DTSTAMP:20260421T202703Z
DTSTART;TZID=Europe/Berlin:20211127T140000
DTEND;TZID=Europe/Berlin:20211127T170000
SUMMARY:HE 3. Liga Gr. 2 Langnau vs Bern II (34)
UID:f21446ff-63ec-4bc5-b193-c922ce525d7c
STATUS:CONFIRMED
LAST-MODIFIED:20211129T111802Z
DESCRIPTION:3. Liga Herren Gruppe 2\nBegegnungs-Nr: 34\nHeim: Langnau\nGast: Bern II\n\nAdresse: Bleicheweg 11\, 3550 Langnau\n
LOCATION:Bleicheweg 11\, 3550 Langnau
CATEGORIES:Saison 2021/22
END:VEVENT
BEGIN:VEVENT
DTSTAMP:20260421T202703Z
DTSTART;TZID=Europe/Berlin:20211204T140000
DTEND;TZID=Europe/Berlin:20211204T170000
SUMMARY:HE 3. Liga Gr. 2 Langnau vs Aarberg IV (29)
UID:d2fdae46-21d4-4c3b-b538-8ba292936c3a
STATUS:CONFIRMED
LAST-MODIFIED:20211205T123605Z
DESCRIPTION:3. Liga Herren Gruppe 2\nBegegnungs-Nr: 29\nHeim: Langnau\nGast: Aarberg IV\n\nAdresse: Bleicheweg 11\, 3550 Langnau\n
LOCATION:Bleicheweg 11\, 3550 Langnau
CATEGORIES:Saison 2021/22
END:VEVENT
BEGIN:VEVENT
DTSTAMP:20260421T202703Z
DTSTART;TZID=Europe/Berlin:20211122T193000
DTEND;TZID=Europe/Berlin:20211122T223000
SUMMARY:HE 3. Liga Gr. 2 SC Informatik Swisscom Wabern vs Langnau (15)
UID:a004ab16-6e85-4f08-8d77-14173e2fbd30
STATUS:CONFIRMED
LAST-MODIFIED:20211124T160907Z
DESCRIPTION:3. Liga Herren Gruppe 2\nBegegnungs-Nr: 15\nHeim: SC Informatik Swisscom Wabern\nGast: Langnau\n\nAdresse: Eichholzstrasse 29\, 3094 Wabern\n
LOCATION:Eichholzstrasse 29\, 3094 Wabern
CATEGORIES:Saison 2021/22
END:VEVENT
BEGIN:VEVENT
DTSTAMP:20260421T202703Z
DTSTART;TZID=Europe/Berlin:20220406T193000
DTEND;TZID=Europe/Berlin:20220406T223000
SUMMARY:HE 3. Liga Gr. 2 Bern II vs Langnau (34)
UID:ed7cac84-e306-445b-8d0b-39e593bb8abe
STATUS:CONFIRMED
DESCRIPTION:3. Liga Herren Gruppe 2\nBegegnungs-Nr: 34\nHeim: Bern II\nGast: Langnau\n\nAdresse: Papiermühlestrasse 81\, 3014 Bern\n
LOCATION:Papiermühlestrasse 81\, 3014 Bern
CATEGORIES:Saison 2021/22
END:VEVENT
BEGIN:VEVENT
DTSTAMP:20260421T202703Z
DTSTART;TZID=Europe/Berlin:20220323T201500
DTEND;TZID=Europe/Berlin:20220323T231500
SUMMARY:HE 3. Liga Gr. 2 Aarberg IV vs Langnau (29)
UID:b32728bd-f5ab-4705-9a03-1ecd5f675f67
STATUS:CONFIRMED
LAST-MODIFIED:20220331T130643Z
DESCRIPTION:3. Liga Herren Gruppe 2\nBegegnungs-Nr: 29\nHeim: Aarberg IV\nGast: Langnau\n\nAdresse: Nidaustrasse 7\, 3270 Aarberg\n
LOCATION:Nidaustrasse 7\, 3270 Aarberg
CATEGORIES:Saison 2021/22
END:VEVENT
BEGIN:VEVENT
DTSTAMP:20260421T202703Z
DTSTART;TZID=Europe/Berlin:20211216T200000
DTEND;TZID=Europe/Berlin:20211216T230000
SUMMARY:HE 3. Liga Gr. 2 Wynigen vs Langnau (2)
UID:0ff9c2ad-e305-4fb5-8f5d-2eddb2e81ea2
STATUS:CONFIRMED
LAST-MODIFIED:20211222T173440Z
DESCRIPTION:3. Liga Herren Gruppe 2\nBegegnungs-Nr: 2\nHeim: Wynigen\nGast: Langnau\n\nAdresse: -\, 3472 Wynigen\n
LOCATION:-\, 3472 Wynigen
CATEGORIES:Saison 2021/22
END:VEVENT
BEGIN:VEVENT
DTSTAMP:20260421T202703Z
DTSTART;TZID=Europe/Berlin:20220222T194500
DTEND;TZID=Europe/Berlin:20220222T224500
SUMMARY:HE 3. Liga Gr. 2 Regio Moossee vs Langnau (19)
UID:ab9183f5-c1ed-43bf-a1fe-437953d39305
STATUS:CONFIRMED
DESCRIPTION:3. Liga Herren Gruppe 2\nBegegnungs-Nr: 19\nHeim: Regio Moossee\nGast: Langnau\n\nAdresse: Schulhausstrasse 23-25\, 3302 Moosseedorf\n
LOCATION:Schulhausstrasse 23-25\, 3302 Moosseedorf
CATEGORIES:Saison 2021/22
END:VEVENT
BEGIN:VEVENT
DTSTAMP:20260421T202703Z
DTSTART;TZID=Europe/Berlin:20210907T200000
DTEND;TZID=Europe/Berlin:20210907T230000
SUMMARY:HE 3. Liga Gr. 2 Kirchberg II vs Langnau (6)
UID:7ea148ba-ad5d-4a04-8339-eba0c1458e05
STATUS:CONFIRMED
LAST-MODIFIED:20210913T221119Z
DESCRIPTION:3. Liga Herren Gruppe 2\nBegegnungs-Nr: 6\nHeim: Kirchberg II\nGast: Langnau\n\nAdresse: Reinhardweg\, 3422 Kirchberg\n
LOCATION:Reinhardweg\, 3422 Kirchberg
CATEGORIES:Saison 2021/22
END:VEVENT
BEGIN:VEVENT
DTSTAMP:20260421T202703Z
DTSTART;TZID=Europe/Berlin:20211113T160000
DTEND;TZID=Europe/Berlin:20211113T190000
SUMMARY:HE 3. Liga Gr. 2 Burgdorf V vs Langnau (23)
UID:2a947cce-5839-410a-9ec3-5b5cabb6d483
STATUS:CONFIRMED
LAST-MODIFIED:20211115T135658Z
DESCRIPTION:3. Liga Herren Gruppe 2\nBegegnungs-Nr: 23\nHeim: Burgdorf V\nGast: Langnau\n\nAdresse: Pestalozzistrasse 69\, 3400 Burgdorf\n
LOCATION:Pestalozzistrasse 69\, 3400 Burgdorf
CATEGORIES:Saison 2021/22
END:VEVENT
BEGIN:VEVENT
DTSTAMP:20260421T202703Z
DTSTART;TZID=Europe/Berlin:20210911T160000
DTEND;TZID=Europe/Berlin:20210911T190000
SUMMARY:HE 3. Liga Gr. 2 Thun III vs Langnau (26)
UID:5b87959d-4daf-4bf5-8fee-2264c9c190d0
STATUS:CONFIRMED
LAST-MODIFIED:20210913T221149Z
DESCRIPTION:3. Liga Herren Gruppe 2\nBegegnungs-Nr: 26\nHeim: Thun III\nGast: Langnau\n\nAdresse: Hallerstrasse 28\, 3604 Thun\n
LOCATION:Hallerstrasse 28\, 3604 Thun
CATEGORIES:Saison 2021/22
END:VEVENT
END:VCALENDAR
