BEGIN:VCALENDAR
PRODID:-//nuDatenautomaten//framework iCal4j //DE
VERSION:2.0
CALSCALE:GREGORIAN
BEGIN:VTIMEZONE
TZID:Europe/Berlin
LAST-MODIFIED:20260306T231828Z
TZURL:https://www.tzurl.org/zoneinfo/Europe/Berlin
X-LIC-LOCATION:Europe/Berlin
X-PROLEPTIC-TZNAME:LMT
BEGIN:STANDARD
TZNAME:CET
TZOFFSETFROM:+005328
TZOFFSETTO:+0100
DTSTART:18930401T000000
END:STANDARD
BEGIN:DAYLIGHT
TZNAME:CEST
TZOFFSETFROM:+0100
TZOFFSETTO:+0200
DTSTART:19160430T230000
RDATE:19400401T020000
RDATE:19430329T020000
RDATE:19460414T020000
RDATE:19470406T030000
RDATE:19480418T020000
RDATE:19490410T020000
RDATE:19800406T020000
END:DAYLIGHT
BEGIN:STANDARD
TZNAME:CET
TZOFFSETFROM:+0200
TZOFFSETTO:+0100
DTSTART:19161001T010000
RDATE:19421102T030000
RDATE:19431004T030000
RDATE:19441002T030000
RDATE:19451118T030000
RDATE:19461007T030000
END:STANDARD
BEGIN:DAYLIGHT
TZNAME:CEST
TZOFFSETFROM:+0100
TZOFFSETTO:+0200
DTSTART:19170416T020000
RRULE:FREQ=YEARLY;UNTIL=19180415T010000Z;BYMONTH=4;BYDAY=3MO
END:DAYLIGHT
BEGIN:STANDARD
TZNAME:CET
TZOFFSETFROM:+0200
TZOFFSETTO:+0100
DTSTART:19170917T030000
RRULE:FREQ=YEARLY;UNTIL=19180916T010000Z;BYMONTH=9;BYDAY=3MO
END:STANDARD
BEGIN:DAYLIGHT
TZNAME:CEST
TZOFFSETFROM:+0100
TZOFFSETTO:+0200
DTSTART:19440403T020000
RRULE:FREQ=YEARLY;UNTIL=19450402T010000Z;BYMONTH=4;BYDAY=1MO
END:DAYLIGHT
BEGIN:DAYLIGHT
TZNAME:CEMT
TZOFFSETFROM:+0200
TZOFFSETTO:+0300
DTSTART:19450524T020000
RDATE:19470511T030000
END:DAYLIGHT
BEGIN:DAYLIGHT
TZNAME:CEST
TZOFFSETFROM:+0300
TZOFFSETTO:+0200
DTSTART:19450924T030000
RDATE:19470629T030000
END:DAYLIGHT
BEGIN:STANDARD
TZNAME:CET
TZOFFSETFROM:+0100
TZOFFSETTO:+0100
DTSTART:19460101T000000
RDATE:19800101T000000
END:STANDARD
BEGIN:STANDARD
TZNAME:CET
TZOFFSETFROM:+0200
TZOFFSETTO:+0100
DTSTART:19471005T030000
RRULE:FREQ=YEARLY;UNTIL=19491002T010000Z;BYMONTH=10;BYDAY=1SU
END:STANDARD
BEGIN:STANDARD
TZNAME:CET
TZOFFSETFROM:+0200
TZOFFSETTO:+0100
DTSTART:19800928T030000
RRULE:FREQ=YEARLY;UNTIL=19950924T010000Z;BYMONTH=9;BYDAY=-1SU
END:STANDARD
BEGIN:DAYLIGHT
TZNAME:CEST
TZOFFSETFROM:+0100
TZOFFSETTO:+0200
DTSTART:19810329T020000
RRULE:FREQ=YEARLY;BYMONTH=3;BYDAY=-1SU
END:DAYLIGHT
BEGIN:STANDARD
TZNAME:CET
TZOFFSETFROM:+0200
TZOFFSETTO:+0100
DTSTART:19961027T030000
RRULE:FREQ=YEARLY;BYMONTH=10;BYDAY=-1SU
END:STANDARD
END:VTIMEZONE
BEGIN:VEVENT
DTSTAMP:20260421T202457Z
DTSTART;TZID=Europe/Berlin:20211027T201500
DTEND;TZID=Europe/Berlin:20211027T231500
SUMMARY:HE 3. Liga Gr. 2 Aarberg IV vs Bern II (17)
UID:89975824-47d1-4b47-9ce6-69f1fd1ecc1a
STATUS:CONFIRMED
LAST-MODIFIED:20211028T094345Z
DESCRIPTION:3. Liga Herren Gruppe 2\nBegegnungs-Nr: 17\nHeim: Aarberg IV\nGast: Bern II\n\nAdresse: Nidaustrasse 7\, 3270 Aarberg\n
LOCATION:Nidaustrasse 7\, 3270 Aarberg
CATEGORIES:Saison 2021/22
END:VEVENT
BEGIN:VEVENT
DTSTAMP:20260421T202457Z
DTSTART;TZID=Europe/Berlin:20220323T201500
DTEND;TZID=Europe/Berlin:20220323T231500
SUMMARY:HE 3. Liga Gr. 2 Aarberg IV vs Langnau (29)
UID:b32728bd-f5ab-4705-9a03-1ecd5f675f67
STATUS:CONFIRMED
LAST-MODIFIED:20220331T130643Z
DESCRIPTION:3. Liga Herren Gruppe 2\nBegegnungs-Nr: 29\nHeim: Aarberg IV\nGast: Langnau\n\nAdresse: Nidaustrasse 7\, 3270 Aarberg\n
LOCATION:Nidaustrasse 7\, 3270 Aarberg
CATEGORIES:Saison 2021/22
END:VEVENT
BEGIN:VEVENT
DTSTAMP:20260421T202457Z
DTSTART;TZID=Europe/Berlin:20220304T194500
DTEND;TZID=Europe/Berlin:20220304T224500
SUMMARY:HE 3. Liga Gr. 2 Aarberg IV vs Regio Moossee (21)
UID:1369f16b-91d8-42fa-ad47-6ac4354d3def
STATUS:CONFIRMED
LAST-MODIFIED:20220314T181218Z
DESCRIPTION:3. Liga Herren Gruppe 2\nBegegnungs-Nr: 21\nHeim: Aarberg IV\nGast: Regio Moossee\n\nAdresse: Nidaustrasse 7\, 3270 Aarberg\n
LOCATION:Nidaustrasse 7\, 3270 Aarberg
CATEGORIES:Saison 2021/22
END:VEVENT
BEGIN:VEVENT
DTSTAMP:20260421T202457Z
DTSTART;TZID=Europe/Berlin:20220209T201500
DTEND;TZID=Europe/Berlin:20220209T231500
SUMMARY:HE 3. Liga Gr. 2 Aarberg IV vs Wynigen (13)
UID:63a68ebf-0dcd-49db-ab94-6a96deb8c56c
STATUS:CONFIRMED
LAST-MODIFIED:20220211T230053Z
DESCRIPTION:3. Liga Herren Gruppe 2\nBegegnungs-Nr: 13\nHeim: Aarberg IV\nGast: Wynigen\n\nAdresse: Nidaustrasse 7\, 3270 Aarberg\n
LOCATION:Nidaustrasse 7\, 3270 Aarberg
CATEGORIES:Saison 2021/22
END:VEVENT
BEGIN:VEVENT
DTSTAMP:20260421T202457Z
DTSTART;TZID=Europe/Berlin:20220119T201500
DTEND;TZID=Europe/Berlin:20220119T231500
SUMMARY:HE 3. Liga Gr. 2 Aarberg IV vs SC Informatik Swisscom Wabern (5)
UID:53ca339d-3092-4a26-8752-4de6a7ba24f7
STATUS:CONFIRMED
LAST-MODIFIED:20220120T141020Z
DESCRIPTION:3. Liga Herren Gruppe 2\nBegegnungs-Nr: 5\nHeim: Aarberg IV\nGast: SC Informatik Swisscom Wabern\n\nAdresse: Nidaustrasse 7\, 3270 Aarberg\n
LOCATION:Nidaustrasse 7\, 3270 Aarberg
CATEGORIES:Saison 2021/22
END:VEVENT
BEGIN:VEVENT
DTSTAMP:20260421T202457Z
DTSTART;TZID=Europe/Berlin:20211119T194500
DTEND;TZID=Europe/Berlin:20211119T224500
SUMMARY:HE 3. Liga Gr. 2 Aarberg IV vs Kirchberg II (25)
UID:85918c65-cfc8-493e-b984-504a05501815
STATUS:CONFIRMED
LAST-MODIFIED:20211119T181739Z
DESCRIPTION:3. Liga Herren Gruppe 2\nBegegnungs-Nr: 25\nHeim: Aarberg IV\nGast: Kirchberg II\n\nAdresse: Nidaustrasse 7\, 3270 Aarberg\n
LOCATION:Nidaustrasse 7\, 3270 Aarberg
CATEGORIES:Saison 2021/22
END:VEVENT
BEGIN:VEVENT
DTSTAMP:20260421T202457Z
DTSTART;TZID=Europe/Berlin:20211208T201500
DTEND;TZID=Europe/Berlin:20211208T231500
SUMMARY:HE 3. Liga Gr. 2 Aarberg IV vs Thun III (33)
UID:461af5ce-9253-4492-8af6-f8df3d3a5931
STATUS:CONFIRMED
LAST-MODIFIED:20211212T205538Z
DESCRIPTION:3. Liga Herren Gruppe 2\nBegegnungs-Nr: 33\nHeim: Aarberg IV\nGast: Thun III\n\nAdresse: Nidaustrasse 7\, 3270 Aarberg\n
LOCATION:Nidaustrasse 7\, 3270 Aarberg
CATEGORIES:Saison 2021/22
END:VEVENT
BEGIN:VEVENT
DTSTAMP:20260421T202457Z
DTSTART;TZID=Europe/Berlin:20210915T201500
DTEND;TZID=Europe/Berlin:20210915T231500
SUMMARY:HE 3. Liga Gr. 2 Aarberg IV vs Burgdorf V (9)
UID:be548e3f-33d0-4664-8800-10c0fc18a64f
STATUS:CONFIRMED
LAST-MODIFIED:20211013T165550Z
DESCRIPTION:3. Liga Herren Gruppe 2\nBegegnungs-Nr: 9\nHeim: Aarberg IV\nGast: Burgdorf V\n\nAdresse: Nidaustrasse 7\, 3270 Aarberg\n
LOCATION:Nidaustrasse 7\, 3270 Aarberg
CATEGORIES:Saison 2021/22
END:VEVENT
BEGIN:VEVENT
DTSTAMP:20260421T202457Z
DTSTART;TZID=Europe/Berlin:20211116T194500
DTEND;TZID=Europe/Berlin:20211116T224500
SUMMARY:HE 3. Liga Gr. 2 Regio Moossee vs Aarberg IV (21)
UID:676a72fe-ac47-48e7-9722-a606128ea0b6
STATUS:CONFIRMED
LAST-MODIFIED:20211118T004112Z
DESCRIPTION:3. Liga Herren Gruppe 2\nBegegnungs-Nr: 21\nHeim: Regio Moossee\nGast: Aarberg IV\n\nAdresse: Schulhausstrasse 23-25\, 3302 Moosseedorf\n
LOCATION:Schulhausstrasse 23-25\, 3302 Moosseedorf
CATEGORIES:Saison 2021/22
END:VEVENT
BEGIN:VEVENT
DTSTAMP:20260421T202457Z
DTSTART;TZID=Europe/Berlin:20211014T200000
DTEND;TZID=Europe/Berlin:20211014T230000
SUMMARY:HE 3. Liga Gr. 2 Wynigen vs Aarberg IV (13)
UID:91f79f86-f3a2-46be-a6fa-6293d2f0e025
STATUS:CONFIRMED
LAST-MODIFIED:20211014T083328Z
DESCRIPTION:3. Liga Herren Gruppe 2\nBegegnungs-Nr: 13\nHeim: Wynigen\nGast: Aarberg IV\n\nAdresse: -\, 3472 Wynigen\n
LOCATION:-\, 3472 Wynigen
CATEGORIES:Saison 2021/22
END:VEVENT
BEGIN:VEVENT
DTSTAMP:20260421T202457Z
DTSTART;TZID=Europe/Berlin:20220315T200000
DTEND;TZID=Europe/Berlin:20220315T230000
SUMMARY:HE 3. Liga Gr. 2 Kirchberg II vs Aarberg IV (25)
UID:92ef575b-5262-4777-86da-ccc93bd28e23
STATUS:CONFIRMED
LAST-MODIFIED:20220320T140805Z
DESCRIPTION:3. Liga Herren Gruppe 2\nBegegnungs-Nr: 25\nHeim: Kirchberg II\nGast: Aarberg IV\n\nAdresse: Reinhardweg\, 3422 Kirchberg\n
LOCATION:Reinhardweg\, 3422 Kirchberg
CATEGORIES:Saison 2021/22
END:VEVENT
BEGIN:VEVENT
DTSTAMP:20260421T202457Z
DTSTART;TZID=Europe/Berlin:20220204T193000
DTEND;TZID=Europe/Berlin:20220204T223000
SUMMARY:HE 3. Liga Gr. 2 Burgdorf V vs Aarberg IV (9)
UID:3f4ac095-99d1-4ff8-805c-5644dfd473d3
STATUS:CONFIRMED
LAST-MODIFIED:20220211T225959Z
DESCRIPTION:3. Liga Herren Gruppe 2\nBegegnungs-Nr: 9\nHeim: Burgdorf V\nGast: Aarberg IV\n\nAdresse: Pestalozzistrasse 69\, 3400 Burgdorf\n
LOCATION:Pestalozzistrasse 69\, 3400 Burgdorf
CATEGORIES:Saison 2021/22
END:VEVENT
BEGIN:VEVENT
DTSTAMP:20260421T202457Z
DTSTART;TZID=Europe/Berlin:20220223T193000
DTEND;TZID=Europe/Berlin:20220223T223000
SUMMARY:HE 3. Liga Gr. 2 Bern II vs Aarberg IV (17)
UID:6817f18e-50ae-4c48-90b7-6819da42bbc5
STATUS:CONFIRMED
LAST-MODIFIED:20220301T094955Z
DESCRIPTION:3. Liga Herren Gruppe 2\nBegegnungs-Nr: 17\nHeim: Bern II\nGast: Aarberg IV\n\nAdresse: Papiermühlestrasse 81\, 3014 Bern\n
LOCATION:Papiermühlestrasse 81\, 3014 Bern
CATEGORIES:Saison 2021/22
END:VEVENT
BEGIN:VEVENT
DTSTAMP:20260421T202457Z
DTSTART;TZID=Europe/Berlin:20210906T193000
DTEND;TZID=Europe/Berlin:20210906T223000
SUMMARY:HE 3. Liga Gr. 2 SC Informatik Swisscom Wabern vs Aarberg IV (5)
UID:6c44409f-bde5-41ed-9840-b4c829d6caf3
STATUS:CONFIRMED
LAST-MODIFIED:20211013T165550Z
DESCRIPTION:3. Liga Herren Gruppe 2\nBegegnungs-Nr: 5\nHeim: SC Informatik Swisscom Wabern\nGast: Aarberg IV\n\nAdresse: Eichholzstrasse 29\, 3094 Wabern\n
LOCATION:Eichholzstrasse 29\, 3094 Wabern
CATEGORIES:Saison 2021/22
END:VEVENT
BEGIN:VEVENT
DTSTAMP:20260421T202457Z
DTSTART;TZID=Europe/Berlin:20211204T140000
DTEND;TZID=Europe/Berlin:20211204T170000
SUMMARY:HE 3. Liga Gr. 2 Langnau vs Aarberg IV (29)
UID:d2fdae46-21d4-4c3b-b538-8ba292936c3a
STATUS:CONFIRMED
LAST-MODIFIED:20211205T123605Z
DESCRIPTION:3. Liga Herren Gruppe 2\nBegegnungs-Nr: 29\nHeim: Langnau\nGast: Aarberg IV\n\nAdresse: Bleicheweg 11\, 3550 Langnau\n
LOCATION:Bleicheweg 11\, 3550 Langnau
CATEGORIES:Saison 2021/22
END:VEVENT
BEGIN:VEVENT
DTSTAMP:20260421T202457Z
DTSTART;TZID=Europe/Berlin:20220409T130000
DTEND;TZID=Europe/Berlin:20220409T160000
SUMMARY:HE 3. Liga Gr. 2 Thun III vs Aarberg IV (33)
UID:a93ccc04-6f4b-4c9a-878c-8458660c2120
STATUS:CONFIRMED
LAST-MODIFIED:20220410T114918Z
DESCRIPTION:3. Liga Herren Gruppe 2\nBegegnungs-Nr: 33\nHeim: Thun III\nGast: Aarberg IV\n\nAdresse: Hallerstrasse 28\, 3604 Thun\n
LOCATION:Hallerstrasse 28\, 3604 Thun
CATEGORIES:Saison 2021/22
END:VEVENT
END:VCALENDAR
