BEGIN:VCALENDAR
PRODID:-//nuDatenautomaten//framework iCal4j //DE
VERSION:2.0
CALSCALE:GREGORIAN
BEGIN:VTIMEZONE
TZID:Europe/Berlin
LAST-MODIFIED:20260306T231828Z
TZURL:https://www.tzurl.org/zoneinfo/Europe/Berlin
X-LIC-LOCATION:Europe/Berlin
X-PROLEPTIC-TZNAME:LMT
BEGIN:STANDARD
TZNAME:CET
TZOFFSETFROM:+005328
TZOFFSETTO:+0100
DTSTART:18930401T000000
END:STANDARD
BEGIN:DAYLIGHT
TZNAME:CEST
TZOFFSETFROM:+0100
TZOFFSETTO:+0200
DTSTART:19160430T230000
RDATE:19400401T020000
RDATE:19430329T020000
RDATE:19460414T020000
RDATE:19470406T030000
RDATE:19480418T020000
RDATE:19490410T020000
RDATE:19800406T020000
END:DAYLIGHT
BEGIN:STANDARD
TZNAME:CET
TZOFFSETFROM:+0200
TZOFFSETTO:+0100
DTSTART:19161001T010000
RDATE:19421102T030000
RDATE:19431004T030000
RDATE:19441002T030000
RDATE:19451118T030000
RDATE:19461007T030000
END:STANDARD
BEGIN:DAYLIGHT
TZNAME:CEST
TZOFFSETFROM:+0100
TZOFFSETTO:+0200
DTSTART:19170416T020000
RRULE:FREQ=YEARLY;UNTIL=19180415T010000Z;BYMONTH=4;BYDAY=3MO
END:DAYLIGHT
BEGIN:STANDARD
TZNAME:CET
TZOFFSETFROM:+0200
TZOFFSETTO:+0100
DTSTART:19170917T030000
RRULE:FREQ=YEARLY;UNTIL=19180916T010000Z;BYMONTH=9;BYDAY=3MO
END:STANDARD
BEGIN:DAYLIGHT
TZNAME:CEST
TZOFFSETFROM:+0100
TZOFFSETTO:+0200
DTSTART:19440403T020000
RRULE:FREQ=YEARLY;UNTIL=19450402T010000Z;BYMONTH=4;BYDAY=1MO
END:DAYLIGHT
BEGIN:DAYLIGHT
TZNAME:CEMT
TZOFFSETFROM:+0200
TZOFFSETTO:+0300
DTSTART:19450524T020000
RDATE:19470511T030000
END:DAYLIGHT
BEGIN:DAYLIGHT
TZNAME:CEST
TZOFFSETFROM:+0300
TZOFFSETTO:+0200
DTSTART:19450924T030000
RDATE:19470629T030000
END:DAYLIGHT
BEGIN:STANDARD
TZNAME:CET
TZOFFSETFROM:+0100
TZOFFSETTO:+0100
DTSTART:19460101T000000
RDATE:19800101T000000
END:STANDARD
BEGIN:STANDARD
TZNAME:CET
TZOFFSETFROM:+0200
TZOFFSETTO:+0100
DTSTART:19471005T030000
RRULE:FREQ=YEARLY;UNTIL=19491002T010000Z;BYMONTH=10;BYDAY=1SU
END:STANDARD
BEGIN:STANDARD
TZNAME:CET
TZOFFSETFROM:+0200
TZOFFSETTO:+0100
DTSTART:19800928T030000
RRULE:FREQ=YEARLY;UNTIL=19950924T010000Z;BYMONTH=9;BYDAY=-1SU
END:STANDARD
BEGIN:DAYLIGHT
TZNAME:CEST
TZOFFSETFROM:+0100
TZOFFSETTO:+0200
DTSTART:19810329T020000
RRULE:FREQ=YEARLY;BYMONTH=3;BYDAY=-1SU
END:DAYLIGHT
BEGIN:STANDARD
TZNAME:CET
TZOFFSETFROM:+0200
TZOFFSETTO:+0100
DTSTART:19961027T030000
RRULE:FREQ=YEARLY;BYMONTH=10;BYDAY=-1SU
END:STANDARD
END:VTIMEZONE
BEGIN:VEVENT
DTSTAMP:20260421T202223Z
DTSTART;TZID=Europe/Berlin:20211130T200000
DTEND;TZID=Europe/Berlin:20211130T230000
SUMMARY:HE 4. Liga Gr. 3 Kirchberg III vs Langnau II (25)
UID:bf623f1f-4b0c-44d9-b54a-5249d609b151
STATUS:CONFIRMED
LAST-MODIFIED:20211201T100632Z
DESCRIPTION:4. Liga Herren Gruppe 3\nBegegnungs-Nr: 25\nHeim: Kirchberg III\nGast: Langnau II\n\nAdresse: Reinhardweg\, 3422 Kirchberg\n
LOCATION:Reinhardweg\, 3422 Kirchberg
CATEGORIES:Saison 2021/22
END:VEVENT
BEGIN:VEVENT
DTSTAMP:20260421T202223Z
DTSTART;TZID=Europe/Berlin:20210831T200000
DTEND;TZID=Europe/Berlin:20210831T230000
SUMMARY:HE 4. Liga Gr. 3 Kirchberg III vs Burgdorf VII (1)
UID:816752cf-6590-4e65-9988-862d0096f4a8
STATUS:CONFIRMED
LAST-MODIFIED:20210901T162430Z
DESCRIPTION:4. Liga Herren Gruppe 3\nBegegnungs-Nr: 1\nHeim: Kirchberg III\nGast: Burgdorf VII\n\nAdresse: Reinhardweg\, 3422 Kirchberg\n
LOCATION:Reinhardweg\, 3422 Kirchberg
CATEGORIES:Saison 2021/22
END:VEVENT
BEGIN:VEVENT
DTSTAMP:20260421T202223Z
DTSTART;TZID=Europe/Berlin:20211102T200000
DTEND;TZID=Europe/Berlin:20211102T230000
SUMMARY:HE 4. Liga Gr. 3 Kirchberg III vs Köniz III (17)
UID:6b89722b-00f4-4f90-83a3-3f66e86d5b4b
STATUS:CONFIRMED
LAST-MODIFIED:20211104T223922Z
DESCRIPTION:4. Liga Herren Gruppe 3\nBegegnungs-Nr: 17\nHeim: Kirchberg III\nGast: Köniz III\n\nAdresse: Reinhardweg\, 3422 Kirchberg\n
LOCATION:Reinhardweg\, 3422 Kirchberg
CATEGORIES:Saison 2021/22
END:VEVENT
BEGIN:VEVENT
DTSTAMP:20260421T202223Z
DTSTART;TZID=Europe/Berlin:20210924T200000
DTEND;TZID=Europe/Berlin:20210924T230000
SUMMARY:HE 4. Liga Gr. 3 Kirchberg III vs Regio Moossee II (9)
UID:2b2bd40b-6681-451d-8586-34276716f01a
STATUS:CONFIRMED
LAST-MODIFIED:20210926T093149Z
DESCRIPTION:4. Liga Herren Gruppe 3\nBegegnungs-Nr: 9\nHeim: Kirchberg III\nGast: Regio Moossee II\n\nAdresse: Reinhardweg\, 3422 Kirchberg\n
LOCATION:Reinhardweg\, 3422 Kirchberg
CATEGORIES:Saison 2021/22
END:VEVENT
BEGIN:VEVENT
DTSTAMP:20260421T202223Z
DTSTART;TZID=Europe/Berlin:20220325T200000
DTEND;TZID=Europe/Berlin:20220325T230000
SUMMARY:HE 4. Liga Gr. 3 Kirchberg III vs Stettlen (21)
UID:d34c71de-4368-4e8b-a6a1-93f40110098f
STATUS:CONFIRMED
DESCRIPTION:4. Liga Herren Gruppe 3\nBegegnungs-Nr: 21\nHeim: Kirchberg III\nGast: Stettlen\n\nAdresse: Reinhardweg\, 3422 Kirchberg\n
LOCATION:Reinhardweg\, 3422 Kirchberg
CATEGORIES:Saison 2021/22
END:VEVENT
BEGIN:VEVENT
DTSTAMP:20260421T202223Z
DTSTART;TZID=Europe/Berlin:20220222T200000
DTEND;TZID=Europe/Berlin:20220222T230000
SUMMARY:HE 4. Liga Gr. 3 Kirchberg III vs Bern IV (13)
UID:ee2d1e05-e59e-4b44-a884-13594ced1b55
STATUS:CONFIRMED
DESCRIPTION:4. Liga Herren Gruppe 3\nBegegnungs-Nr: 13\nHeim: Kirchberg III\nGast: Bern IV\n\nAdresse: Reinhardweg\, 3422 Kirchberg\n
LOCATION:Reinhardweg\, 3422 Kirchberg
CATEGORIES:Saison 2021/22
END:VEVENT
BEGIN:VEVENT
DTSTAMP:20260421T202223Z
DTSTART;TZID=Europe/Berlin:20220118T200000
DTEND;TZID=Europe/Berlin:20220118T230000
SUMMARY:HE 4. Liga Gr. 3 Kirchberg III vs Ittigen (5)
UID:cee2d33b-50ad-40ee-9ec5-1944cf45b7a5
STATUS:CONFIRMED
LAST-MODIFIED:20220120T141054Z
DESCRIPTION:4. Liga Herren Gruppe 3\nBegegnungs-Nr: 5\nHeim: Kirchberg III\nGast: Ittigen\n\nAdresse: Reinhardweg\, 3422 Kirchberg\n
LOCATION:Reinhardweg\, 3422 Kirchberg
CATEGORIES:Saison 2021/22
END:VEVENT
BEGIN:VEVENT
DTSTAMP:20260421T202223Z
DTSTART;TZID=Europe/Berlin:20211124T200000
DTEND;TZID=Europe/Berlin:20211124T230000
SUMMARY:HE 4. Liga Gr. 3 Stettlen vs Kirchberg III (21)
UID:7fa8654e-c87e-4611-a3d8-99dcff67510c
STATUS:CONFIRMED
LAST-MODIFIED:20211125T110756Z
DESCRIPTION:4. Liga Herren Gruppe 3\nBegegnungs-Nr: 21\nHeim: Stettlen\nGast: Kirchberg III\n\nAdresse: Bernstrasse 45\, 3066 Stettlen\n
LOCATION:Bernstrasse 45\, 3066 Stettlen
CATEGORIES:Saison 2021/22
END:VEVENT
BEGIN:VEVENT
DTSTAMP:20260421T202223Z
DTSTART;TZID=Europe/Berlin:20211022T193000
DTEND;TZID=Europe/Berlin:20211022T223000
SUMMARY:HE 4. Liga Gr. 3 Bern IV vs Kirchberg III (13)
UID:4f61826d-8bb1-4ccb-a450-ada475ea20f6
STATUS:CONFIRMED
LAST-MODIFIED:20211025T061913Z
DESCRIPTION:4. Liga Herren Gruppe 3\nBegegnungs-Nr: 13\nHeim: Bern IV\nGast: Kirchberg III\n\nAdresse: Papiermühlestrasse 81\, 3014 Bern\n
LOCATION:Papiermühlestrasse 81\, 3014 Bern
CATEGORIES:Saison 2021/22
END:VEVENT
BEGIN:VEVENT
DTSTAMP:20260421T202223Z
DTSTART;TZID=Europe/Berlin:20210913T194500
DTEND;TZID=Europe/Berlin:20210913T224500
SUMMARY:HE 4. Liga Gr. 3 Ittigen vs Kirchberg III (5)
UID:6e587c2e-f2c1-41a1-859e-e400f455d230
STATUS:CONFIRMED
LAST-MODIFIED:20210913T221330Z
DESCRIPTION:4. Liga Herren Gruppe 3\nBegegnungs-Nr: 5\nHeim: Ittigen\nGast: Kirchberg III\n\nAdresse: Fischrainweg 17\, 3048 Worblaufen\n
LOCATION:Fischrainweg 17\, 3048 Worblaufen
CATEGORIES:Saison 2021/22
END:VEVENT
BEGIN:VEVENT
DTSTAMP:20260421T202223Z
DTSTART;TZID=Europe/Berlin:20220330T200000
DTEND;TZID=Europe/Berlin:20220330T230000
SUMMARY:HE 4. Liga Gr. 3 Langnau II vs Kirchberg III (25)
UID:bb95f66b-d4c0-4508-9e6f-7b39ac7484ca
STATUS:CONFIRMED
DESCRIPTION:4. Liga Herren Gruppe 3\nBegegnungs-Nr: 25\nHeim: Langnau II\nGast: Kirchberg III\n\nAdresse: Bleicheweg 11\, 3550 Langnau\n
LOCATION:Bleicheweg 11\, 3550 Langnau
CATEGORIES:Saison 2021/22
END:VEVENT
BEGIN:VEVENT
DTSTAMP:20260421T202223Z
DTSTART;TZID=Europe/Berlin:20220307T200000
DTEND;TZID=Europe/Berlin:20220307T230000
SUMMARY:HE 4. Liga Gr. 3 Köniz III vs Kirchberg III (17)
UID:25b35d0a-39d0-4a77-a5b1-cbbf2c48e250
STATUS:CONFIRMED
DESCRIPTION:4. Liga Herren Gruppe 3\nBegegnungs-Nr: 17\nHeim: Köniz III\nGast: Kirchberg III\n\nAdresse: Kirchstrasse 72-76\, 3084 Wabern\n
LOCATION:Kirchstrasse 72-76\, 3084 Wabern
CATEGORIES:Saison 2021/22
END:VEVENT
BEGIN:VEVENT
DTSTAMP:20260421T202223Z
DTSTART;TZID=Europe/Berlin:20211218T160000
DTEND;TZID=Europe/Berlin:20211218T190000
SUMMARY:HE 4. Liga Gr. 3 Burgdorf VII vs Kirchberg III (1)
UID:8d928031-e6d6-4f24-8736-4a3f03fe9d71
STATUS:CONFIRMED
LAST-MODIFIED:20211222T173622Z
DESCRIPTION:4. Liga Herren Gruppe 3\nBegegnungs-Nr: 1\nHeim: Burgdorf VII\nGast: Kirchberg III\n\nAdresse: Pestalozzistrasse 69\, 3400 Burgdorf\n
LOCATION:Pestalozzistrasse 69\, 3400 Burgdorf
CATEGORIES:Saison 2021/22
END:VEVENT
BEGIN:VEVENT
DTSTAMP:20260421T202223Z
DTSTART;TZID=Europe/Berlin:20220201T194500
DTEND;TZID=Europe/Berlin:20220201T224500
SUMMARY:HE 4. Liga Gr. 3 Regio Moossee II vs Kirchberg III (9)
UID:fac83538-092c-4b7d-b74a-9379d14d8d93
STATUS:CONFIRMED
DESCRIPTION:4. Liga Herren Gruppe 3\nBegegnungs-Nr: 9\nHeim: Regio Moossee II\nGast: Kirchberg III\n\nAdresse: Schulhausstrasse 23-25\, 3302 Moosseedorf\n
LOCATION:Schulhausstrasse 23-25\, 3302 Moosseedorf
CATEGORIES:Saison 2021/22
END:VEVENT
END:VCALENDAR
