BEGIN:VCALENDAR
PRODID:-//nuDatenautomaten//framework iCal4j //DE
VERSION:2.0
CALSCALE:GREGORIAN
BEGIN:VTIMEZONE
TZID:Europe/Berlin
LAST-MODIFIED:20260306T231828Z
TZURL:https://www.tzurl.org/zoneinfo/Europe/Berlin
X-LIC-LOCATION:Europe/Berlin
X-PROLEPTIC-TZNAME:LMT
BEGIN:STANDARD
TZNAME:CET
TZOFFSETFROM:+005328
TZOFFSETTO:+0100
DTSTART:18930401T000000
END:STANDARD
BEGIN:DAYLIGHT
TZNAME:CEST
TZOFFSETFROM:+0100
TZOFFSETTO:+0200
DTSTART:19160430T230000
RDATE:19400401T020000
RDATE:19430329T020000
RDATE:19460414T020000
RDATE:19470406T030000
RDATE:19480418T020000
RDATE:19490410T020000
RDATE:19800406T020000
END:DAYLIGHT
BEGIN:STANDARD
TZNAME:CET
TZOFFSETFROM:+0200
TZOFFSETTO:+0100
DTSTART:19161001T010000
RDATE:19421102T030000
RDATE:19431004T030000
RDATE:19441002T030000
RDATE:19451118T030000
RDATE:19461007T030000
END:STANDARD
BEGIN:DAYLIGHT
TZNAME:CEST
TZOFFSETFROM:+0100
TZOFFSETTO:+0200
DTSTART:19170416T020000
RRULE:FREQ=YEARLY;UNTIL=19180415T010000Z;BYMONTH=4;BYDAY=3MO
END:DAYLIGHT
BEGIN:STANDARD
TZNAME:CET
TZOFFSETFROM:+0200
TZOFFSETTO:+0100
DTSTART:19170917T030000
RRULE:FREQ=YEARLY;UNTIL=19180916T010000Z;BYMONTH=9;BYDAY=3MO
END:STANDARD
BEGIN:DAYLIGHT
TZNAME:CEST
TZOFFSETFROM:+0100
TZOFFSETTO:+0200
DTSTART:19440403T020000
RRULE:FREQ=YEARLY;UNTIL=19450402T010000Z;BYMONTH=4;BYDAY=1MO
END:DAYLIGHT
BEGIN:DAYLIGHT
TZNAME:CEMT
TZOFFSETFROM:+0200
TZOFFSETTO:+0300
DTSTART:19450524T020000
RDATE:19470511T030000
END:DAYLIGHT
BEGIN:DAYLIGHT
TZNAME:CEST
TZOFFSETFROM:+0300
TZOFFSETTO:+0200
DTSTART:19450924T030000
RDATE:19470629T030000
END:DAYLIGHT
BEGIN:STANDARD
TZNAME:CET
TZOFFSETFROM:+0100
TZOFFSETTO:+0100
DTSTART:19460101T000000
RDATE:19800101T000000
END:STANDARD
BEGIN:STANDARD
TZNAME:CET
TZOFFSETFROM:+0200
TZOFFSETTO:+0100
DTSTART:19471005T030000
RRULE:FREQ=YEARLY;UNTIL=19491002T010000Z;BYMONTH=10;BYDAY=1SU
END:STANDARD
BEGIN:STANDARD
TZNAME:CET
TZOFFSETFROM:+0200
TZOFFSETTO:+0100
DTSTART:19800928T030000
RRULE:FREQ=YEARLY;UNTIL=19950924T010000Z;BYMONTH=9;BYDAY=-1SU
END:STANDARD
BEGIN:DAYLIGHT
TZNAME:CEST
TZOFFSETFROM:+0100
TZOFFSETTO:+0200
DTSTART:19810329T020000
RRULE:FREQ=YEARLY;BYMONTH=3;BYDAY=-1SU
END:DAYLIGHT
BEGIN:STANDARD
TZNAME:CET
TZOFFSETFROM:+0200
TZOFFSETTO:+0100
DTSTART:19961027T030000
RRULE:FREQ=YEARLY;BYMONTH=10;BYDAY=-1SU
END:STANDARD
END:VTIMEZONE
BEGIN:VEVENT
DTSTAMP:20260421T202639Z
DTSTART;TZID=Europe/Berlin:20211115T200000
DTEND;TZID=Europe/Berlin:20211115T230000
SUMMARY:HE 5. Liga Gr. 1 Langnau III vs Münsingen IV (21)
UID:c502d98b-1c46-4b3b-9747-814d9834adb2
STATUS:CONFIRMED
LAST-MODIFIED:20211118T004309Z
DESCRIPTION:5. Liga Herren Gruppe 1\nBegegnungs-Nr: 21\nHeim: Langnau III\nGast: Münsingen IV\n\nAdresse: Bleicheweg 11\, 3550 Langnau\n
LOCATION:Bleicheweg 11\, 3550 Langnau
CATEGORIES:Saison 2021/22
END:VEVENT
BEGIN:VEVENT
DTSTAMP:20260421T202639Z
DTSTART;TZID=Europe/Berlin:20210823T200000
DTEND;TZID=Europe/Berlin:20210823T230000
SUMMARY:HE 5. Liga Gr. 1 Langnau III vs Thun VII (3)
UID:f3f2e549-85db-4ac9-aeb1-03a1ece7fa18
STATUS:CONFIRMED
LAST-MODIFIED:20210826T100004Z
DESCRIPTION:5. Liga Herren Gruppe 1\nBegegnungs-Nr: 3\nHeim: Langnau III\nGast: Thun VII\n\nAdresse: Bleicheweg 11\, 3550 Langnau\n
LOCATION:Bleicheweg 11\, 3550 Langnau
CATEGORIES:Saison 2021/22
END:VEVENT
BEGIN:VEVENT
DTSTAMP:20260421T202639Z
DTSTART;TZID=Europe/Berlin:20210908T200000
DTEND;TZID=Europe/Berlin:20210908T230000
SUMMARY:HE 5. Liga Gr. 1 Langnau III vs Belp IV (11)
UID:3c687039-e189-44ea-9760-eca4e5efc1c3
STATUS:CONFIRMED
LAST-MODIFIED:20210913T221424Z
DESCRIPTION:5. Liga Herren Gruppe 1\nBegegnungs-Nr: 11\nHeim: Langnau III\nGast: Belp IV\n\nAdresse: Bleicheweg 11\, 3550 Langnau\n
LOCATION:Bleicheweg 11\, 3550 Langnau
CATEGORIES:Saison 2021/22
END:VEVENT
BEGIN:VEVENT
DTSTAMP:20260421T202639Z
DTSTART;TZID=Europe/Berlin:20220307T200000
DTEND;TZID=Europe/Berlin:20220307T230000
SUMMARY:HE 5. Liga Gr. 1 Langnau III vs Ostermundigen VI (18)
UID:4ed95828-e3b0-441f-b992-1534596adc6e
STATUS:CONFIRMED
DESCRIPTION:5. Liga Herren Gruppe 1\nBegegnungs-Nr: 18\nHeim: Langnau III\nGast: Ostermundigen VI\n\nAdresse: Bleicheweg 11\, 3550 Langnau\n
LOCATION:Bleicheweg 11\, 3550 Langnau
CATEGORIES:Saison 2021/22
END:VEVENT
BEGIN:VEVENT
DTSTAMP:20260421T202639Z
DTSTART;TZID=Europe/Berlin:20220221T200000
DTEND;TZID=Europe/Berlin:20220221T230000
SUMMARY:HE 5. Liga Gr. 1 Langnau III vs Bern VI (15)
UID:bd14510a-29ad-4a6c-b988-7ff5b59cea6f
STATUS:CONFIRMED
DESCRIPTION:5. Liga Herren Gruppe 1\nBegegnungs-Nr: 15\nHeim: Langnau III\nGast: Bern VI\n\nAdresse: Bleicheweg 11\, 3550 Langnau\n
LOCATION:Bleicheweg 11\, 3550 Langnau
CATEGORIES:Saison 2021/22
END:VEVENT
BEGIN:VEVENT
DTSTAMP:20260421T202639Z
DTSTART;TZID=Europe/Berlin:20211206T200000
DTEND;TZID=Europe/Berlin:20211206T230000
SUMMARY:HE 5. Liga Gr. 1 Langnau III vs Ittigen II (26)
UID:91f0b528-7e8e-4a6b-b282-99d6393302d6
STATUS:CONFIRMED
LAST-MODIFIED:20211212T210023Z
DESCRIPTION:5. Liga Herren Gruppe 1\nBegegnungs-Nr: 26\nHeim: Langnau III\nGast: Ittigen II\n\nAdresse: Bleicheweg 11\, 3550 Langnau\n
LOCATION:Bleicheweg 11\, 3550 Langnau
CATEGORIES:Saison 2021/22
END:VEVENT
BEGIN:VEVENT
DTSTAMP:20260421T202639Z
DTSTART;TZID=Europe/Berlin:20210916T194500
DTEND;TZID=Europe/Berlin:20210916T224500
SUMMARY:HE 5. Liga Gr. 1 Tiefenau II vs Langnau III (7)
UID:a821c297-b558-4de1-b659-c9c7edad8e37
STATUS:CONFIRMED
LAST-MODIFIED:20210920T122212Z
DESCRIPTION:5. Liga Herren Gruppe 1\nBegegnungs-Nr: 7\nHeim: Tiefenau II\nGast: Langnau III\n\nAdresse: Studerstrasse 56\, 3004 Bern\n
LOCATION:Studerstrasse 56\, 3004 Bern
CATEGORIES:Saison 2021/22
END:VEVENT
BEGIN:VEVENT
DTSTAMP:20260421T202639Z
DTSTART;TZID=Europe/Berlin:20220325T200000
DTEND;TZID=Europe/Berlin:20220325T230000
SUMMARY:HE 5. Liga Gr. 1 Münsingen IV vs Langnau III (21)
UID:79017df2-d3bb-4ab5-a170-dbc7b32bf6ff
STATUS:CONFIRMED
DESCRIPTION:5. Liga Herren Gruppe 1\nBegegnungs-Nr: 21\nHeim: Münsingen IV\nGast: Langnau III\n\nAdresse: Turnhallenweg 8\, 3110 Münsingen\n
LOCATION:Turnhallenweg 8\, 3110 Münsingen
CATEGORIES:Saison 2021/22
END:VEVENT
BEGIN:VEVENT
DTSTAMP:20260421T202639Z
DTSTART;TZID=Europe/Berlin:20220328T194500
DTEND;TZID=Europe/Berlin:20220328T224500
SUMMARY:HE 5. Liga Gr. 1 Ittigen II vs Langnau III (26)
UID:99b3f5d7-dfd3-4fa9-a23c-859090501aa2
STATUS:CONFIRMED
DESCRIPTION:5. Liga Herren Gruppe 1\nBegegnungs-Nr: 26\nHeim: Ittigen II\nGast: Langnau III\n\nAdresse: Fischrainweg 17\, 3048 Worblaufen\n
LOCATION:Fischrainweg 17\, 3048 Worblaufen
CATEGORIES:Saison 2021/22
END:VEVENT
BEGIN:VEVENT
DTSTAMP:20260421T202639Z
DTSTART;TZID=Europe/Berlin:20220114T194500
DTEND;TZID=Europe/Berlin:20220114T224500
SUMMARY:HE 5. Liga Gr. 1 Thun VII vs Langnau III (3)
UID:831d4202-0c9a-4b7a-a9d2-fcb8556f0989
STATUS:CONFIRMED
LAST-MODIFIED:20220116T132454Z
DESCRIPTION:5. Liga Herren Gruppe 1\nBegegnungs-Nr: 3\nHeim: Thun VII\nGast: Langnau III\n\nAdresse: Hallerstrasse 28\, 3604 Thun\n
LOCATION:Hallerstrasse 28\, 3604 Thun
CATEGORIES:Saison 2021/22
END:VEVENT
BEGIN:VEVENT
DTSTAMP:20260421T202639Z
DTSTART;TZID=Europe/Berlin:20220218T200000
DTEND;TZID=Europe/Berlin:20220218T230000
SUMMARY:HE 5. Liga Gr. 1 Belp IV vs Langnau III (11)
UID:494016d8-ee83-4116-8800-d7f75a427af2
STATUS:CONFIRMED
LAST-MODIFIED:20220114T100710Z
DESCRIPTION:5. Liga Herren Gruppe 1\nBegegnungs-Nr: 11\nHeim: Belp IV\nGast: Langnau III\n\nAdresse: Neumattstrasse 39\, 3123 Belp\n
LOCATION:Neumattstrasse 39\, 3123 Belp
CATEGORIES:Saison 2021/22
END:VEVENT
BEGIN:VEVENT
DTSTAMP:20260421T202639Z
DTSTART;TZID=Europe/Berlin:20211110T193000
DTEND;TZID=Europe/Berlin:20211110T223000
SUMMARY:HE 5. Liga Gr. 1 Ostermundigen VI vs Langnau III (18)
UID:57080508-330a-410d-80a0-0b04bc8ee84d
STATUS:CONFIRMED
LAST-MODIFIED:20211110T215113Z
DESCRIPTION:5. Liga Herren Gruppe 1\nBegegnungs-Nr: 18\nHeim: Ostermundigen VI\nGast: Langnau III\n\nAdresse: Dennigkofenweg 169\, 3072 Ostermundigen\n
LOCATION:Dennigkofenweg 169\, 3072 Ostermundigen
CATEGORIES:Saison 2021/22
END:VEVENT
BEGIN:VEVENT
DTSTAMP:20260421T202639Z
DTSTART;TZID=Europe/Berlin:20211020T193000
DTEND;TZID=Europe/Berlin:20211020T223000
SUMMARY:HE 5. Liga Gr. 1 Bern VI vs Langnau III (15)
UID:0c28d9bc-29f9-4def-be71-e95075b9a6de
STATUS:CONFIRMED
LAST-MODIFIED:20211021T083128Z
DESCRIPTION:5. Liga Herren Gruppe 1\nBegegnungs-Nr: 15\nHeim: Bern VI\nGast: Langnau III\n\nAdresse: Papiermühlestrasse 81\, 3014 Bern\n
LOCATION:Papiermühlestrasse 81\, 3014 Bern
CATEGORIES:Saison 2021/22
END:VEVENT
END:VCALENDAR
