BEGIN:VCALENDAR
PRODID:-//nuDatenautomaten//framework iCal4j //DE
VERSION:2.0
CALSCALE:GREGORIAN
BEGIN:VTIMEZONE
TZID:Europe/Berlin
LAST-MODIFIED:20260306T231828Z
TZURL:https://www.tzurl.org/zoneinfo/Europe/Berlin
X-LIC-LOCATION:Europe/Berlin
X-PROLEPTIC-TZNAME:LMT
BEGIN:STANDARD
TZNAME:CET
TZOFFSETFROM:+005328
TZOFFSETTO:+0100
DTSTART:18930401T000000
END:STANDARD
BEGIN:DAYLIGHT
TZNAME:CEST
TZOFFSETFROM:+0100
TZOFFSETTO:+0200
DTSTART:19160430T230000
RDATE:19400401T020000
RDATE:19430329T020000
RDATE:19460414T020000
RDATE:19470406T030000
RDATE:19480418T020000
RDATE:19490410T020000
RDATE:19800406T020000
END:DAYLIGHT
BEGIN:STANDARD
TZNAME:CET
TZOFFSETFROM:+0200
TZOFFSETTO:+0100
DTSTART:19161001T010000
RDATE:19421102T030000
RDATE:19431004T030000
RDATE:19441002T030000
RDATE:19451118T030000
RDATE:19461007T030000
END:STANDARD
BEGIN:DAYLIGHT
TZNAME:CEST
TZOFFSETFROM:+0100
TZOFFSETTO:+0200
DTSTART:19170416T020000
RRULE:FREQ=YEARLY;UNTIL=19180415T010000Z;BYMONTH=4;BYDAY=3MO
END:DAYLIGHT
BEGIN:STANDARD
TZNAME:CET
TZOFFSETFROM:+0200
TZOFFSETTO:+0100
DTSTART:19170917T030000
RRULE:FREQ=YEARLY;UNTIL=19180916T010000Z;BYMONTH=9;BYDAY=3MO
END:STANDARD
BEGIN:DAYLIGHT
TZNAME:CEST
TZOFFSETFROM:+0100
TZOFFSETTO:+0200
DTSTART:19440403T020000
RRULE:FREQ=YEARLY;UNTIL=19450402T010000Z;BYMONTH=4;BYDAY=1MO
END:DAYLIGHT
BEGIN:DAYLIGHT
TZNAME:CEMT
TZOFFSETFROM:+0200
TZOFFSETTO:+0300
DTSTART:19450524T020000
RDATE:19470511T030000
END:DAYLIGHT
BEGIN:DAYLIGHT
TZNAME:CEST
TZOFFSETFROM:+0300
TZOFFSETTO:+0200
DTSTART:19450924T030000
RDATE:19470629T030000
END:DAYLIGHT
BEGIN:STANDARD
TZNAME:CET
TZOFFSETFROM:+0100
TZOFFSETTO:+0100
DTSTART:19460101T000000
RDATE:19800101T000000
END:STANDARD
BEGIN:STANDARD
TZNAME:CET
TZOFFSETFROM:+0200
TZOFFSETTO:+0100
DTSTART:19471005T030000
RRULE:FREQ=YEARLY;UNTIL=19491002T010000Z;BYMONTH=10;BYDAY=1SU
END:STANDARD
BEGIN:STANDARD
TZNAME:CET
TZOFFSETFROM:+0200
TZOFFSETTO:+0100
DTSTART:19800928T030000
RRULE:FREQ=YEARLY;UNTIL=19950924T010000Z;BYMONTH=9;BYDAY=-1SU
END:STANDARD
BEGIN:DAYLIGHT
TZNAME:CEST
TZOFFSETFROM:+0100
TZOFFSETTO:+0200
DTSTART:19810329T020000
RRULE:FREQ=YEARLY;BYMONTH=3;BYDAY=-1SU
END:DAYLIGHT
BEGIN:STANDARD
TZNAME:CET
TZOFFSETFROM:+0200
TZOFFSETTO:+0100
DTSTART:19961027T030000
RRULE:FREQ=YEARLY;BYMONTH=10;BYDAY=-1SU
END:STANDARD
END:VTIMEZONE
BEGIN:VEVENT
DTSTAMP:20260421T202246Z
DTSTART;TZID=Europe/Berlin:20211014T200000
DTEND;TZID=Europe/Berlin:20211014T230000
SUMMARY:HE 3. Liga Gr. 2 Wynigen vs Aarberg IV (13)
UID:91f79f86-f3a2-46be-a6fa-6293d2f0e025
STATUS:CONFIRMED
LAST-MODIFIED:20211014T083328Z
DESCRIPTION:3. Liga Herren Gruppe 2\nBegegnungs-Nr: 13\nHeim: Wynigen\nGast: Aarberg IV\n\nAdresse: -\, 3472 Wynigen\n
LOCATION:-\, 3472 Wynigen
CATEGORIES:Saison 2021/22
END:VEVENT
BEGIN:VEVENT
DTSTAMP:20260421T202246Z
DTSTART;TZID=Europe/Berlin:20220407T200000
DTEND;TZID=Europe/Berlin:20220407T230000
SUMMARY:HE 3. Liga Gr. 2 Wynigen vs Kirchberg II (35)
UID:34ec5753-f877-45ce-9f99-8b16344c7eb0
STATUS:CONFIRMED
DESCRIPTION:3. Liga Herren Gruppe 2\nBegegnungs-Nr: 35\nHeim: Wynigen\nGast: Kirchberg II\n\nAdresse: -\, 3472 Wynigen\n
LOCATION:-\, 3472 Wynigen
CATEGORIES:Saison 2021/22
END:VEVENT
BEGIN:VEVENT
DTSTAMP:20260421T202246Z
DTSTART;TZID=Europe/Berlin:20220303T200000
DTEND;TZID=Europe/Berlin:20220303T230000
SUMMARY:HE 3. Liga Gr. 2 Wynigen vs SC Informatik Swisscom Wabern (24)
UID:6bd0bc72-d9a9-4e20-841c-13fc78f3f1eb
STATUS:CONFIRMED
DESCRIPTION:3. Liga Herren Gruppe 2\nBegegnungs-Nr: 24\nHeim: Wynigen\nGast: SC Informatik Swisscom Wabern\n\nAdresse: -\, 3472 Wynigen\n
LOCATION:-\, 3472 Wynigen
CATEGORIES:Saison 2021/22
END:VEVENT
BEGIN:VEVENT
DTSTAMP:20260421T202246Z
DTSTART;TZID=Europe/Berlin:20211216T200000
DTEND;TZID=Europe/Berlin:20211216T230000
SUMMARY:HE 3. Liga Gr. 2 Wynigen vs Langnau (2)
UID:0ff9c2ad-e305-4fb5-8f5d-2eddb2e81ea2
STATUS:CONFIRMED
LAST-MODIFIED:20211222T173440Z
DESCRIPTION:3. Liga Herren Gruppe 2\nBegegnungs-Nr: 2\nHeim: Wynigen\nGast: Langnau\n\nAdresse: -\, 3472 Wynigen\n
LOCATION:-\, 3472 Wynigen
CATEGORIES:Saison 2021/22
END:VEVENT
BEGIN:VEVENT
DTSTAMP:20260421T202246Z
DTSTART;TZID=Europe/Berlin:20220203T200000
DTEND;TZID=Europe/Berlin:20220203T230000
SUMMARY:HE 3. Liga Gr. 2 Wynigen vs Regio Moossee (12)
UID:300ccf44-67ee-4c06-8daa-1efdb5efb85a
STATUS:CONFIRMED
DESCRIPTION:3. Liga Herren Gruppe 2\nBegegnungs-Nr: 12\nHeim: Wynigen\nGast: Regio Moossee\n\nAdresse: -\, 3472 Wynigen\n
LOCATION:-\, 3472 Wynigen
CATEGORIES:Saison 2021/22
END:VEVENT
BEGIN:VEVENT
DTSTAMP:20260421T202246Z
DTSTART;TZID=Europe/Berlin:20220217T200000
DTEND;TZID=Europe/Berlin:20220217T230000
SUMMARY:HE 3. Liga Gr. 2 Wynigen vs Thun III (18)
UID:4dc73ea4-b0b7-4b3a-a036-350575ef9ce7
STATUS:CONFIRMED
DESCRIPTION:3. Liga Herren Gruppe 2\nBegegnungs-Nr: 18\nHeim: Wynigen\nGast: Thun III\n\nAdresse: -\, 3472 Wynigen\n
LOCATION:-\, 3472 Wynigen
CATEGORIES:Saison 2021/22
END:VEVENT
BEGIN:VEVENT
DTSTAMP:20260421T202246Z
DTSTART;TZID=Europe/Berlin:20210902T200000
DTEND;TZID=Europe/Berlin:20210902T230000
SUMMARY:HE 3. Liga Gr. 2 Wynigen vs Bern II (7)
UID:c6a08033-7744-47b2-a54e-debd487ff583
STATUS:CONFIRMED
LAST-MODIFIED:20210907T093000Z
DESCRIPTION:3. Liga Herren Gruppe 2\nBegegnungs-Nr: 7\nHeim: Wynigen\nGast: Bern II\n\nAdresse: -\, 3472 Wynigen\n
LOCATION:-\, 3472 Wynigen
CATEGORIES:Saison 2021/22
END:VEVENT
BEGIN:VEVENT
DTSTAMP:20260421T202246Z
DTSTART;TZID=Europe/Berlin:20211125T200000
DTEND;TZID=Europe/Berlin:20211125T230000
SUMMARY:HE 3. Liga Gr. 2 Wynigen vs Burgdorf V (28)
UID:1515fc63-c500-42cb-8b84-a56706d51d15
STATUS:CONFIRMED
LAST-MODIFIED:20211126T112328Z
DESCRIPTION:3. Liga Herren Gruppe 2\nBegegnungs-Nr: 28\nHeim: Wynigen\nGast: Burgdorf V\n\nAdresse: -\, 3472 Wynigen\n
LOCATION:-\, 3472 Wynigen
CATEGORIES:Saison 2021/22
END:VEVENT
BEGIN:VEVENT
DTSTAMP:20260421T202246Z
DTSTART;TZID=Europe/Berlin:20211207T200000
DTEND;TZID=Europe/Berlin:20211207T230000
SUMMARY:HE 3. Liga Gr. 2 Kirchberg II vs Wynigen (35)
UID:0790b8cb-f2b4-4da7-a9f8-9ee6c9212643
STATUS:CONFIRMED
LAST-MODIFIED:20211212T205514Z
DESCRIPTION:3. Liga Herren Gruppe 2\nBegegnungs-Nr: 35\nHeim: Kirchberg II\nGast: Wynigen\n\nAdresse: Reinhardweg\, 3422 Kirchberg\n
LOCATION:Reinhardweg\, 3422 Kirchberg
CATEGORIES:Saison 2021/22
END:VEVENT
BEGIN:VEVENT
DTSTAMP:20260421T202246Z
DTSTART;TZID=Europe/Berlin:20211030T160000
DTEND;TZID=Europe/Berlin:20211030T190000
SUMMARY:HE 3. Liga Gr. 2 Thun III vs Wynigen (18)
UID:01a8445c-ccaa-4fd1-87bd-fd99e23126c4
STATUS:CONFIRMED
LAST-MODIFIED:20211031T085910Z
DESCRIPTION:3. Liga Herren Gruppe 2\nBegegnungs-Nr: 18\nHeim: Thun III\nGast: Wynigen\n\nAdresse: Hallerstrasse 28\, 3604 Thun\n
LOCATION:Hallerstrasse 28\, 3604 Thun
CATEGORIES:Saison 2021/22
END:VEVENT
BEGIN:VEVENT
DTSTAMP:20260421T202246Z
DTSTART;TZID=Europe/Berlin:20211005T194500
DTEND;TZID=Europe/Berlin:20211005T224500
SUMMARY:HE 3. Liga Gr. 2 Regio Moossee vs Wynigen (12)
UID:dbf0ffb6-775a-402a-812d-3884498ac322
STATUS:CONFIRMED
LAST-MODIFIED:20211006T111300Z
DESCRIPTION:3. Liga Herren Gruppe 2\nBegegnungs-Nr: 12\nHeim: Regio Moossee\nGast: Wynigen\n\nAdresse: Schulhausstrasse 23-25\, 3302 Moosseedorf\n
LOCATION:Schulhausstrasse 23-25\, 3302 Moosseedorf
CATEGORIES:Saison 2021/22
END:VEVENT
BEGIN:VEVENT
DTSTAMP:20260421T202246Z
DTSTART;TZID=Europe/Berlin:20220311T193000
DTEND;TZID=Europe/Berlin:20220311T223000
SUMMARY:HE 3. Liga Gr. 2 Burgdorf V vs Wynigen (28)
UID:d1b30889-d781-4688-bb5e-c58b2d61b6d5
STATUS:CONFIRMED
LAST-MODIFIED:20210712T172012Z
DESCRIPTION:3. Liga Herren Gruppe 2\nBegegnungs-Nr: 28\nHeim: Burgdorf V\nGast: Wynigen\n\nAdresse: Pestalozzistrasse 69\, 3400 Burgdorf\n
LOCATION:Pestalozzistrasse 69\, 3400 Burgdorf
CATEGORIES:Saison 2021/22
END:VEVENT
BEGIN:VEVENT
DTSTAMP:20260421T202246Z
DTSTART;TZID=Europe/Berlin:20220209T201500
DTEND;TZID=Europe/Berlin:20220209T231500
SUMMARY:HE 3. Liga Gr. 2 Aarberg IV vs Wynigen (13)
UID:63a68ebf-0dcd-49db-ab94-6a96deb8c56c
STATUS:CONFIRMED
LAST-MODIFIED:20220211T230053Z
DESCRIPTION:3. Liga Herren Gruppe 2\nBegegnungs-Nr: 13\nHeim: Aarberg IV\nGast: Wynigen\n\nAdresse: Nidaustrasse 7\, 3270 Aarberg\n
LOCATION:Nidaustrasse 7\, 3270 Aarberg
CATEGORIES:Saison 2021/22
END:VEVENT
BEGIN:VEVENT
DTSTAMP:20260421T202246Z
DTSTART;TZID=Europe/Berlin:20211115T193000
DTEND;TZID=Europe/Berlin:20211115T223000
SUMMARY:HE 3. Liga Gr. 2 SC Informatik Swisscom Wabern vs Wynigen (24)
UID:fae6d103-6b2e-4a34-8caa-60392cc12da5
STATUS:CONFIRMED
LAST-MODIFIED:20211118T004057Z
DESCRIPTION:3. Liga Herren Gruppe 2\nBegegnungs-Nr: 24\nHeim: SC Informatik Swisscom Wabern\nGast: Wynigen\n\nAdresse: Eichholzstrasse 29\, 3094 Wabern\n
LOCATION:Eichholzstrasse 29\, 3094 Wabern
CATEGORIES:Saison 2021/22
END:VEVENT
BEGIN:VEVENT
DTSTAMP:20260421T202246Z
DTSTART;TZID=Europe/Berlin:20210904T140000
DTEND;TZID=Europe/Berlin:20210904T170000
SUMMARY:HE 3. Liga Gr. 2 Langnau vs Wynigen (2)
UID:3dbfe707-74f7-4b07-99b8-ad05743ef16f
STATUS:CONFIRMED
LAST-MODIFIED:20210907T093016Z
DESCRIPTION:3. Liga Herren Gruppe 2\nBegegnungs-Nr: 2\nHeim: Langnau\nGast: Wynigen\n\nAdresse: Bleicheweg 11\, 3550 Langnau\n
LOCATION:Bleicheweg 11\, 3550 Langnau
CATEGORIES:Saison 2021/22
END:VEVENT
END:VCALENDAR
