BEGIN:VCALENDAR
PRODID:-//nuDatenautomaten//framework iCal4j //DE
VERSION:2.0
CALSCALE:GREGORIAN
BEGIN:VTIMEZONE
TZID:Europe/Berlin
LAST-MODIFIED:20260306T231828Z
TZURL:https://www.tzurl.org/zoneinfo/Europe/Berlin
X-LIC-LOCATION:Europe/Berlin
X-PROLEPTIC-TZNAME:LMT
BEGIN:STANDARD
TZNAME:CET
TZOFFSETFROM:+005328
TZOFFSETTO:+0100
DTSTART:18930401T000000
END:STANDARD
BEGIN:DAYLIGHT
TZNAME:CEST
TZOFFSETFROM:+0100
TZOFFSETTO:+0200
DTSTART:19160430T230000
RDATE:19400401T020000
RDATE:19430329T020000
RDATE:19460414T020000
RDATE:19470406T030000
RDATE:19480418T020000
RDATE:19490410T020000
RDATE:19800406T020000
END:DAYLIGHT
BEGIN:STANDARD
TZNAME:CET
TZOFFSETFROM:+0200
TZOFFSETTO:+0100
DTSTART:19161001T010000
RDATE:19421102T030000
RDATE:19431004T030000
RDATE:19441002T030000
RDATE:19451118T030000
RDATE:19461007T030000
END:STANDARD
BEGIN:DAYLIGHT
TZNAME:CEST
TZOFFSETFROM:+0100
TZOFFSETTO:+0200
DTSTART:19170416T020000
RRULE:FREQ=YEARLY;UNTIL=19180415T010000Z;BYMONTH=4;BYDAY=3MO
END:DAYLIGHT
BEGIN:STANDARD
TZNAME:CET
TZOFFSETFROM:+0200
TZOFFSETTO:+0100
DTSTART:19170917T030000
RRULE:FREQ=YEARLY;UNTIL=19180916T010000Z;BYMONTH=9;BYDAY=3MO
END:STANDARD
BEGIN:DAYLIGHT
TZNAME:CEST
TZOFFSETFROM:+0100
TZOFFSETTO:+0200
DTSTART:19440403T020000
RRULE:FREQ=YEARLY;UNTIL=19450402T010000Z;BYMONTH=4;BYDAY=1MO
END:DAYLIGHT
BEGIN:DAYLIGHT
TZNAME:CEMT
TZOFFSETFROM:+0200
TZOFFSETTO:+0300
DTSTART:19450524T020000
RDATE:19470511T030000
END:DAYLIGHT
BEGIN:DAYLIGHT
TZNAME:CEST
TZOFFSETFROM:+0300
TZOFFSETTO:+0200
DTSTART:19450924T030000
RDATE:19470629T030000
END:DAYLIGHT
BEGIN:STANDARD
TZNAME:CET
TZOFFSETFROM:+0100
TZOFFSETTO:+0100
DTSTART:19460101T000000
RDATE:19800101T000000
END:STANDARD
BEGIN:STANDARD
TZNAME:CET
TZOFFSETFROM:+0200
TZOFFSETTO:+0100
DTSTART:19471005T030000
RRULE:FREQ=YEARLY;UNTIL=19491002T010000Z;BYMONTH=10;BYDAY=1SU
END:STANDARD
BEGIN:STANDARD
TZNAME:CET
TZOFFSETFROM:+0200
TZOFFSETTO:+0100
DTSTART:19800928T030000
RRULE:FREQ=YEARLY;UNTIL=19950924T010000Z;BYMONTH=9;BYDAY=-1SU
END:STANDARD
BEGIN:DAYLIGHT
TZNAME:CEST
TZOFFSETFROM:+0100
TZOFFSETTO:+0200
DTSTART:19810329T020000
RRULE:FREQ=YEARLY;BYMONTH=3;BYDAY=-1SU
END:DAYLIGHT
BEGIN:STANDARD
TZNAME:CET
TZOFFSETFROM:+0200
TZOFFSETTO:+0100
DTSTART:19961027T030000
RRULE:FREQ=YEARLY;BYMONTH=10;BYDAY=-1SU
END:STANDARD
END:VTIMEZONE
BEGIN:VEVENT
DTSTAMP:20260420T000557Z
DTSTART;TZID=Europe/Berlin:20211203T200000
DTEND;TZID=Europe/Berlin:20211203T230000
SUMMARY:HE 5.Liga Gr.3 Winterthur V vs Embrach III (0)
UID:8ee4c75d-59f3-43fc-b56b-b7bd0f592a06
STATUS:CONFIRMED
LAST-MODIFIED:20211214T102449Z
DESCRIPTION:5. Liga Herren Gruppe 3\nBegegnungs-Nr: 0\nHeim: Winterthur V\nGast: Embrach III\n\nAdresse: Buchackerstrasse 54\, 8400 Winterthur\n
LOCATION:Buchackerstrasse 54\, 8400 Winterthur
CATEGORIES:Saison 2021/22
END:VEVENT
BEGIN:VEVENT
DTSTAMP:20260420T000557Z
DTSTART;TZID=Europe/Berlin:20211105T200000
DTEND;TZID=Europe/Berlin:20211105T230000
SUMMARY:HE 5.Liga Gr.3 Winterthur V vs Kreuzlingen II (0)
UID:37688257-5466-4e9f-b941-eedd6fa6af19
STATUS:CONFIRMED
LAST-MODIFIED:20211108T095329Z
DESCRIPTION:5. Liga Herren Gruppe 3\nBegegnungs-Nr: 0\nHeim: Winterthur V\nGast: Kreuzlingen II\n\nAdresse: Buchackerstrasse 54\, 8400 Winterthur\n
LOCATION:Buchackerstrasse 54\, 8400 Winterthur
CATEGORIES:Saison 2021/22
END:VEVENT
BEGIN:VEVENT
DTSTAMP:20260420T000557Z
DTSTART;TZID=Europe/Berlin:20210924T200000
DTEND;TZID=Europe/Berlin:20210924T230000
SUMMARY:HE 5.Liga Gr.3 Winterthur V vs Steckborn-Homburg III (0)
UID:4f6ce689-1a29-41ab-a813-0478d77ad9ea
STATUS:CONFIRMED
LAST-MODIFIED:20210927T082351Z
DESCRIPTION:5. Liga Herren Gruppe 3\nBegegnungs-Nr: 0\nHeim: Winterthur V\nGast: Steckborn-Homburg III\n\nAdresse: Buchackerstrasse 54\, 8400 Winterthur\n
LOCATION:Buchackerstrasse 54\, 8400 Winterthur
CATEGORIES:Saison 2021/22
END:VEVENT
BEGIN:VEVENT
DTSTAMP:20260420T000557Z
DTSTART;TZID=Europe/Berlin:20210917T200000
DTEND;TZID=Europe/Berlin:20210917T230000
SUMMARY:HE 5.Liga Gr.3 Winterthur V vs Imperial Winterthur II (0)
UID:bb55dea7-b59b-4ec0-96cc-97d79a1c3630
STATUS:CONFIRMED
LAST-MODIFIED:20210920T053834Z
DESCRIPTION:5. Liga Herren Gruppe 3\nBegegnungs-Nr: 0\nHeim: Winterthur V\nGast: Imperial Winterthur II\n\nAdresse: Buchackerstrasse 54\, 8400 Winterthur\n
LOCATION:Buchackerstrasse 54\, 8400 Winterthur
CATEGORIES:Saison 2021/22
END:VEVENT
BEGIN:VEVENT
DTSTAMP:20260420T000557Z
DTSTART;TZID=Europe/Berlin:20220114T200000
DTEND;TZID=Europe/Berlin:20220114T230000
SUMMARY:HE 5.Liga Gr.3 Winterthur V vs Frauenfeld II (0)
UID:c33fbe7d-965c-4876-8c55-0a7afa2c2c4b
STATUS:CONFIRMED
LAST-MODIFIED:20220118T111633Z
DESCRIPTION:5. Liga Herren Gruppe 3\nBegegnungs-Nr: 0\nHeim: Winterthur V\nGast: Frauenfeld II\n\nAdresse: Buchackerstrasse 54\, 8400 Winterthur\n
LOCATION:Buchackerstrasse 54\, 8400 Winterthur
CATEGORIES:Saison 2021/22
END:VEVENT
BEGIN:VEVENT
DTSTAMP:20260420T000557Z
DTSTART;TZID=Europe/Berlin:20220318T200000
DTEND;TZID=Europe/Berlin:20220318T230000
SUMMARY:HE 5.Liga Gr.3 Winterthur V vs Weinfelden II (0)
UID:5ea43ac5-de80-4c4c-bec6-65daa1b8b998
STATUS:CONFIRMED
LAST-MODIFIED:20220322T110902Z
DESCRIPTION:5. Liga Herren Gruppe 3\nBegegnungs-Nr: 0\nHeim: Winterthur V\nGast: Weinfelden II\n\nAdresse: Buchackerstrasse 54\, 8400 Winterthur\n
LOCATION:Buchackerstrasse 54\, 8400 Winterthur
CATEGORIES:Saison 2021/22
END:VEVENT
BEGIN:VEVENT
DTSTAMP:20260420T000557Z
DTSTART;TZID=Europe/Berlin:20220225T200000
DTEND;TZID=Europe/Berlin:20220225T230000
SUMMARY:HE 5.Liga Gr.3 Winterthur V vs Schaffhausen (0)
UID:bb6fc983-0db6-45f3-ae4d-8cd7d75063fa
STATUS:CONFIRMED
LAST-MODIFIED:20220301T075631Z
DESCRIPTION:5. Liga Herren Gruppe 3\nBegegnungs-Nr: 0\nHeim: Winterthur V\nGast: Schaffhausen\n\nAdresse: Buchackerstrasse 54\, 8400 Winterthur\n
LOCATION:Buchackerstrasse 54\, 8400 Winterthur
CATEGORIES:Saison 2021/22
END:VEVENT
BEGIN:VEVENT
DTSTAMP:20260420T000557Z
DTSTART;TZID=Europe/Berlin:20211109T201500
DTEND;TZID=Europe/Berlin:20211109T231500
SUMMARY:HE 5.Liga Gr.3 Weinfelden II vs Winterthur V (0)
UID:905eb4c9-a7e1-4261-ae42-c4ffa723fd50
STATUS:CONFIRMED
LAST-MODIFIED:20211111T092204Z
DESCRIPTION:5. Liga Herren Gruppe 3\nBegegnungs-Nr: 0\nHeim: Weinfelden II\nGast: Winterthur V\n\nAdresse: Bleichestrasse 3 (neben Hallenbad)\, 8570 Weinfelden\n
LOCATION:Bleichestrasse 3 (neben Hallenbad)\, 8570 Weinfelden
CATEGORIES:Saison 2021/22
END:VEVENT
BEGIN:VEVENT
DTSTAMP:20260420T000557Z
DTSTART;TZID=Europe/Berlin:20210927T193000
DTEND;TZID=Europe/Berlin:20210927T223000
SUMMARY:HE 5.Liga Gr.3 Schaffhausen vs Winterthur V (0)
UID:7942d6ee-4874-49f5-9079-6c4af495fa89
STATUS:CONFIRMED
LAST-MODIFIED:20211004T120414Z
DESCRIPTION:5. Liga Herren Gruppe 3\nBegegnungs-Nr: 0\nHeim: Schaffhausen\nGast: Winterthur V\n\nAdresse: Grünaustieg 30\, 8200 Schaffhausen\n
LOCATION:Grünaustieg 30\, 8200 Schaffhausen
CATEGORIES:Saison 2021/22
END:VEVENT
BEGIN:VEVENT
DTSTAMP:20260420T000557Z
DTSTART;TZID=Europe/Berlin:20210909T200000
DTEND;TZID=Europe/Berlin:20210909T230000
SUMMARY:HE 5.Liga Gr.3 Frauenfeld II vs Winterthur V (0)
UID:5001e36a-f817-421b-8177-74d214651fe6
STATUS:CONFIRMED
LAST-MODIFIED:20210916T100204Z
DESCRIPTION:5. Liga Herren Gruppe 3\nBegegnungs-Nr: 0\nHeim: Frauenfeld II\nGast: Winterthur V\n\nAdresse: Scheuchenstrasse\, 8500 Frauenfeld\n
LOCATION:Scheuchenstrasse\, 8500 Frauenfeld
CATEGORIES:Saison 2021/22
END:VEVENT
BEGIN:VEVENT
DTSTAMP:20260420T000557Z
DTSTART;TZID=Europe/Berlin:20220216T194500
DTEND;TZID=Europe/Berlin:20220216T224500
SUMMARY:HE 5.Liga Gr.3 Kreuzlingen II vs Winterthur V (0)
UID:7ac9a553-bf06-42b0-950b-981d2b0cc74e
STATUS:CONFIRMED
LAST-MODIFIED:20220110T123051Z
DESCRIPTION:5. Liga Herren Gruppe 3\nBegegnungs-Nr: 0\nHeim: Kreuzlingen II\nGast: Winterthur V\n\nAdresse: Rothausstrasse 14\, 8280 Kreuzlingen\n
LOCATION:Rothausstrasse 14\, 8280 Kreuzlingen
CATEGORIES:Saison 2021/22
END:VEVENT
BEGIN:VEVENT
DTSTAMP:20260420T000557Z
DTSTART;TZID=Europe/Berlin:20220126T201500
DTEND;TZID=Europe/Berlin:20220126T231500
SUMMARY:HE 5.Liga Gr.3 Steckborn-Homburg III vs Winterthur V (0)
UID:6e64892e-4b9a-4db2-aa01-c2e675819a15
STATUS:CONFIRMED
LAST-MODIFIED:20220127T110338Z
DESCRIPTION:5. Liga Herren Gruppe 3\nBegegnungs-Nr: 0\nHeim: Steckborn-Homburg III\nGast: Winterthur V\n\nAdresse: Schulstrasse 4\, 8508 Unterhörstetten\n
LOCATION:Schulstrasse 4\, 8508 Unterhörstetten
CATEGORIES:Saison 2021/22
END:VEVENT
BEGIN:VEVENT
DTSTAMP:20260420T000557Z
DTSTART;TZID=Europe/Berlin:20220221T200000
DTEND;TZID=Europe/Berlin:20220221T230000
SUMMARY:HE 5.Liga Gr.3 Imperial Winterthur II vs Winterthur V (0)
UID:89fba48d-2f4f-4523-9131-510fc09844a4
STATUS:CONFIRMED
LAST-MODIFIED:20220225T094500Z
DESCRIPTION:5. Liga Herren Gruppe 3\nBegegnungs-Nr: 0\nHeim: Imperial Winterthur II\nGast: Winterthur V\n\nAdresse: Büelhofstrasse 25a\, 8405 Winterthur\n
LOCATION:Büelhofstrasse 25a\, 8405 Winterthur
CATEGORIES:Saison 2021/22
END:VEVENT
BEGIN:VEVENT
DTSTAMP:20260420T000557Z
DTSTART;TZID=Europe/Berlin:20220331T200000
DTEND;TZID=Europe/Berlin:20220331T230000
SUMMARY:HE 5.Liga Gr.3 Embrach III vs Winterthur V (0)
UID:042d9bdf-9b05-44db-9c26-3582c9fa8d4f
STATUS:CONFIRMED
LAST-MODIFIED:20220401T100924Z
DESCRIPTION:5. Liga Herren Gruppe 3\nBegegnungs-Nr: 0\nHeim: Embrach III\nGast: Winterthur V\n\nAdresse: Schützenhausstrasse 20\, 8424 Embrach\n
LOCATION:Schützenhausstrasse 20\, 8424 Embrach
CATEGORIES:Saison 2021/22
END:VEVENT
END:VCALENDAR
