BEGIN:VCALENDAR
PRODID:-//nuDatenautomaten//framework iCal4j //DE
VERSION:2.0
CALSCALE:GREGORIAN
BEGIN:VTIMEZONE
TZID:Europe/Berlin
LAST-MODIFIED:20260306T231828Z
TZURL:https://www.tzurl.org/zoneinfo/Europe/Berlin
X-LIC-LOCATION:Europe/Berlin
X-PROLEPTIC-TZNAME:LMT
BEGIN:STANDARD
TZNAME:CET
TZOFFSETFROM:+005328
TZOFFSETTO:+0100
DTSTART:18930401T000000
END:STANDARD
BEGIN:DAYLIGHT
TZNAME:CEST
TZOFFSETFROM:+0100
TZOFFSETTO:+0200
DTSTART:19160430T230000
RDATE:19400401T020000
RDATE:19430329T020000
RDATE:19460414T020000
RDATE:19470406T030000
RDATE:19480418T020000
RDATE:19490410T020000
RDATE:19800406T020000
END:DAYLIGHT
BEGIN:STANDARD
TZNAME:CET
TZOFFSETFROM:+0200
TZOFFSETTO:+0100
DTSTART:19161001T010000
RDATE:19421102T030000
RDATE:19431004T030000
RDATE:19441002T030000
RDATE:19451118T030000
RDATE:19461007T030000
END:STANDARD
BEGIN:DAYLIGHT
TZNAME:CEST
TZOFFSETFROM:+0100
TZOFFSETTO:+0200
DTSTART:19170416T020000
RRULE:FREQ=YEARLY;UNTIL=19180415T010000Z;BYMONTH=4;BYDAY=3MO
END:DAYLIGHT
BEGIN:STANDARD
TZNAME:CET
TZOFFSETFROM:+0200
TZOFFSETTO:+0100
DTSTART:19170917T030000
RRULE:FREQ=YEARLY;UNTIL=19180916T010000Z;BYMONTH=9;BYDAY=3MO
END:STANDARD
BEGIN:DAYLIGHT
TZNAME:CEST
TZOFFSETFROM:+0100
TZOFFSETTO:+0200
DTSTART:19440403T020000
RRULE:FREQ=YEARLY;UNTIL=19450402T010000Z;BYMONTH=4;BYDAY=1MO
END:DAYLIGHT
BEGIN:DAYLIGHT
TZNAME:CEMT
TZOFFSETFROM:+0200
TZOFFSETTO:+0300
DTSTART:19450524T020000
RDATE:19470511T030000
END:DAYLIGHT
BEGIN:DAYLIGHT
TZNAME:CEST
TZOFFSETFROM:+0300
TZOFFSETTO:+0200
DTSTART:19450924T030000
RDATE:19470629T030000
END:DAYLIGHT
BEGIN:STANDARD
TZNAME:CET
TZOFFSETFROM:+0100
TZOFFSETTO:+0100
DTSTART:19460101T000000
RDATE:19800101T000000
END:STANDARD
BEGIN:STANDARD
TZNAME:CET
TZOFFSETFROM:+0200
TZOFFSETTO:+0100
DTSTART:19471005T030000
RRULE:FREQ=YEARLY;UNTIL=19491002T010000Z;BYMONTH=10;BYDAY=1SU
END:STANDARD
BEGIN:STANDARD
TZNAME:CET
TZOFFSETFROM:+0200
TZOFFSETTO:+0100
DTSTART:19800928T030000
RRULE:FREQ=YEARLY;UNTIL=19950924T010000Z;BYMONTH=9;BYDAY=-1SU
END:STANDARD
BEGIN:DAYLIGHT
TZNAME:CEST
TZOFFSETFROM:+0100
TZOFFSETTO:+0200
DTSTART:19810329T020000
RRULE:FREQ=YEARLY;BYMONTH=3;BYDAY=-1SU
END:DAYLIGHT
BEGIN:STANDARD
TZNAME:CET
TZOFFSETFROM:+0200
TZOFFSETTO:+0100
DTSTART:19961027T030000
RRULE:FREQ=YEARLY;BYMONTH=10;BYDAY=-1SU
END:STANDARD
END:VTIMEZONE
BEGIN:VEVENT
DTSTAMP:20260419T231337Z
DTSTART;TZID=Europe/Berlin:20211202T200000
DTEND;TZID=Europe/Berlin:20211202T230000
SUMMARY:HE 6.Liga Gr.3 Neuhausen VI vs Schaffhausen II (0)
UID:741ca4dc-2f63-46bc-a688-58048ee67480
STATUS:CONFIRMED
LAST-MODIFIED:20211214T132754Z
DESCRIPTION:6. Liga Herren Gruppe 3\nBegegnungs-Nr: 0\nHeim: Neuhausen VI\nGast: Schaffhausen II\n\nAdresse: Ebnatstrasse 35\, 8200 Schaffhausen\n
LOCATION:Ebnatstrasse 35\, 8200 Schaffhausen
CATEGORIES:Saison 2021/22
END:VEVENT
BEGIN:VEVENT
DTSTAMP:20260419T231337Z
DTSTART;TZID=Europe/Berlin:20211111T200000
DTEND;TZID=Europe/Berlin:20211111T230000
SUMMARY:HE 6.Liga Gr.3 Neuhausen VI vs Steckborn-Homburg VI (0)
UID:425bcb42-eb88-48d1-b23a-fb7ea29e1ab3
STATUS:CONFIRMED
LAST-MODIFIED:20211118T123918Z
DESCRIPTION:6. Liga Herren Gruppe 3\nBegegnungs-Nr: 0\nHeim: Neuhausen VI\nGast: Steckborn-Homburg VI\n\nAdresse: Ebnatstrasse 35\, 8200 Schaffhausen\n
LOCATION:Ebnatstrasse 35\, 8200 Schaffhausen
CATEGORIES:Saison 2021/22
END:VEVENT
BEGIN:VEVENT
DTSTAMP:20260419T231337Z
DTSTART;TZID=Europe/Berlin:20210923T200000
DTEND;TZID=Europe/Berlin:20210923T230000
SUMMARY:HE 6.Liga Gr.3 Neuhausen VI vs Steckborn-Homburg V (0)
UID:9592101e-ee55-45f3-a11d-b6f878d3f4ac
STATUS:CONFIRMED
LAST-MODIFIED:20210927T090154Z
DESCRIPTION:6. Liga Herren Gruppe 3\nBegegnungs-Nr: 0\nHeim: Neuhausen VI\nGast: Steckborn-Homburg V\n\nAdresse: Ebnatstrasse 35\, 8200 Schaffhausen\n
LOCATION:Ebnatstrasse 35\, 8200 Schaffhausen
CATEGORIES:Saison 2021/22
END:VEVENT
BEGIN:VEVENT
DTSTAMP:20260419T231337Z
DTSTART;TZID=Europe/Berlin:20210902T200000
DTEND;TZID=Europe/Berlin:20210902T230000
SUMMARY:HE 6.Liga Gr.3 Neuhausen VI vs Ettenhausen VI (0)
UID:2d68c0ad-952b-46fd-8217-12178c16cf46
STATUS:CONFIRMED
LAST-MODIFIED:20210908T142608Z
DESCRIPTION:6. Liga Herren Gruppe 3\nBegegnungs-Nr: 0\nHeim: Neuhausen VI\nGast: Ettenhausen VI\n\nAdresse: Ebnatstrasse 35\, 8200 Schaffhausen\n
LOCATION:Ebnatstrasse 35\, 8200 Schaffhausen
CATEGORIES:Saison 2021/22
END:VEVENT
BEGIN:VEVENT
DTSTAMP:20260419T231337Z
DTSTART;TZID=Europe/Berlin:20220224T200000
DTEND;TZID=Europe/Berlin:20220224T230000
SUMMARY:HE 6.Liga Gr.3 Neuhausen VI vs Kreuzlingen III (0)
UID:4b76eb64-9d9c-45cc-b78a-c570bb5e6d9c
STATUS:CONFIRMED
LAST-MODIFIED:20220301T080246Z
DESCRIPTION:6. Liga Herren Gruppe 3\nBegegnungs-Nr: 0\nHeim: Neuhausen VI\nGast: Kreuzlingen III\n\nAdresse: Ebnatstrasse 35\, 8200 Schaffhausen\n
LOCATION:Ebnatstrasse 35\, 8200 Schaffhausen
CATEGORIES:Saison 2021/22
END:VEVENT
BEGIN:VEVENT
DTSTAMP:20260419T231337Z
DTSTART;TZID=Europe/Berlin:20220113T200000
DTEND;TZID=Europe/Berlin:20220113T230000
SUMMARY:HE 6.Liga Gr.3 Neuhausen VI vs Weinfelden III (0)
UID:0ba5ac26-184f-4080-b57b-8da44f2f4a19
STATUS:CONFIRMED
LAST-MODIFIED:20220118T112456Z
DESCRIPTION:6. Liga Herren Gruppe 3\nBegegnungs-Nr: 0\nHeim: Neuhausen VI\nGast: Weinfelden III\n\nAdresse: Ebnatstrasse 35\, 8200 Schaffhausen\n
LOCATION:Ebnatstrasse 35\, 8200 Schaffhausen
CATEGORIES:Saison 2021/22
END:VEVENT
BEGIN:VEVENT
DTSTAMP:20260419T231337Z
DTSTART;TZID=Europe/Berlin:20220310T200000
DTEND;TZID=Europe/Berlin:20220310T230000
SUMMARY:HE 6.Liga Gr.3 Neuhausen VI vs Imperial Winterthur III (0)
UID:79550556-9660-4b9e-89c5-9d8d30124ff2
STATUS:CONFIRMED
LAST-MODIFIED:20220311T083624Z
DESCRIPTION:6. Liga Herren Gruppe 3\nBegegnungs-Nr: 0\nHeim: Neuhausen VI\nGast: Imperial Winterthur III\n\nAdresse: Ebnatstrasse 35\, 8200 Schaffhausen\n
LOCATION:Ebnatstrasse 35\, 8200 Schaffhausen
CATEGORIES:Saison 2021/22
END:VEVENT
BEGIN:VEVENT
DTSTAMP:20260419T231337Z
DTSTART;TZID=Europe/Berlin:20211104T200000
DTEND;TZID=Europe/Berlin:20211104T230000
SUMMARY:HE 6.Liga Gr.3 Imperial Winterthur III vs Neuhausen VI (0)
UID:12ce7daa-dd48-4d73-81fa-79ebd22ab632
STATUS:CONFIRMED
LAST-MODIFIED:20211108T100443Z
DESCRIPTION:6. Liga Herren Gruppe 3\nBegegnungs-Nr: 0\nHeim: Imperial Winterthur III\nGast: Neuhausen VI\n\nAdresse: Büelhofstrasse 25a\, 8405 Winterthur\n
LOCATION:Büelhofstrasse 25a\, 8405 Winterthur
CATEGORIES:Saison 2021/22
END:VEVENT
BEGIN:VEVENT
DTSTAMP:20260419T231337Z
DTSTART;TZID=Europe/Berlin:20210929T194500
DTEND;TZID=Europe/Berlin:20210929T224500
SUMMARY:HE 6.Liga Gr.3 Kreuzlingen III vs Neuhausen VI (0)
UID:60553049-8d5c-4000-be98-c316432ef5a6
STATUS:CONFIRMED
LAST-MODIFIED:20211004T122657Z
DESCRIPTION:6. Liga Herren Gruppe 3\nBegegnungs-Nr: 0\nHeim: Kreuzlingen III\nGast: Neuhausen VI\n\nAdresse: Rothausstrasse 14\, 8280 Kreuzlingen\n
LOCATION:Rothausstrasse 14\, 8280 Kreuzlingen
CATEGORIES:Saison 2021/22
END:VEVENT
BEGIN:VEVENT
DTSTAMP:20260419T231337Z
DTSTART;TZID=Europe/Berlin:20210909T200000
DTEND;TZID=Europe/Berlin:20210909T230000
SUMMARY:HE 6.Liga Gr.3 Weinfelden III vs Neuhausen VI (0)
UID:3f41c8bb-c318-43d2-a2b7-5c458d200143
STATUS:CONFIRMED
LAST-MODIFIED:20210916T101030Z
DESCRIPTION:6. Liga Herren Gruppe 3\nBegegnungs-Nr: 0\nHeim: Weinfelden III\nGast: Neuhausen VI\n\nAdresse: Bleichestrasse 3 (neben Hallenbad)\, 8570 Weinfelden\n
LOCATION:Bleichestrasse 3 (neben Hallenbad)\, 8570 Weinfelden
CATEGORIES:Saison 2021/22
END:VEVENT
BEGIN:VEVENT
DTSTAMP:20260419T231337Z
DTSTART;TZID=Europe/Berlin:20220315T201500
DTEND;TZID=Europe/Berlin:20220315T231500
SUMMARY:HE 6.Liga Gr.3 Steckborn-Homburg V vs Neuhausen VI (0)
UID:fe5b8d38-6e3f-42b6-8635-84d3fc6db9cc
STATUS:CONFIRMED
LAST-MODIFIED:20220322T112026Z
DESCRIPTION:6. Liga Herren Gruppe 3\nBegegnungs-Nr: 0\nHeim: Steckborn-Homburg V\nGast: Neuhausen VI\n\nAdresse: Feldbach\, 8266 Steckborn\n
LOCATION:Feldbach\, 8266 Steckborn
CATEGORIES:Saison 2021/22
END:VEVENT
BEGIN:VEVENT
DTSTAMP:20260419T231337Z
DTSTART;TZID=Europe/Berlin:20220108T113000
DTEND;TZID=Europe/Berlin:20220108T143000
SUMMARY:HE 6.Liga Gr.3 Ettenhausen VI vs Neuhausen VI (0)
UID:dc2bdf20-a1ea-45e6-9fb5-45b3b4412cce
STATUS:CONFIRMED
LAST-MODIFIED:20220110T121856Z
DESCRIPTION:6. Liga Herren Gruppe 3\nBegegnungs-Nr: 0\nHeim: Ettenhausen VI\nGast: Neuhausen VI\n\nAdresse: Weidlistrasse 12\, 8356 Ettenhausen\n
LOCATION:Weidlistrasse 12\, 8356 Ettenhausen
CATEGORIES:Saison 2021/22
END:VEVENT
BEGIN:VEVENT
DTSTAMP:20260419T231337Z
DTSTART;TZID=Europe/Berlin:20220328T193000
DTEND;TZID=Europe/Berlin:20220328T223000
SUMMARY:HE 6.Liga Gr.3 Schaffhausen II vs Neuhausen VI (0)
UID:249637f3-095c-4202-87af-e3c3d2a1918e
STATUS:CONFIRMED
LAST-MODIFIED:20220330T084844Z
DESCRIPTION:6. Liga Herren Gruppe 3\nBegegnungs-Nr: 0\nHeim: Schaffhausen II\nGast: Neuhausen VI\n\nAdresse: Grünaustieg 30\, 8200 Schaffhausen\n
LOCATION:Grünaustieg 30\, 8200 Schaffhausen
CATEGORIES:Saison 2021/22
END:VEVENT
BEGIN:VEVENT
DTSTAMP:20260419T231337Z
DTSTART;TZID=Europe/Berlin:20220318T201500
DTEND;TZID=Europe/Berlin:20220318T231500
SUMMARY:HE 6.Liga Gr.3 Steckborn-Homburg VI vs Neuhausen VI (0)
UID:bac0b883-4375-4cfe-99c0-7eb2306356ce
STATUS:CONFIRMED
LAST-MODIFIED:20220322T112052Z
DESCRIPTION:6. Liga Herren Gruppe 3\nBegegnungs-Nr: 0\nHeim: Steckborn-Homburg VI\nGast: Neuhausen VI\n\nAdresse: Schulstrasse 4\, 8508 Unterhörstetten\n
LOCATION:Schulstrasse 4\, 8508 Unterhörstetten
CATEGORIES:Saison 2021/22
END:VEVENT
END:VCALENDAR
