BEGIN:VCALENDAR
PRODID:-//nuDatenautomaten//framework iCal4j //DE
VERSION:2.0
CALSCALE:GREGORIAN
BEGIN:VTIMEZONE
TZID:Europe/Berlin
LAST-MODIFIED:20260306T231828Z
TZURL:https://www.tzurl.org/zoneinfo/Europe/Berlin
X-LIC-LOCATION:Europe/Berlin
X-PROLEPTIC-TZNAME:LMT
BEGIN:STANDARD
TZNAME:CET
TZOFFSETFROM:+005328
TZOFFSETTO:+0100
DTSTART:18930401T000000
END:STANDARD
BEGIN:DAYLIGHT
TZNAME:CEST
TZOFFSETFROM:+0100
TZOFFSETTO:+0200
DTSTART:19160430T230000
RDATE:19400401T020000
RDATE:19430329T020000
RDATE:19460414T020000
RDATE:19470406T030000
RDATE:19480418T020000
RDATE:19490410T020000
RDATE:19800406T020000
END:DAYLIGHT
BEGIN:STANDARD
TZNAME:CET
TZOFFSETFROM:+0200
TZOFFSETTO:+0100
DTSTART:19161001T010000
RDATE:19421102T030000
RDATE:19431004T030000
RDATE:19441002T030000
RDATE:19451118T030000
RDATE:19461007T030000
END:STANDARD
BEGIN:DAYLIGHT
TZNAME:CEST
TZOFFSETFROM:+0100
TZOFFSETTO:+0200
DTSTART:19170416T020000
RRULE:FREQ=YEARLY;UNTIL=19180415T010000Z;BYMONTH=4;BYDAY=3MO
END:DAYLIGHT
BEGIN:STANDARD
TZNAME:CET
TZOFFSETFROM:+0200
TZOFFSETTO:+0100
DTSTART:19170917T030000
RRULE:FREQ=YEARLY;UNTIL=19180916T010000Z;BYMONTH=9;BYDAY=3MO
END:STANDARD
BEGIN:DAYLIGHT
TZNAME:CEST
TZOFFSETFROM:+0100
TZOFFSETTO:+0200
DTSTART:19440403T020000
RRULE:FREQ=YEARLY;UNTIL=19450402T010000Z;BYMONTH=4;BYDAY=1MO
END:DAYLIGHT
BEGIN:DAYLIGHT
TZNAME:CEMT
TZOFFSETFROM:+0200
TZOFFSETTO:+0300
DTSTART:19450524T020000
RDATE:19470511T030000
END:DAYLIGHT
BEGIN:DAYLIGHT
TZNAME:CEST
TZOFFSETFROM:+0300
TZOFFSETTO:+0200
DTSTART:19450924T030000
RDATE:19470629T030000
END:DAYLIGHT
BEGIN:STANDARD
TZNAME:CET
TZOFFSETFROM:+0100
TZOFFSETTO:+0100
DTSTART:19460101T000000
RDATE:19800101T000000
END:STANDARD
BEGIN:STANDARD
TZNAME:CET
TZOFFSETFROM:+0200
TZOFFSETTO:+0100
DTSTART:19471005T030000
RRULE:FREQ=YEARLY;UNTIL=19491002T010000Z;BYMONTH=10;BYDAY=1SU
END:STANDARD
BEGIN:STANDARD
TZNAME:CET
TZOFFSETFROM:+0200
TZOFFSETTO:+0100
DTSTART:19800928T030000
RRULE:FREQ=YEARLY;UNTIL=19950924T010000Z;BYMONTH=9;BYDAY=-1SU
END:STANDARD
BEGIN:DAYLIGHT
TZNAME:CEST
TZOFFSETFROM:+0100
TZOFFSETTO:+0200
DTSTART:19810329T020000
RRULE:FREQ=YEARLY;BYMONTH=3;BYDAY=-1SU
END:DAYLIGHT
BEGIN:STANDARD
TZNAME:CET
TZOFFSETFROM:+0200
TZOFFSETTO:+0100
DTSTART:19961027T030000
RRULE:FREQ=YEARLY;BYMONTH=10;BYDAY=-1SU
END:STANDARD
END:VTIMEZONE
BEGIN:VEVENT
DTSTAMP:20260421T202725Z
DTSTART;TZID=Europe/Berlin:20200912T140000
DTEND;TZID=Europe/Berlin:20200912T170000
SUMMARY:HE 3. Liga Gr. 2 Langnau vs Aarberg V (6)
UID:655bd00a-896f-4c9e-9c18-9e2e9c573e25
STATUS:CONFIRMED
LAST-MODIFIED:20200914T081756Z
DESCRIPTION:3. Liga Herren Gruppe 2\nBegegnungs-Nr: 6\nHeim: Langnau\nGast: Aarberg V\n\nAdresse: Bleicheweg 11\, 3550 Langnau\n
LOCATION:Bleicheweg 11\, 3550 Langnau
CATEGORIES:Saison 2020/21
END:VEVENT
BEGIN:VEVENT
DTSTAMP:20260421T202725Z
DTSTART;TZID=Europe/Berlin:20201205T140000
DTEND;TZID=Europe/Berlin:20201205T170000
SUMMARY:HE 3. Liga Gr. 2 Langnau vs Ostermundigen IV (35)
UID:cd42de6b-8096-4b47-834e-e7accbf83ce5
STATUS:CONFIRMED
DESCRIPTION:3. Liga Herren Gruppe 2\nBegegnungs-Nr: 35\nHeim: Langnau\nGast: Ostermundigen IV\n\nAdresse: Bleicheweg 11\, 3550 Langnau\n
LOCATION:Bleicheweg 11\, 3550 Langnau
CATEGORIES:Saison 2020/21
END:VEVENT
BEGIN:VEVENT
DTSTAMP:20260421T202725Z
DTSTART;TZID=Europe/Berlin:20210109T140000
DTEND;TZID=Europe/Berlin:20210109T170000
SUMMARY:HE 3. Liga Gr. 2 Langnau vs Ittigen (2)
UID:3724fa6e-85db-4d6c-8d22-91895366ad45
STATUS:CONFIRMED
LAST-MODIFIED:20200805T102144Z
DESCRIPTION:3. Liga Herren Gruppe 2\nBegegnungs-Nr: 2\nHeim: Langnau\nGast: Ittigen\n\nAdresse: Bleicheweg 11\, 3550 Langnau\n
LOCATION:Bleicheweg 11\, 3550 Langnau
CATEGORIES:Saison 2020/21
END:VEVENT
BEGIN:VEVENT
DTSTAMP:20260421T202725Z
DTSTART;TZID=Europe/Berlin:20210130T140000
DTEND;TZID=Europe/Berlin:20210130T170000
SUMMARY:HE 3. Liga Gr. 2 Langnau vs Bern II (11)
UID:f36a5243-82bc-4953-aacb-ddd4b1616889
STATUS:CONFIRMED
LAST-MODIFIED:20200720T205235Z
DESCRIPTION:3. Liga Herren Gruppe 2\nBegegnungs-Nr: 11\nHeim: Langnau\nGast: Bern II\n\nAdresse: Bleicheweg 11\, 3550 Langnau\n
LOCATION:Bleicheweg 11\, 3550 Langnau
CATEGORIES:Saison 2020/21
END:VEVENT
BEGIN:VEVENT
DTSTAMP:20260421T202725Z
DTSTART;TZID=Europe/Berlin:20210306T140000
DTEND;TZID=Europe/Berlin:20210306T170000
SUMMARY:HE 3. Liga Gr. 2 Langnau vs Thun IV (24)
UID:f024c63c-a870-4098-9e51-524b86c70167
STATUS:CONFIRMED
DESCRIPTION:3. Liga Herren Gruppe 2\nBegegnungs-Nr: 24\nHeim: Langnau\nGast: Thun IV\n\nAdresse: Bleicheweg 11\, 3550 Langnau\n
LOCATION:Bleicheweg 11\, 3550 Langnau
CATEGORIES:Saison 2020/21
END:VEVENT
BEGIN:VEVENT
DTSTAMP:20260421T202725Z
DTSTART;TZID=Europe/Berlin:20210220T140000
DTEND;TZID=Europe/Berlin:20210220T170000
SUMMARY:HE 3. Liga Gr. 2 Langnau vs Wichtrach (25)
UID:c7c6ab58-5e81-4408-be7a-6689f5ae4c6d
STATUS:CONFIRMED
LAST-MODIFIED:20200814T073721Z
DESCRIPTION:3. Liga Herren Gruppe 2\nBegegnungs-Nr: 25\nHeim: Langnau\nGast: Wichtrach\n\nAdresse: Bleicheweg 11\, 3550 Langnau\n
LOCATION:Bleicheweg 11\, 3550 Langnau
CATEGORIES:Saison 2020/21
END:VEVENT
BEGIN:VEVENT
DTSTAMP:20260421T202725Z
DTSTART;TZID=Europe/Berlin:20210327T140000
DTEND;TZID=Europe/Berlin:20210327T170000
SUMMARY:HE 3. Liga Gr. 2 Langnau vs Regio Moossee (31)
UID:0958a67e-5d6e-440c-af5f-498a606a6a7d
STATUS:CONFIRMED
DESCRIPTION:3. Liga Herren Gruppe 2\nBegegnungs-Nr: 31\nHeim: Langnau\nGast: Regio Moossee\n\nAdresse: Bleicheweg 11\, 3550 Langnau\n
LOCATION:Bleicheweg 11\, 3550 Langnau
CATEGORIES:Saison 2020/21
END:VEVENT
BEGIN:VEVENT
DTSTAMP:20260421T202725Z
DTSTART;TZID=Europe/Berlin:20201017T140000
DTEND;TZID=Europe/Berlin:20201017T170000
SUMMARY:HE 3. Liga Gr. 2 Langnau vs Burgdorf V (16)
UID:26c25850-caff-4fef-a85d-95367c072825
STATUS:CONFIRMED
LAST-MODIFIED:20201018T225530Z
DESCRIPTION:3. Liga Herren Gruppe 2\nBegegnungs-Nr: 16\nHeim: Langnau\nGast: Burgdorf V\n\nAdresse: Bleicheweg 11\, 3550 Langnau\n
LOCATION:Bleicheweg 11\, 3550 Langnau
CATEGORIES:Saison 2020/21
END:VEVENT
BEGIN:VEVENT
DTSTAMP:20260421T202725Z
DTSTART;TZID=Europe/Berlin:20201124T200000
DTEND;TZID=Europe/Berlin:20201124T230000
SUMMARY:HE 3. Liga Gr. 2 Regio Moossee vs Langnau (31)
UID:7d405488-1fd7-40c8-886e-56fda8242397
STATUS:CONFIRMED
DESCRIPTION:3. Liga Herren Gruppe 2\nBegegnungs-Nr: 31\nHeim: Regio Moossee\nGast: Langnau\n\nAdresse: Schulhausstrasse 23-25\, 3302 Moosseedorf\n
LOCATION:Schulhausstrasse 23-25\, 3302 Moosseedorf
CATEGORIES:Saison 2020/21
END:VEVENT
BEGIN:VEVENT
DTSTAMP:20260421T202725Z
DTSTART;TZID=Europe/Berlin:20200831T194500
DTEND;TZID=Europe/Berlin:20200831T224500
SUMMARY:HE 3. Liga Gr. 2 Ittigen vs Langnau (2)
UID:d9f9f05c-2d5c-48ad-bd16-04d9c749e420
STATUS:CONFIRMED
LAST-MODIFIED:20200906T152216Z
DESCRIPTION:3. Liga Herren Gruppe 2\nBegegnungs-Nr: 2\nHeim: Ittigen\nGast: Langnau\n\nAdresse: Fischrainweg 17\, 3048 Worblaufen\n
LOCATION:Fischrainweg 17\, 3048 Worblaufen
CATEGORIES:Saison 2020/21
END:VEVENT
BEGIN:VEVENT
DTSTAMP:20260421T202725Z
DTSTART;TZID=Europe/Berlin:20200902T193000
DTEND;TZID=Europe/Berlin:20200902T223000
SUMMARY:HE 3. Liga Gr. 2 Bern II vs Langnau (11)
UID:611d64c3-ff4d-4645-93ee-4f64287be817
STATUS:CONFIRMED
LAST-MODIFIED:20200906T152233Z
DESCRIPTION:3. Liga Herren Gruppe 2\nBegegnungs-Nr: 11\nHeim: Bern II\nGast: Langnau\n\nAdresse: Papiermühlestrasse 81\, 3014 Bern\n
LOCATION:Papiermühlestrasse 81\, 3014 Bern
CATEGORIES:Saison 2020/21
END:VEVENT
BEGIN:VEVENT
DTSTAMP:20260421T202725Z
DTSTART;TZID=Europe/Berlin:20201107T130000
DTEND;TZID=Europe/Berlin:20201107T160000
SUMMARY:HE 3. Liga Gr. 2 Thun IV vs Langnau (24)
UID:2d416a94-79e7-4083-b8c6-62f709b4a310
STATUS:CONFIRMED
DESCRIPTION:3. Liga Herren Gruppe 2\nBegegnungs-Nr: 24\nHeim: Thun IV\nGast: Langnau\n\nAdresse: Hallerstrasse 28\, 3604 Thun\n
LOCATION:Hallerstrasse 28\, 3604 Thun
CATEGORIES:Saison 2020/21
END:VEVENT
BEGIN:VEVENT
DTSTAMP:20260421T202725Z
DTSTART;TZID=Europe/Berlin:20201113T200000
DTEND;TZID=Europe/Berlin:20201113T230000
SUMMARY:HE 3. Liga Gr. 2 Wichtrach vs Langnau (25)
UID:171e0200-707b-4a7f-b365-9fb85ba7ab63
STATUS:CONFIRMED
DESCRIPTION:3. Liga Herren Gruppe 2\nBegegnungs-Nr: 25\nHeim: Wichtrach\nGast: Langnau\n\nAdresse: Hängertstrasse 4\, 3114 Wichtrach\n
LOCATION:Hängertstrasse 4\, 3114 Wichtrach
CATEGORIES:Saison 2020/21
END:VEVENT
BEGIN:VEVENT
DTSTAMP:20260421T202725Z
DTSTART;TZID=Europe/Berlin:20210115T194500
DTEND;TZID=Europe/Berlin:20210115T224500
SUMMARY:HE 3. Liga Gr. 2 Aarberg V vs Langnau (6)
UID:5e652bef-1ca4-4dc2-adf0-ebad07c3997f
STATUS:CONFIRMED
LAST-MODIFIED:20200811T103455Z
DESCRIPTION:3. Liga Herren Gruppe 2\nBegegnungs-Nr: 6\nHeim: Aarberg V\nGast: Langnau\n\nAdresse: Nidaustrasse 7\, 3270 Aarberg\n
LOCATION:Nidaustrasse 7\, 3270 Aarberg
CATEGORIES:Saison 2020/21
END:VEVENT
BEGIN:VEVENT
DTSTAMP:20260421T202725Z
DTSTART;TZID=Europe/Berlin:20210213T133000
DTEND;TZID=Europe/Berlin:20210213T163000
SUMMARY:HE 3. Liga Gr. 2 Burgdorf V vs Langnau (16)
UID:9ded1c23-3bdd-4b55-bb55-076ba8c6c530
STATUS:CONFIRMED
LAST-MODIFIED:20200718T104212Z
DESCRIPTION:3. Liga Herren Gruppe 2\nBegegnungs-Nr: 16\nHeim: Burgdorf V\nGast: Langnau\n\nAdresse: Pestalozzistrasse 69\, 3400 Burgdorf\n
LOCATION:Pestalozzistrasse 69\, 3400 Burgdorf
CATEGORIES:Saison 2020/21
END:VEVENT
BEGIN:VEVENT
DTSTAMP:20260421T202725Z
DTSTART;TZID=Europe/Berlin:20210407T193000
DTEND;TZID=Europe/Berlin:20210407T223000
SUMMARY:HE 3. Liga Gr. 2 Ostermundigen IV vs Langnau (35)
UID:cde8ccef-f1fd-47ce-b757-eccc65f52717
STATUS:CONFIRMED
DESCRIPTION:3. Liga Herren Gruppe 2\nBegegnungs-Nr: 35\nHeim: Ostermundigen IV\nGast: Langnau\n\nAdresse: Dennigkofenweg 169\, 3072 Ostermundigen\n
LOCATION:Dennigkofenweg 169\, 3072 Ostermundigen
CATEGORIES:Saison 2020/21
END:VEVENT
END:VCALENDAR
