BEGIN:VCALENDAR
PRODID:-//nuDatenautomaten//framework iCal4j //DE
VERSION:2.0
CALSCALE:GREGORIAN
BEGIN:VTIMEZONE
TZID:Europe/Berlin
LAST-MODIFIED:20260306T231828Z
TZURL:https://www.tzurl.org/zoneinfo/Europe/Berlin
X-LIC-LOCATION:Europe/Berlin
X-PROLEPTIC-TZNAME:LMT
BEGIN:STANDARD
TZNAME:CET
TZOFFSETFROM:+005328
TZOFFSETTO:+0100
DTSTART:18930401T000000
END:STANDARD
BEGIN:DAYLIGHT
TZNAME:CEST
TZOFFSETFROM:+0100
TZOFFSETTO:+0200
DTSTART:19160430T230000
RDATE:19400401T020000
RDATE:19430329T020000
RDATE:19460414T020000
RDATE:19470406T030000
RDATE:19480418T020000
RDATE:19490410T020000
RDATE:19800406T020000
END:DAYLIGHT
BEGIN:STANDARD
TZNAME:CET
TZOFFSETFROM:+0200
TZOFFSETTO:+0100
DTSTART:19161001T010000
RDATE:19421102T030000
RDATE:19431004T030000
RDATE:19441002T030000
RDATE:19451118T030000
RDATE:19461007T030000
END:STANDARD
BEGIN:DAYLIGHT
TZNAME:CEST
TZOFFSETFROM:+0100
TZOFFSETTO:+0200
DTSTART:19170416T020000
RRULE:FREQ=YEARLY;UNTIL=19180415T010000Z;BYMONTH=4;BYDAY=3MO
END:DAYLIGHT
BEGIN:STANDARD
TZNAME:CET
TZOFFSETFROM:+0200
TZOFFSETTO:+0100
DTSTART:19170917T030000
RRULE:FREQ=YEARLY;UNTIL=19180916T010000Z;BYMONTH=9;BYDAY=3MO
END:STANDARD
BEGIN:DAYLIGHT
TZNAME:CEST
TZOFFSETFROM:+0100
TZOFFSETTO:+0200
DTSTART:19440403T020000
RRULE:FREQ=YEARLY;UNTIL=19450402T010000Z;BYMONTH=4;BYDAY=1MO
END:DAYLIGHT
BEGIN:DAYLIGHT
TZNAME:CEMT
TZOFFSETFROM:+0200
TZOFFSETTO:+0300
DTSTART:19450524T020000
RDATE:19470511T030000
END:DAYLIGHT
BEGIN:DAYLIGHT
TZNAME:CEST
TZOFFSETFROM:+0300
TZOFFSETTO:+0200
DTSTART:19450924T030000
RDATE:19470629T030000
END:DAYLIGHT
BEGIN:STANDARD
TZNAME:CET
TZOFFSETFROM:+0100
TZOFFSETTO:+0100
DTSTART:19460101T000000
RDATE:19800101T000000
END:STANDARD
BEGIN:STANDARD
TZNAME:CET
TZOFFSETFROM:+0200
TZOFFSETTO:+0100
DTSTART:19471005T030000
RRULE:FREQ=YEARLY;UNTIL=19491002T010000Z;BYMONTH=10;BYDAY=1SU
END:STANDARD
BEGIN:STANDARD
TZNAME:CET
TZOFFSETFROM:+0200
TZOFFSETTO:+0100
DTSTART:19800928T030000
RRULE:FREQ=YEARLY;UNTIL=19950924T010000Z;BYMONTH=9;BYDAY=-1SU
END:STANDARD
BEGIN:DAYLIGHT
TZNAME:CEST
TZOFFSETFROM:+0100
TZOFFSETTO:+0200
DTSTART:19810329T020000
RRULE:FREQ=YEARLY;BYMONTH=3;BYDAY=-1SU
END:DAYLIGHT
BEGIN:STANDARD
TZNAME:CET
TZOFFSETFROM:+0200
TZOFFSETTO:+0100
DTSTART:19961027T030000
RRULE:FREQ=YEARLY;BYMONTH=10;BYDAY=-1SU
END:STANDARD
END:VTIMEZONE
BEGIN:VEVENT
DTSTAMP:20260421T201042Z
DTSTART;TZID=Europe/Berlin:20200916T200000
DTEND;TZID=Europe/Berlin:20200916T230000
SUMMARY:O40 2. Liga Langenthal vs Köniz (8)
UID:cc0b1f9f-956c-43d1-a655-af4df1dad988
STATUS:CONFIRMED
LAST-MODIFIED:20200921T070146Z
DESCRIPTION:2. Liga O40 Gruppe 1\nBegegnungs-Nr: 8\nHeim: Langenthal\nGast: Köniz\n\nAdresse: Weststrasse 29\, 4900 Langenthal\n
LOCATION:Weststrasse 29\, 4900 Langenthal
CATEGORIES:Saison 2020/21
END:VEVENT
BEGIN:VEVENT
DTSTAMP:20260421T201042Z
DTSTART;TZID=Europe/Berlin:20201021T200000
DTEND;TZID=Europe/Berlin:20201021T230000
SUMMARY:O40 2. Liga Langenthal vs Ostermundigen II (14)
UID:51c9b15f-ba7a-4215-9900-13bfa265725c
STATUS:CONFIRMED
LAST-MODIFIED:20201111T183700Z
DESCRIPTION:2. Liga O40 Gruppe 1\nBegegnungs-Nr: 14\nHeim: Langenthal\nGast: Ostermundigen II\n\nAdresse: Weststrasse 29\, 4900 Langenthal\n
LOCATION:Weststrasse 29\, 4900 Langenthal
CATEGORIES:Saison 2020/21
END:VEVENT
BEGIN:VEVENT
DTSTAMP:20260421T201042Z
DTSTART;TZID=Europe/Berlin:20201109T200000
DTEND;TZID=Europe/Berlin:20201109T230000
SUMMARY:O40 2. Liga Langenthal vs Belp (20)
UID:e1202ec2-2871-4afa-ae0f-a5e0b2be70f8
STATUS:CONFIRMED
DESCRIPTION:2. Liga O40 Gruppe 1\nBegegnungs-Nr: 20\nHeim: Langenthal\nGast: Belp\n\nAdresse: Weststrasse 29\, 4900 Langenthal\n
LOCATION:Weststrasse 29\, 4900 Langenthal
CATEGORIES:Saison 2020/21
END:VEVENT
BEGIN:VEVENT
DTSTAMP:20260421T201042Z
DTSTART;TZID=Europe/Berlin:20210111T200000
DTEND;TZID=Europe/Berlin:20210111T230000
SUMMARY:O40 2. Liga Langenthal vs Ittigen (3)
UID:bb1c0722-5995-4bdb-8d14-fd4a5dac0e7a
STATUS:CONFIRMED
LAST-MODIFIED:20200805T101928Z
DESCRIPTION:2. Liga O40 Gruppe 1\nBegegnungs-Nr: 3\nHeim: Langenthal\nGast: Ittigen\n\nAdresse: Weststrasse 29\, 4900 Langenthal\n
LOCATION:Weststrasse 29\, 4900 Langenthal
CATEGORIES:Saison 2020/21
END:VEVENT
BEGIN:VEVENT
DTSTAMP:20260421T201042Z
DTSTART;TZID=Europe/Berlin:20210208T200000
DTEND;TZID=Europe/Berlin:20210208T230000
SUMMARY:O40 2. Liga Langenthal vs Worb (9)
UID:a8ca88ef-2af4-43c7-84fa-a019ebda5e8c
STATUS:CONFIRMED
LAST-MODIFIED:20200803T092138Z
DESCRIPTION:2. Liga O40 Gruppe 1\nBegegnungs-Nr: 9\nHeim: Langenthal\nGast: Worb\n\nAdresse: Weststrasse 29\, 4900 Langenthal\n
LOCATION:Weststrasse 29\, 4900 Langenthal
CATEGORIES:Saison 2020/21
END:VEVENT
BEGIN:VEVENT
DTSTAMP:20260421T201042Z
DTSTART;TZID=Europe/Berlin:20210322T200000
DTEND;TZID=Europe/Berlin:20210322T230000
SUMMARY:O40 2. Liga Langenthal vs Wynigen (24)
UID:3f081abd-bdda-48cc-9e38-39a3485f5b7d
STATUS:CONFIRMED
DESCRIPTION:2. Liga O40 Gruppe 1\nBegegnungs-Nr: 24\nHeim: Langenthal\nGast: Wynigen\n\nAdresse: Weststrasse 29\, 4900 Langenthal\n
LOCATION:Weststrasse 29\, 4900 Langenthal
CATEGORIES:Saison 2020/21
END:VEVENT
BEGIN:VEVENT
DTSTAMP:20260421T201042Z
DTSTART;TZID=Europe/Berlin:20210331T200000
DTEND;TZID=Europe/Berlin:20210331T230000
SUMMARY:O40 2. Liga Langenthal vs Langnau (27)
UID:215d8ac9-501d-46e5-b789-249896305621
STATUS:CONFIRMED
DESCRIPTION:2. Liga O40 Gruppe 1\nBegegnungs-Nr: 27\nHeim: Langenthal\nGast: Langnau\n\nAdresse: Weststrasse 29\, 4900 Langenthal\n
LOCATION:Weststrasse 29\, 4900 Langenthal
CATEGORIES:Saison 2020/21
END:VEVENT
BEGIN:VEVENT
DTSTAMP:20260421T201042Z
DTSTART;TZID=Europe/Berlin:20200817T194500
DTEND;TZID=Europe/Berlin:20200817T224500
SUMMARY:O40 2. Liga Ittigen vs Langenthal (3)
UID:5b76e217-3da1-439d-a18e-6bfcbe3f2ba7
STATUS:CONFIRMED
LAST-MODIFIED:20200823T113310Z
DESCRIPTION:2. Liga O40 Gruppe 1\nBegegnungs-Nr: 3\nHeim: Ittigen\nGast: Langenthal\n\nAdresse: Fischrainweg 17\, 3048 Worblaufen\n
LOCATION:Fischrainweg 17\, 3048 Worblaufen
CATEGORIES:Saison 2020/21
END:VEVENT
BEGIN:VEVENT
DTSTAMP:20260421T201042Z
DTSTART;TZID=Europe/Berlin:20201212T140000
DTEND;TZID=Europe/Berlin:20201212T170000
SUMMARY:O40 2. Liga Langnau vs Langenthal (27)
UID:2efbb11b-ab4a-4a77-aeb3-46153540095e
STATUS:CONFIRMED
DESCRIPTION:2. Liga O40 Gruppe 1\nBegegnungs-Nr: 27\nHeim: Langnau\nGast: Langenthal\n\nAdresse: Bleicheweg 11\, 3550 Langnau\n
LOCATION:Bleicheweg 11\, 3550 Langnau
CATEGORIES:Saison 2020/21
END:VEVENT
BEGIN:VEVENT
DTSTAMP:20260421T201042Z
DTSTART;TZID=Europe/Berlin:20201116T201500
DTEND;TZID=Europe/Berlin:20201116T231500
SUMMARY:O40 2. Liga Wynigen vs Langenthal (24)
UID:bd235495-bdd8-4d02-a004-b6372af3cd62
STATUS:CONFIRMED
DESCRIPTION:2. Liga O40 Gruppe 1\nBegegnungs-Nr: 24\nHeim: Wynigen\nGast: Langenthal\n\nAdresse: -\, 3472 Wynigen\n
LOCATION:-\, 3472 Wynigen
CATEGORIES:Saison 2020/21
END:VEVENT
BEGIN:VEVENT
DTSTAMP:20260421T201042Z
DTSTART;TZID=Europe/Berlin:20210125T200000
DTEND;TZID=Europe/Berlin:20210125T230000
SUMMARY:O40 2. Liga Köniz vs Langenthal (8)
UID:ff2bb09d-73be-4864-bb37-e789965b5731
STATUS:CONFIRMED
DESCRIPTION:2. Liga O40 Gruppe 1\nBegegnungs-Nr: 8\nHeim: Köniz\nGast: Langenthal\n\nAdresse: Kirchstrasse 72-76\, 3084 Wabern\n
LOCATION:Kirchstrasse 72-76\, 3084 Wabern
CATEGORIES:Saison 2020/21
END:VEVENT
BEGIN:VEVENT
DTSTAMP:20260421T201042Z
DTSTART;TZID=Europe/Berlin:20210226T193000
DTEND;TZID=Europe/Berlin:20210226T223000
SUMMARY:O40 2. Liga Ostermundigen II vs Langenthal (14)
UID:2a540a27-c32d-4199-a26c-40dd83dbc2bb
STATUS:CONFIRMED
DESCRIPTION:2. Liga O40 Gruppe 1\nBegegnungs-Nr: 14\nHeim: Ostermundigen II\nGast: Langenthal\n\nAdresse: Dennigkofenweg 169\, 3072 Ostermundigen\n
LOCATION:Dennigkofenweg 169\, 3072 Ostermundigen
CATEGORIES:Saison 2020/21
END:VEVENT
BEGIN:VEVENT
DTSTAMP:20260421T201042Z
DTSTART;TZID=Europe/Berlin:20210305T193000
DTEND;TZID=Europe/Berlin:20210305T223000
SUMMARY:O40 2. Liga Belp vs Langenthal (20)
UID:62f8ab38-2e3e-4df5-b83c-dd538a5f5765
STATUS:CONFIRMED
DESCRIPTION:2. Liga O40 Gruppe 1\nBegegnungs-Nr: 20\nHeim: Belp\nGast: Langenthal\n\nAdresse: Neumattstrasse 39\, 3123 Belp\n
LOCATION:Neumattstrasse 39\, 3123 Belp
CATEGORIES:Saison 2020/21
END:VEVENT
BEGIN:VEVENT
DTSTAMP:20260421T201042Z
DTSTART;TZID=Europe/Berlin:20201023T200000
DTEND;TZID=Europe/Berlin:20201023T230000
SUMMARY:O40 2. Liga Worb vs Langenthal (9)
UID:8d17d68d-4a52-4130-ae23-3d2ad8140cbe
STATUS:CONFIRMED
LAST-MODIFIED:20201025T072850Z
DESCRIPTION:2. Liga O40 Gruppe 1\nBegegnungs-Nr: 9\nHeim: Worb\nGast: Langenthal\n\nAdresse: Rosenweg 9\, 3075 Rüfenacht BE\n
LOCATION:Rosenweg 9\, 3075 Rüfenacht BE
CATEGORIES:Saison 2020/21
END:VEVENT
END:VCALENDAR
