BEGIN:VCALENDAR
PRODID:-//nuDatenautomaten//framework iCal4j //DE
VERSION:2.0
CALSCALE:GREGORIAN
BEGIN:VTIMEZONE
TZID:Europe/Berlin
LAST-MODIFIED:20260306T231828Z
TZURL:https://www.tzurl.org/zoneinfo/Europe/Berlin
X-LIC-LOCATION:Europe/Berlin
X-PROLEPTIC-TZNAME:LMT
BEGIN:STANDARD
TZNAME:CET
TZOFFSETFROM:+005328
TZOFFSETTO:+0100
DTSTART:18930401T000000
END:STANDARD
BEGIN:DAYLIGHT
TZNAME:CEST
TZOFFSETFROM:+0100
TZOFFSETTO:+0200
DTSTART:19160430T230000
RDATE:19400401T020000
RDATE:19430329T020000
RDATE:19460414T020000
RDATE:19470406T030000
RDATE:19480418T020000
RDATE:19490410T020000
RDATE:19800406T020000
END:DAYLIGHT
BEGIN:STANDARD
TZNAME:CET
TZOFFSETFROM:+0200
TZOFFSETTO:+0100
DTSTART:19161001T010000
RDATE:19421102T030000
RDATE:19431004T030000
RDATE:19441002T030000
RDATE:19451118T030000
RDATE:19461007T030000
END:STANDARD
BEGIN:DAYLIGHT
TZNAME:CEST
TZOFFSETFROM:+0100
TZOFFSETTO:+0200
DTSTART:19170416T020000
RRULE:FREQ=YEARLY;UNTIL=19180415T010000Z;BYMONTH=4;BYDAY=3MO
END:DAYLIGHT
BEGIN:STANDARD
TZNAME:CET
TZOFFSETFROM:+0200
TZOFFSETTO:+0100
DTSTART:19170917T030000
RRULE:FREQ=YEARLY;UNTIL=19180916T010000Z;BYMONTH=9;BYDAY=3MO
END:STANDARD
BEGIN:DAYLIGHT
TZNAME:CEST
TZOFFSETFROM:+0100
TZOFFSETTO:+0200
DTSTART:19440403T020000
RRULE:FREQ=YEARLY;UNTIL=19450402T010000Z;BYMONTH=4;BYDAY=1MO
END:DAYLIGHT
BEGIN:DAYLIGHT
TZNAME:CEMT
TZOFFSETFROM:+0200
TZOFFSETTO:+0300
DTSTART:19450524T020000
RDATE:19470511T030000
END:DAYLIGHT
BEGIN:DAYLIGHT
TZNAME:CEST
TZOFFSETFROM:+0300
TZOFFSETTO:+0200
DTSTART:19450924T030000
RDATE:19470629T030000
END:DAYLIGHT
BEGIN:STANDARD
TZNAME:CET
TZOFFSETFROM:+0100
TZOFFSETTO:+0100
DTSTART:19460101T000000
RDATE:19800101T000000
END:STANDARD
BEGIN:STANDARD
TZNAME:CET
TZOFFSETFROM:+0200
TZOFFSETTO:+0100
DTSTART:19471005T030000
RRULE:FREQ=YEARLY;UNTIL=19491002T010000Z;BYMONTH=10;BYDAY=1SU
END:STANDARD
BEGIN:STANDARD
TZNAME:CET
TZOFFSETFROM:+0200
TZOFFSETTO:+0100
DTSTART:19800928T030000
RRULE:FREQ=YEARLY;UNTIL=19950924T010000Z;BYMONTH=9;BYDAY=-1SU
END:STANDARD
BEGIN:DAYLIGHT
TZNAME:CEST
TZOFFSETFROM:+0100
TZOFFSETTO:+0200
DTSTART:19810329T020000
RRULE:FREQ=YEARLY;BYMONTH=3;BYDAY=-1SU
END:DAYLIGHT
BEGIN:STANDARD
TZNAME:CET
TZOFFSETFROM:+0200
TZOFFSETTO:+0100
DTSTART:19961027T030000
RRULE:FREQ=YEARLY;BYMONTH=10;BYDAY=-1SU
END:STANDARD
END:VTIMEZONE
BEGIN:VEVENT
DTSTAMP:20260421T202826Z
DTSTART;TZID=Europe/Berlin:20201211T200000
DTEND;TZID=Europe/Berlin:20201211T230000
SUMMARY:HE 3. Liga Gr. 2 Wichtrach vs Ittigen (33)
UID:708848e2-d636-4af1-b687-6ce355b0f5a4
STATUS:CONFIRMED
DESCRIPTION:3. Liga Herren Gruppe 2\nBegegnungs-Nr: 33\nHeim: Wichtrach\nGast: Ittigen\n\nAdresse: Hängertstrasse 4\, 3114 Wichtrach\n
LOCATION:Hängertstrasse 4\, 3114 Wichtrach
CATEGORIES:Saison 2020/21
END:VEVENT
BEGIN:VEVENT
DTSTAMP:20260421T202826Z
DTSTART;TZID=Europe/Berlin:20201030T200000
DTEND;TZID=Europe/Berlin:20201030T230000
SUMMARY:HE 3. Liga Gr. 2 Wichtrach vs Bern II (17)
UID:b59ba235-e89f-4ab2-a716-6decbaf9bbba
STATUS:CONFIRMED
DESCRIPTION:3. Liga Herren Gruppe 2\nBegegnungs-Nr: 17\nHeim: Wichtrach\nGast: Bern II\n\nAdresse: Hängertstrasse 4\, 3114 Wichtrach\n
LOCATION:Hängertstrasse 4\, 3114 Wichtrach
CATEGORIES:Saison 2020/21
END:VEVENT
BEGIN:VEVENT
DTSTAMP:20260421T202826Z
DTSTART;TZID=Europe/Berlin:20201113T200000
DTEND;TZID=Europe/Berlin:20201113T230000
SUMMARY:HE 3. Liga Gr. 2 Wichtrach vs Langnau (25)
UID:171e0200-707b-4a7f-b365-9fb85ba7ab63
STATUS:CONFIRMED
DESCRIPTION:3. Liga Herren Gruppe 2\nBegegnungs-Nr: 25\nHeim: Wichtrach\nGast: Langnau\n\nAdresse: Hängertstrasse 4\, 3114 Wichtrach\n
LOCATION:Hängertstrasse 4\, 3114 Wichtrach
CATEGORIES:Saison 2020/21
END:VEVENT
BEGIN:VEVENT
DTSTAMP:20260421T202826Z
DTSTART;TZID=Europe/Berlin:20201218T200000
DTEND;TZID=Europe/Berlin:20201218T230000
SUMMARY:HE 3. Liga Gr. 2 Wichtrach vs Thun IV (1)
UID:1f356486-1bcd-4047-8086-9ab8a6b353a6
STATUS:CONFIRMED
LAST-MODIFIED:20200714T164826Z
DESCRIPTION:3. Liga Herren Gruppe 2\nBegegnungs-Nr: 1\nHeim: Wichtrach\nGast: Thun IV\n\nAdresse: Hängertstrasse 4\, 3114 Wichtrach\n
LOCATION:Hängertstrasse 4\, 3114 Wichtrach
CATEGORIES:Saison 2020/21
END:VEVENT
BEGIN:VEVENT
DTSTAMP:20260421T202826Z
DTSTART;TZID=Europe/Berlin:20210129T200000
DTEND;TZID=Europe/Berlin:20210129T230000
SUMMARY:HE 3. Liga Gr. 2 Wichtrach vs Regio Moossee (9)
UID:b5f1f022-12a3-484b-84cb-91714ad3a0a2
STATUS:CONFIRMED
LAST-MODIFIED:20200714T165532Z
DESCRIPTION:3. Liga Herren Gruppe 2\nBegegnungs-Nr: 9\nHeim: Wichtrach\nGast: Regio Moossee\n\nAdresse: Hängertstrasse 4\, 3114 Wichtrach\n
LOCATION:Hängertstrasse 4\, 3114 Wichtrach
CATEGORIES:Saison 2020/21
END:VEVENT
BEGIN:VEVENT
DTSTAMP:20260421T202826Z
DTSTART;TZID=Europe/Berlin:20210212T200000
DTEND;TZID=Europe/Berlin:20210212T230000
SUMMARY:HE 3. Liga Gr. 2 Wichtrach vs Ostermundigen IV (13)
UID:649dafe1-2aed-4c50-a9ab-81afbe95f865
STATUS:CONFIRMED
LAST-MODIFIED:20200911T130553Z
DESCRIPTION:3. Liga Herren Gruppe 2\nBegegnungs-Nr: 13\nHeim: Wichtrach\nGast: Ostermundigen IV\n\nAdresse: Hängertstrasse 4\, 3114 Wichtrach\n
LOCATION:Hängertstrasse 4\, 3114 Wichtrach
CATEGORIES:Saison 2020/21
END:VEVENT
BEGIN:VEVENT
DTSTAMP:20260421T202826Z
DTSTART;TZID=Europe/Berlin:20210305T200000
DTEND;TZID=Europe/Berlin:20210305T230000
SUMMARY:HE 3. Liga Gr. 2 Wichtrach vs Burgdorf V (21)
UID:29976cd5-d2ea-4597-8d53-86944fdb5263
STATUS:CONFIRMED
DESCRIPTION:3. Liga Herren Gruppe 2\nBegegnungs-Nr: 21\nHeim: Wichtrach\nGast: Burgdorf V\n\nAdresse: Hängertstrasse 4\, 3114 Wichtrach\n
LOCATION:Hängertstrasse 4\, 3114 Wichtrach
CATEGORIES:Saison 2020/21
END:VEVENT
BEGIN:VEVENT
DTSTAMP:20260421T202826Z
DTSTART;TZID=Europe/Berlin:20210326T200000
DTEND;TZID=Europe/Berlin:20210326T230000
SUMMARY:HE 3. Liga Gr. 2 Wichtrach vs Aarberg V (29)
UID:23ac0e14-7de2-41be-be70-98bf6e549c76
STATUS:CONFIRMED
DESCRIPTION:3. Liga Herren Gruppe 2\nBegegnungs-Nr: 29\nHeim: Wichtrach\nGast: Aarberg V\n\nAdresse: Hängertstrasse 4\, 3114 Wichtrach\n
LOCATION:Hängertstrasse 4\, 3114 Wichtrach
CATEGORIES:Saison 2020/21
END:VEVENT
BEGIN:VEVENT
DTSTAMP:20260421T202826Z
DTSTART;TZID=Europe/Berlin:20201127T194500
DTEND;TZID=Europe/Berlin:20201127T224500
SUMMARY:HE 3. Liga Gr. 2 Aarberg V vs Wichtrach (29)
UID:deb9c249-6b75-4520-8642-56f81082635b
STATUS:CONFIRMED
DESCRIPTION:3. Liga Herren Gruppe 2\nBegegnungs-Nr: 29\nHeim: Aarberg V\nGast: Wichtrach\n\nAdresse: Nidaustrasse 7\, 3270 Aarberg\n
LOCATION:Nidaustrasse 7\, 3270 Aarberg
CATEGORIES:Saison 2020/21
END:VEVENT
BEGIN:VEVENT
DTSTAMP:20260421T202826Z
DTSTART;TZID=Europe/Berlin:20201028T193000
DTEND;TZID=Europe/Berlin:20201028T223000
SUMMARY:HE 3. Liga Gr. 2 Ostermundigen IV vs Wichtrach (13)
UID:1559dcc4-6915-4b13-9256-774d28529bc1
STATUS:CONFIRMED
LAST-MODIFIED:20200911T130553Z
DESCRIPTION:3. Liga Herren Gruppe 2\nBegegnungs-Nr: 13\nHeim: Ostermundigen IV\nGast: Wichtrach\n\nAdresse: Dennigkofenweg 169\, 3072 Ostermundigen\n
LOCATION:Dennigkofenweg 169\, 3072 Ostermundigen
CATEGORIES:Saison 2020/21
END:VEVENT
BEGIN:VEVENT
DTSTAMP:20260421T202826Z
DTSTART;TZID=Europe/Berlin:20201106T193000
DTEND;TZID=Europe/Berlin:20201106T223000
SUMMARY:HE 3. Liga Gr. 2 Burgdorf V vs Wichtrach (21)
UID:d769a0da-1d3b-42b2-8bec-6f81bd7c4537
STATUS:CONFIRMED
LAST-MODIFIED:20200717T211838Z
DESCRIPTION:3. Liga Herren Gruppe 2\nBegegnungs-Nr: 21\nHeim: Burgdorf V\nGast: Wichtrach\n\nAdresse: Pestalozzistrasse 69\, 3400 Burgdorf\n
LOCATION:Pestalozzistrasse 69\, 3400 Burgdorf
CATEGORIES:Saison 2020/21
END:VEVENT
BEGIN:VEVENT
DTSTAMP:20260421T202826Z
DTSTART;TZID=Europe/Berlin:20210226T193000
DTEND;TZID=Europe/Berlin:20210226T223000
SUMMARY:HE 3. Liga Gr. 2 Bern II vs Wichtrach (17)
UID:663e1b68-4adc-4ce6-a987-fb084df9d6e1
STATUS:CONFIRMED
DESCRIPTION:3. Liga Herren Gruppe 2\nBegegnungs-Nr: 17\nHeim: Bern II\nGast: Wichtrach\n\nAdresse: Papiermühlestrasse 81\, 3014 Bern\n
LOCATION:Papiermühlestrasse 81\, 3014 Bern
CATEGORIES:Saison 2020/21
END:VEVENT
BEGIN:VEVENT
DTSTAMP:20260421T202826Z
DTSTART;TZID=Europe/Berlin:20210220T140000
DTEND;TZID=Europe/Berlin:20210220T170000
SUMMARY:HE 3. Liga Gr. 2 Langnau vs Wichtrach (25)
UID:c7c6ab58-5e81-4408-be7a-6689f5ae4c6d
STATUS:CONFIRMED
LAST-MODIFIED:20200814T073721Z
DESCRIPTION:3. Liga Herren Gruppe 2\nBegegnungs-Nr: 25\nHeim: Langnau\nGast: Wichtrach\n\nAdresse: Bleicheweg 11\, 3550 Langnau\n
LOCATION:Bleicheweg 11\, 3550 Langnau
CATEGORIES:Saison 2020/21
END:VEVENT
BEGIN:VEVENT
DTSTAMP:20260421T202826Z
DTSTART;TZID=Europe/Berlin:20210322T194500
DTEND;TZID=Europe/Berlin:20210322T224500
SUMMARY:HE 3. Liga Gr. 2 Ittigen vs Wichtrach (33)
UID:ee330fa6-b1c2-47cd-8886-d1b986d74a66
STATUS:CONFIRMED
LAST-MODIFIED:20200814T073456Z
DESCRIPTION:3. Liga Herren Gruppe 2\nBegegnungs-Nr: 33\nHeim: Ittigen\nGast: Wichtrach\n\nAdresse: Fischrainweg 17\, 3048 Worblaufen\n
LOCATION:Fischrainweg 17\, 3048 Worblaufen
CATEGORIES:Saison 2020/21
END:VEVENT
BEGIN:VEVENT
DTSTAMP:20260421T202826Z
DTSTART;TZID=Europe/Berlin:20200822T130000
DTEND;TZID=Europe/Berlin:20200822T160000
SUMMARY:HE 3. Liga Gr. 2 Thun IV vs Wichtrach (1)
UID:5b68ce39-38ad-4a34-873b-6cc067bdb975
STATUS:CONFIRMED
LAST-MODIFIED:20200824T133317Z
DESCRIPTION:3. Liga Herren Gruppe 2\nBegegnungs-Nr: 1\nHeim: Thun IV\nGast: Wichtrach\n\nAdresse: Hallerstrasse 28\, 3604 Thun\n
LOCATION:Hallerstrasse 28\, 3604 Thun
CATEGORIES:Saison 2020/21
END:VEVENT
BEGIN:VEVENT
DTSTAMP:20260421T202826Z
DTSTART;TZID=Europe/Berlin:20201013T200000
DTEND;TZID=Europe/Berlin:20201013T230000
SUMMARY:HE 3. Liga Gr. 2 Regio Moossee vs Wichtrach (9)
UID:03adf806-87ac-4a90-8a4d-0702f54a3b40
STATUS:CONFIRMED
LAST-MODIFIED:20201014T094109Z
DESCRIPTION:3. Liga Herren Gruppe 2\nBegegnungs-Nr: 9\nHeim: Regio Moossee\nGast: Wichtrach\n\nAdresse: Schulhausstrasse 23-25\, 3302 Moosseedorf\n
LOCATION:Schulhausstrasse 23-25\, 3302 Moosseedorf
CATEGORIES:Saison 2020/21
END:VEVENT
END:VCALENDAR
