BEGIN:VCALENDAR
PRODID:-//nuDatenautomaten//framework iCal4j //DE
VERSION:2.0
CALSCALE:GREGORIAN
BEGIN:VTIMEZONE
TZID:Europe/Berlin
LAST-MODIFIED:20260306T231828Z
TZURL:https://www.tzurl.org/zoneinfo/Europe/Berlin
X-LIC-LOCATION:Europe/Berlin
X-PROLEPTIC-TZNAME:LMT
BEGIN:STANDARD
TZNAME:CET
TZOFFSETFROM:+005328
TZOFFSETTO:+0100
DTSTART:18930401T000000
END:STANDARD
BEGIN:DAYLIGHT
TZNAME:CEST
TZOFFSETFROM:+0100
TZOFFSETTO:+0200
DTSTART:19160430T230000
RDATE:19400401T020000
RDATE:19430329T020000
RDATE:19460414T020000
RDATE:19470406T030000
RDATE:19480418T020000
RDATE:19490410T020000
RDATE:19800406T020000
END:DAYLIGHT
BEGIN:STANDARD
TZNAME:CET
TZOFFSETFROM:+0200
TZOFFSETTO:+0100
DTSTART:19161001T010000
RDATE:19421102T030000
RDATE:19431004T030000
RDATE:19441002T030000
RDATE:19451118T030000
RDATE:19461007T030000
END:STANDARD
BEGIN:DAYLIGHT
TZNAME:CEST
TZOFFSETFROM:+0100
TZOFFSETTO:+0200
DTSTART:19170416T020000
RRULE:FREQ=YEARLY;UNTIL=19180415T010000Z;BYMONTH=4;BYDAY=3MO
END:DAYLIGHT
BEGIN:STANDARD
TZNAME:CET
TZOFFSETFROM:+0200
TZOFFSETTO:+0100
DTSTART:19170917T030000
RRULE:FREQ=YEARLY;UNTIL=19180916T010000Z;BYMONTH=9;BYDAY=3MO
END:STANDARD
BEGIN:DAYLIGHT
TZNAME:CEST
TZOFFSETFROM:+0100
TZOFFSETTO:+0200
DTSTART:19440403T020000
RRULE:FREQ=YEARLY;UNTIL=19450402T010000Z;BYMONTH=4;BYDAY=1MO
END:DAYLIGHT
BEGIN:DAYLIGHT
TZNAME:CEMT
TZOFFSETFROM:+0200
TZOFFSETTO:+0300
DTSTART:19450524T020000
RDATE:19470511T030000
END:DAYLIGHT
BEGIN:DAYLIGHT
TZNAME:CEST
TZOFFSETFROM:+0300
TZOFFSETTO:+0200
DTSTART:19450924T030000
RDATE:19470629T030000
END:DAYLIGHT
BEGIN:STANDARD
TZNAME:CET
TZOFFSETFROM:+0100
TZOFFSETTO:+0100
DTSTART:19460101T000000
RDATE:19800101T000000
END:STANDARD
BEGIN:STANDARD
TZNAME:CET
TZOFFSETFROM:+0200
TZOFFSETTO:+0100
DTSTART:19471005T030000
RRULE:FREQ=YEARLY;UNTIL=19491002T010000Z;BYMONTH=10;BYDAY=1SU
END:STANDARD
BEGIN:STANDARD
TZNAME:CET
TZOFFSETFROM:+0200
TZOFFSETTO:+0100
DTSTART:19800928T030000
RRULE:FREQ=YEARLY;UNTIL=19950924T010000Z;BYMONTH=9;BYDAY=-1SU
END:STANDARD
BEGIN:DAYLIGHT
TZNAME:CEST
TZOFFSETFROM:+0100
TZOFFSETTO:+0200
DTSTART:19810329T020000
RRULE:FREQ=YEARLY;BYMONTH=3;BYDAY=-1SU
END:DAYLIGHT
BEGIN:STANDARD
TZNAME:CET
TZOFFSETFROM:+0200
TZOFFSETTO:+0100
DTSTART:19961027T030000
RRULE:FREQ=YEARLY;BYMONTH=10;BYDAY=-1SU
END:STANDARD
END:VTIMEZONE
BEGIN:VEVENT
DTSTAMP:20260421T202623Z
DTSTART;TZID=Europe/Berlin:20201124T200000
DTEND;TZID=Europe/Berlin:20201124T230000
SUMMARY:HE 3. Liga Gr. 2 Regio Moossee vs Langnau (31)
UID:7d405488-1fd7-40c8-886e-56fda8242397
STATUS:CONFIRMED
DESCRIPTION:3. Liga Herren Gruppe 2\nBegegnungs-Nr: 31\nHeim: Regio Moossee\nGast: Langnau\n\nAdresse: Schulhausstrasse 23-25\, 3302 Moosseedorf\n
LOCATION:Schulhausstrasse 23-25\, 3302 Moosseedorf
CATEGORIES:Saison 2020/21
END:VEVENT
BEGIN:VEVENT
DTSTAMP:20260421T202623Z
DTSTART;TZID=Europe/Berlin:20200908T200000
DTEND;TZID=Europe/Berlin:20200908T230000
SUMMARY:HE 3. Liga Gr. 2 Regio Moossee vs Burgdorf V (8)
UID:814d1120-ff71-4868-a1fd-29b350711f13
STATUS:CONFIRMED
LAST-MODIFIED:20200909T122719Z
DESCRIPTION:3. Liga Herren Gruppe 2\nBegegnungs-Nr: 8\nHeim: Regio Moossee\nGast: Burgdorf V\n\nAdresse: Schulhausstrasse 23-25\, 3302 Moosseedorf\n
LOCATION:Schulhausstrasse 23-25\, 3302 Moosseedorf
CATEGORIES:Saison 2020/21
END:VEVENT
BEGIN:VEVENT
DTSTAMP:20260421T202623Z
DTSTART;TZID=Europe/Berlin:20201006T200000
DTEND;TZID=Europe/Berlin:20201006T230000
SUMMARY:HE 3. Liga Gr. 2 Regio Moossee vs Ittigen (14)
UID:d4801763-3e80-4889-9d8c-68ecc680b138
STATUS:CONFIRMED
LAST-MODIFIED:20201008T092210Z
DESCRIPTION:3. Liga Herren Gruppe 2\nBegegnungs-Nr: 14\nHeim: Regio Moossee\nGast: Ittigen\n\nAdresse: Schulhausstrasse 23-25\, 3302 Moosseedorf\n
LOCATION:Schulhausstrasse 23-25\, 3302 Moosseedorf
CATEGORIES:Saison 2020/21
END:VEVENT
BEGIN:VEVENT
DTSTAMP:20260421T202623Z
DTSTART;TZID=Europe/Berlin:20201020T200000
DTEND;TZID=Europe/Berlin:20201020T230000
SUMMARY:HE 3. Liga Gr. 2 Regio Moossee vs Thun IV (20)
UID:6e7c1a09-9a83-4527-94e2-e301464f9500
STATUS:CONFIRMED
LAST-MODIFIED:20201023T183921Z
DESCRIPTION:3. Liga Herren Gruppe 2\nBegegnungs-Nr: 20\nHeim: Regio Moossee\nGast: Thun IV\n\nAdresse: Schulhausstrasse 23-25\, 3302 Moosseedorf\n
LOCATION:Schulhausstrasse 23-25\, 3302 Moosseedorf
CATEGORIES:Saison 2020/21
END:VEVENT
BEGIN:VEVENT
DTSTAMP:20260421T202623Z
DTSTART;TZID=Europe/Berlin:20201103T200000
DTEND;TZID=Europe/Berlin:20201103T230000
SUMMARY:HE 3. Liga Gr. 2 Regio Moossee vs Aarberg V (23)
UID:66ec05bc-3068-4039-9c4c-e375170b5cee
STATUS:CONFIRMED
DESCRIPTION:3. Liga Herren Gruppe 2\nBegegnungs-Nr: 23\nHeim: Regio Moossee\nGast: Aarberg V\n\nAdresse: Schulhausstrasse 23-25\, 3302 Moosseedorf\n
LOCATION:Schulhausstrasse 23-25\, 3302 Moosseedorf
CATEGORIES:Saison 2020/21
END:VEVENT
BEGIN:VEVENT
DTSTAMP:20260421T202623Z
DTSTART;TZID=Europe/Berlin:20201215T200000
DTEND;TZID=Europe/Berlin:20201215T230000
SUMMARY:HE 3. Liga Gr. 2 Regio Moossee vs Bern II (4)
UID:ad2a0c77-4cab-46de-872d-12f662d3c88a
STATUS:CONFIRMED
DESCRIPTION:3. Liga Herren Gruppe 2\nBegegnungs-Nr: 4\nHeim: Regio Moossee\nGast: Bern II\n\nAdresse: Schulhausstrasse 23-25\, 3302 Moosseedorf\n
LOCATION:Schulhausstrasse 23-25\, 3302 Moosseedorf
CATEGORIES:Saison 2020/21
END:VEVENT
BEGIN:VEVENT
DTSTAMP:20260421T202623Z
DTSTART;TZID=Europe/Berlin:20210316T200000
DTEND;TZID=Europe/Berlin:20210316T230000
SUMMARY:HE 3. Liga Gr. 2 Regio Moossee vs Ostermundigen IV (28)
UID:9486de52-8602-4113-9808-167d0d245f1c
STATUS:CONFIRMED
DESCRIPTION:3. Liga Herren Gruppe 2\nBegegnungs-Nr: 28\nHeim: Regio Moossee\nGast: Ostermundigen IV\n\nAdresse: Schulhausstrasse 23-25\, 3302 Moosseedorf\n
LOCATION:Schulhausstrasse 23-25\, 3302 Moosseedorf
CATEGORIES:Saison 2020/21
END:VEVENT
BEGIN:VEVENT
DTSTAMP:20260421T202623Z
DTSTART;TZID=Europe/Berlin:20201013T200000
DTEND;TZID=Europe/Berlin:20201013T230000
SUMMARY:HE 3. Liga Gr. 2 Regio Moossee vs Wichtrach (9)
UID:03adf806-87ac-4a90-8a4d-0702f54a3b40
STATUS:CONFIRMED
LAST-MODIFIED:20201014T094109Z
DESCRIPTION:3. Liga Herren Gruppe 2\nBegegnungs-Nr: 9\nHeim: Regio Moossee\nGast: Wichtrach\n\nAdresse: Schulhausstrasse 23-25\, 3302 Moosseedorf\n
LOCATION:Schulhausstrasse 23-25\, 3302 Moosseedorf
CATEGORIES:Saison 2020/21
END:VEVENT
BEGIN:VEVENT
DTSTAMP:20260421T202623Z
DTSTART;TZID=Europe/Berlin:20201118T193000
DTEND;TZID=Europe/Berlin:20201118T223000
SUMMARY:HE 3. Liga Gr. 2 Ostermundigen IV vs Regio Moossee (28)
UID:87a3c9c4-dad4-40f6-8c62-c406572a6d2f
STATUS:CONFIRMED
DESCRIPTION:3. Liga Herren Gruppe 2\nBegegnungs-Nr: 28\nHeim: Ostermundigen IV\nGast: Regio Moossee\n\nAdresse: Dennigkofenweg 169\, 3072 Ostermundigen\n
LOCATION:Dennigkofenweg 169\, 3072 Ostermundigen
CATEGORIES:Saison 2020/21
END:VEVENT
BEGIN:VEVENT
DTSTAMP:20260421T202623Z
DTSTART;TZID=Europe/Berlin:20200821T193000
DTEND;TZID=Europe/Berlin:20200821T223000
SUMMARY:HE 3. Liga Gr. 2 Bern II vs Regio Moossee (4)
UID:01f275cc-7d5d-44e1-9612-df271b5cfcf3
STATUS:CONFIRMED
LAST-MODIFIED:20200823T112924Z
DESCRIPTION:3. Liga Herren Gruppe 2\nBegegnungs-Nr: 4\nHeim: Bern II\nGast: Regio Moossee\n\nAdresse: Papiermühlestrasse 81\, 3014 Bern\n
LOCATION:Papiermühlestrasse 81\, 3014 Bern
CATEGORIES:Saison 2020/21
END:VEVENT
BEGIN:VEVENT
DTSTAMP:20260421T202623Z
DTSTART;TZID=Europe/Berlin:20210116T160000
DTEND;TZID=Europe/Berlin:20210116T190000
SUMMARY:HE 3. Liga Gr. 2 Burgdorf V vs Regio Moossee (8)
UID:a951e788-d005-4618-9e47-d8dd71e4087a
STATUS:CONFIRMED
LAST-MODIFIED:20200718T104055Z
DESCRIPTION:3. Liga Herren Gruppe 2\nBegegnungs-Nr: 8\nHeim: Burgdorf V\nGast: Regio Moossee\n\nAdresse: Pestalozzistrasse 69\, 3400 Burgdorf\n
LOCATION:Pestalozzistrasse 69\, 3400 Burgdorf
CATEGORIES:Saison 2020/21
END:VEVENT
BEGIN:VEVENT
DTSTAMP:20260421T202623Z
DTSTART;TZID=Europe/Berlin:20210129T200000
DTEND;TZID=Europe/Berlin:20210129T230000
SUMMARY:HE 3. Liga Gr. 2 Wichtrach vs Regio Moossee (9)
UID:b5f1f022-12a3-484b-84cb-91714ad3a0a2
STATUS:CONFIRMED
LAST-MODIFIED:20200714T165532Z
DESCRIPTION:3. Liga Herren Gruppe 2\nBegegnungs-Nr: 9\nHeim: Wichtrach\nGast: Regio Moossee\n\nAdresse: Hängertstrasse 4\, 3114 Wichtrach\n
LOCATION:Hängertstrasse 4\, 3114 Wichtrach
CATEGORIES:Saison 2020/21
END:VEVENT
BEGIN:VEVENT
DTSTAMP:20260421T202623Z
DTSTART;TZID=Europe/Berlin:20210215T194500
DTEND;TZID=Europe/Berlin:20210215T224500
SUMMARY:HE 3. Liga Gr. 2 Ittigen vs Regio Moossee (14)
UID:0520323b-72a8-42b8-b9d1-a901e6d7417d
STATUS:CONFIRMED
DESCRIPTION:3. Liga Herren Gruppe 2\nBegegnungs-Nr: 14\nHeim: Ittigen\nGast: Regio Moossee\n\nAdresse: Fischrainweg 17\, 3048 Worblaufen\n
LOCATION:Fischrainweg 17\, 3048 Worblaufen
CATEGORIES:Saison 2020/21
END:VEVENT
BEGIN:VEVENT
DTSTAMP:20260421T202623Z
DTSTART;TZID=Europe/Berlin:20210220T130000
DTEND;TZID=Europe/Berlin:20210220T160000
SUMMARY:HE 3. Liga Gr. 2 Thun IV vs Regio Moossee (20)
UID:c50fa313-eed9-421c-9006-6f0a21efa2fa
STATUS:CONFIRMED
DESCRIPTION:3. Liga Herren Gruppe 2\nBegegnungs-Nr: 20\nHeim: Thun IV\nGast: Regio Moossee\n\nAdresse: Hallerstrasse 28\, 3604 Thun\n
LOCATION:Hallerstrasse 28\, 3604 Thun
CATEGORIES:Saison 2020/21
END:VEVENT
BEGIN:VEVENT
DTSTAMP:20260421T202623Z
DTSTART;TZID=Europe/Berlin:20210305T194500
DTEND;TZID=Europe/Berlin:20210305T224500
SUMMARY:HE 3. Liga Gr. 2 Aarberg V vs Regio Moossee (23)
UID:30bb7802-1162-4999-85db-f129d56c00de
STATUS:CONFIRMED
DESCRIPTION:3. Liga Herren Gruppe 2\nBegegnungs-Nr: 23\nHeim: Aarberg V\nGast: Regio Moossee\n\nAdresse: Nidaustrasse 7\, 3270 Aarberg\n
LOCATION:Nidaustrasse 7\, 3270 Aarberg
CATEGORIES:Saison 2020/21
END:VEVENT
BEGIN:VEVENT
DTSTAMP:20260421T202623Z
DTSTART;TZID=Europe/Berlin:20210327T140000
DTEND;TZID=Europe/Berlin:20210327T170000
SUMMARY:HE 3. Liga Gr. 2 Langnau vs Regio Moossee (31)
UID:0958a67e-5d6e-440c-af5f-498a606a6a7d
STATUS:CONFIRMED
DESCRIPTION:3. Liga Herren Gruppe 2\nBegegnungs-Nr: 31\nHeim: Langnau\nGast: Regio Moossee\n\nAdresse: Bleicheweg 11\, 3550 Langnau\n
LOCATION:Bleicheweg 11\, 3550 Langnau
CATEGORIES:Saison 2020/21
END:VEVENT
END:VCALENDAR
